BEGIN:VCALENDAR
VERSION:2.0
PRODID:-//DFW Meditation Group of SRF - ECPv6.10.1.1//NONSGML v1.0//EN
CALSCALE:GREGORIAN
METHOD:PUBLISH
X-WR-CALNAME:DFW Meditation Group of SRF
X-ORIGINAL-URL:https://staging.srfdfw.org
X-WR-CALDESC:Events for DFW Meditation Group of SRF
REFRESH-INTERVAL;VALUE=DURATION:PT1H
X-Robots-Tag:noindex
X-PUBLISHED-TTL:PT1H
BEGIN:VTIMEZONE
TZID:America/Chicago
BEGIN:DAYLIGHT
TZOFFSETFROM:-0600
TZOFFSETTO:-0500
TZNAME:CDT
DTSTART:20280312T080000
END:DAYLIGHT
BEGIN:STANDARD
TZOFFSETFROM:-0500
TZOFFSETTO:-0600
TZNAME:CST
DTSTART:20281105T070000
END:STANDARD
END:VTIMEZONE
BEGIN:VEVENT
DTSTART;TZID=America/Chicago:20280604T110000
DTEND;TZID=America/Chicago:20280604T120000
DTSTAMP:20260423T062921
CREATED:20221207T164922Z
LAST-MODIFIED:20240305T044557Z
UID:10001835-1843729200-1843732800@staging.srfdfw.org
SUMMARY:Sunday School
DESCRIPTION:
URL:https://staging.srfdfw.org/calendar/sunday-school-1100-am/2028-06-04/
LOCATION:2011 North Britain Road\, Irving\, TX\, 2011 N. Britain Rd.\, Irving\, TX\, 76051\, United States
ATTACH;FMTTYPE=image/png:https://staging.srfdfw.org/wp-content/uploads/2022/12/child-meditating.png
ORGANIZER;CN="DFW-SRF Meditation Group":MAILTO:connect@srfdallasfortworth.org
END:VEVENT
BEGIN:VEVENT
DTSTART;TZID=America/Chicago:20280604T110000
DTEND;TZID=America/Chicago:20280604T120000
DTSTAMP:20260423T062921
CREATED:20240304T233900Z
LAST-MODIFIED:20240305T061330Z
UID:10001574-1843729200-1843732800@staging.srfdfw.org
SUMMARY:Readings Service
DESCRIPTION:
URL:https://staging.srfdfw.org/calendar/readings-service/2028-06-04/
LOCATION:DFW Meditation Group\, 2011 N. Britain Rd.\, Irving\, TX\, 76051\, United States
ATTACH;FMTTYPE=image/png:https://staging.srfdfw.org/wp-content/uploads/2024/03/clouds.png
GEO:32.8347664;-96.9448622
X-APPLE-STRUCTURED-LOCATION;VALUE=URI;X-ADDRESS=DFW Meditation Group 2011 N. Britain Rd. Irving TX 76051 United States;X-APPLE-RADIUS=500;X-TITLE=2011 N. Britain Rd.:geo:-96.9448622,32.8347664
END:VEVENT
BEGIN:VEVENT
DTSTART;TZID=America/Chicago:20280607T190000
DTEND;TZID=America/Chicago:20280607T203000
DTSTAMP:20260423T062921
CREATED:20220910T223756Z
LAST-MODIFIED:20240327T212545Z
UID:10000697-1844017200-1844022600@staging.srfdfw.org
SUMMARY:Wednesday Online Meditation
DESCRIPTION:7 pm – 7.15 pm Energization Exercises \n7.20 pm -8.30 Group Meditation with Inspirational-reading\, Chants\, Meditation and Healing Service . \nLink to Join Zoom Meeting: \nhttps://us02web.zoom.us/j/73165306898?pwd=RmZLelBDUWpIT2kvSm9DSWhQVmZKQT09 \nMeeting ID: 731 6530 6898 \nPasscode: 917834
URL:https://staging.srfdfw.org/calendar/wednesday-meditation/2028-06-07/
LOCATION:DFW Meditation Group\, 2011 N. Britain Rd.\, Irving\, TX\, 76051\, United States
ATTACH;FMTTYPE=image/png:https://staging.srfdfw.org/wp-content/uploads/2023/11/meditation.png
GEO:32.8347664;-96.9448622
X-APPLE-STRUCTURED-LOCATION;VALUE=URI;X-ADDRESS=DFW Meditation Group 2011 N. Britain Rd. Irving TX 76051 United States;X-APPLE-RADIUS=500;X-TITLE=2011 N. Britain Rd.:geo:-96.9448622,32.8347664
END:VEVENT
BEGIN:VEVENT
DTSTART;TZID=America/Chicago:20280610T090000
DTEND;TZID=America/Chicago:20280610T120000
DTSTAMP:20260423T062921
CREATED:20231102T162046Z
LAST-MODIFIED:20240305T044125Z
UID:10000974-1844240400-1844251200@staging.srfdfw.org
SUMMARY:3 Hour Meditation
DESCRIPTION:The service will include a prayer and short inspirational reading to begin. Then there will be a chant on hours 10 and 11. The service will end with a Prayer Service which includes the healing technique taught by our Guru. \nPlease enter and exit on the hour during chants.
URL:https://staging.srfdfw.org/calendar/saturday-3-hour-meditation-2/2028-06-10/
LOCATION:2011 North Britain Road\, Irving\, TX\, 2011 N. Britain Rd.\, Irving\, TX\, 76051\, United States
ATTACH;FMTTYPE=image/png:https://staging.srfdfw.org/wp-content/uploads/2023/11/meditation.png
ORGANIZER;CN="DFW-SRF Meditation Group":MAILTO:connect@srfdallasfortworth.org
END:VEVENT
BEGIN:VEVENT
DTSTART;TZID=America/Chicago:20280611T100000
DTEND;TZID=America/Chicago:20280611T104500
DTSTAMP:20260423T062921
CREATED:20220711T161139Z
LAST-MODIFIED:20240305T044306Z
UID:10001314-1844330400-1844333100@staging.srfdfw.org
SUMMARY:Meditation Service
DESCRIPTION:
URL:https://staging.srfdfw.org/calendar/meditation-service-reading-service/2028-06-11/
LOCATION:DFW Meditation Group\, 2011 N. Britain Rd.\, Irving\, TX\, 76051\, United States
ATTACH;FMTTYPE=image/png:https://staging.srfdfw.org/wp-content/uploads/2023/11/meditation.png
GEO:32.8347664;-96.9448622
X-APPLE-STRUCTURED-LOCATION;VALUE=URI;X-ADDRESS=DFW Meditation Group 2011 N. Britain Rd. Irving TX 76051 United States;X-APPLE-RADIUS=500;X-TITLE=2011 N. Britain Rd.:geo:-96.9448622,32.8347664
END:VEVENT
BEGIN:VEVENT
DTSTART;TZID=America/Chicago:20280611T110000
DTEND;TZID=America/Chicago:20280611T120000
DTSTAMP:20260423T062921
CREATED:20221207T164922Z
LAST-MODIFIED:20240305T044557Z
UID:10001836-1844334000-1844337600@staging.srfdfw.org
SUMMARY:Sunday School
DESCRIPTION:
URL:https://staging.srfdfw.org/calendar/sunday-school-1100-am/2028-06-11/
LOCATION:2011 North Britain Road\, Irving\, TX\, 2011 N. Britain Rd.\, Irving\, TX\, 76051\, United States
ATTACH;FMTTYPE=image/png:https://staging.srfdfw.org/wp-content/uploads/2022/12/child-meditating.png
ORGANIZER;CN="DFW-SRF Meditation Group":MAILTO:connect@srfdallasfortworth.org
END:VEVENT
BEGIN:VEVENT
DTSTART;TZID=America/Chicago:20280611T110000
DTEND;TZID=America/Chicago:20280611T120000
DTSTAMP:20260423T062921
CREATED:20240304T233900Z
LAST-MODIFIED:20240305T061330Z
UID:10001575-1844334000-1844337600@staging.srfdfw.org
SUMMARY:Readings Service
DESCRIPTION:
URL:https://staging.srfdfw.org/calendar/readings-service/2028-06-11/
LOCATION:DFW Meditation Group\, 2011 N. Britain Rd.\, Irving\, TX\, 76051\, United States
ATTACH;FMTTYPE=image/png:https://staging.srfdfw.org/wp-content/uploads/2024/03/clouds.png
GEO:32.8347664;-96.9448622
X-APPLE-STRUCTURED-LOCATION;VALUE=URI;X-ADDRESS=DFW Meditation Group 2011 N. Britain Rd. Irving TX 76051 United States;X-APPLE-RADIUS=500;X-TITLE=2011 N. Britain Rd.:geo:-96.9448622,32.8347664
END:VEVENT
BEGIN:VEVENT
DTSTART;TZID=America/Chicago:20280614T190000
DTEND;TZID=America/Chicago:20280614T203000
DTSTAMP:20260423T062921
CREATED:20220910T223756Z
LAST-MODIFIED:20240327T212545Z
UID:10000698-1844622000-1844627400@staging.srfdfw.org
SUMMARY:Wednesday Online Meditation
DESCRIPTION:7 pm – 7.15 pm Energization Exercises \n7.20 pm -8.30 Group Meditation with Inspirational-reading\, Chants\, Meditation and Healing Service . \nLink to Join Zoom Meeting: \nhttps://us02web.zoom.us/j/73165306898?pwd=RmZLelBDUWpIT2kvSm9DSWhQVmZKQT09 \nMeeting ID: 731 6530 6898 \nPasscode: 917834
URL:https://staging.srfdfw.org/calendar/wednesday-meditation/2028-06-14/
LOCATION:DFW Meditation Group\, 2011 N. Britain Rd.\, Irving\, TX\, 76051\, United States
ATTACH;FMTTYPE=image/png:https://staging.srfdfw.org/wp-content/uploads/2023/11/meditation.png
GEO:32.8347664;-96.9448622
X-APPLE-STRUCTURED-LOCATION;VALUE=URI;X-ADDRESS=DFW Meditation Group 2011 N. Britain Rd. Irving TX 76051 United States;X-APPLE-RADIUS=500;X-TITLE=2011 N. Britain Rd.:geo:-96.9448622,32.8347664
END:VEVENT
BEGIN:VEVENT
DTSTART;TZID=America/Chicago:20280617T090000
DTEND;TZID=America/Chicago:20280617T120000
DTSTAMP:20260423T062921
CREATED:20231102T162046Z
LAST-MODIFIED:20240305T044125Z
UID:10000975-1844845200-1844856000@staging.srfdfw.org
SUMMARY:3 Hour Meditation
DESCRIPTION:The service will include a prayer and short inspirational reading to begin. Then there will be a chant on hours 10 and 11. The service will end with a Prayer Service which includes the healing technique taught by our Guru. \nPlease enter and exit on the hour during chants.
URL:https://staging.srfdfw.org/calendar/saturday-3-hour-meditation-2/2028-06-17/
LOCATION:2011 North Britain Road\, Irving\, TX\, 2011 N. Britain Rd.\, Irving\, TX\, 76051\, United States
ATTACH;FMTTYPE=image/png:https://staging.srfdfw.org/wp-content/uploads/2023/11/meditation.png
ORGANIZER;CN="DFW-SRF Meditation Group":MAILTO:connect@srfdallasfortworth.org
END:VEVENT
BEGIN:VEVENT
DTSTART;TZID=America/Chicago:20280618T100000
DTEND;TZID=America/Chicago:20280618T104500
DTSTAMP:20260423T062921
CREATED:20220711T161139Z
LAST-MODIFIED:20240305T044306Z
UID:10001315-1844935200-1844937900@staging.srfdfw.org
SUMMARY:Meditation Service
DESCRIPTION:
URL:https://staging.srfdfw.org/calendar/meditation-service-reading-service/2028-06-18/
LOCATION:DFW Meditation Group\, 2011 N. Britain Rd.\, Irving\, TX\, 76051\, United States
ATTACH;FMTTYPE=image/png:https://staging.srfdfw.org/wp-content/uploads/2023/11/meditation.png
GEO:32.8347664;-96.9448622
X-APPLE-STRUCTURED-LOCATION;VALUE=URI;X-ADDRESS=DFW Meditation Group 2011 N. Britain Rd. Irving TX 76051 United States;X-APPLE-RADIUS=500;X-TITLE=2011 N. Britain Rd.:geo:-96.9448622,32.8347664
END:VEVENT
BEGIN:VEVENT
DTSTART;TZID=America/Chicago:20280618T110000
DTEND;TZID=America/Chicago:20280618T120000
DTSTAMP:20260423T062921
CREATED:20221207T164922Z
LAST-MODIFIED:20240305T044557Z
UID:10001837-1844938800-1844942400@staging.srfdfw.org
SUMMARY:Sunday School
DESCRIPTION:
URL:https://staging.srfdfw.org/calendar/sunday-school-1100-am/2028-06-18/
LOCATION:2011 North Britain Road\, Irving\, TX\, 2011 N. Britain Rd.\, Irving\, TX\, 76051\, United States
ATTACH;FMTTYPE=image/png:https://staging.srfdfw.org/wp-content/uploads/2022/12/child-meditating.png
ORGANIZER;CN="DFW-SRF Meditation Group":MAILTO:connect@srfdallasfortworth.org
END:VEVENT
BEGIN:VEVENT
DTSTART;TZID=America/Chicago:20280618T110000
DTEND;TZID=America/Chicago:20280618T120000
DTSTAMP:20260423T062921
CREATED:20240304T233900Z
LAST-MODIFIED:20240305T061330Z
UID:10001576-1844938800-1844942400@staging.srfdfw.org
SUMMARY:Readings Service
DESCRIPTION:
URL:https://staging.srfdfw.org/calendar/readings-service/2028-06-18/
LOCATION:DFW Meditation Group\, 2011 N. Britain Rd.\, Irving\, TX\, 76051\, United States
ATTACH;FMTTYPE=image/png:https://staging.srfdfw.org/wp-content/uploads/2024/03/clouds.png
GEO:32.8347664;-96.9448622
X-APPLE-STRUCTURED-LOCATION;VALUE=URI;X-ADDRESS=DFW Meditation Group 2011 N. Britain Rd. Irving TX 76051 United States;X-APPLE-RADIUS=500;X-TITLE=2011 N. Britain Rd.:geo:-96.9448622,32.8347664
END:VEVENT
BEGIN:VEVENT
DTSTART;TZID=America/Chicago:20280621T190000
DTEND;TZID=America/Chicago:20280621T203000
DTSTAMP:20260423T062921
CREATED:20220910T223756Z
LAST-MODIFIED:20240327T212545Z
UID:10000699-1845226800-1845232200@staging.srfdfw.org
SUMMARY:Wednesday Online Meditation
DESCRIPTION:7 pm – 7.15 pm Energization Exercises \n7.20 pm -8.30 Group Meditation with Inspirational-reading\, Chants\, Meditation and Healing Service . \nLink to Join Zoom Meeting: \nhttps://us02web.zoom.us/j/73165306898?pwd=RmZLelBDUWpIT2kvSm9DSWhQVmZKQT09 \nMeeting ID: 731 6530 6898 \nPasscode: 917834
URL:https://staging.srfdfw.org/calendar/wednesday-meditation/2028-06-21/
LOCATION:DFW Meditation Group\, 2011 N. Britain Rd.\, Irving\, TX\, 76051\, United States
ATTACH;FMTTYPE=image/png:https://staging.srfdfw.org/wp-content/uploads/2023/11/meditation.png
GEO:32.8347664;-96.9448622
X-APPLE-STRUCTURED-LOCATION;VALUE=URI;X-ADDRESS=DFW Meditation Group 2011 N. Britain Rd. Irving TX 76051 United States;X-APPLE-RADIUS=500;X-TITLE=2011 N. Britain Rd.:geo:-96.9448622,32.8347664
END:VEVENT
BEGIN:VEVENT
DTSTART;TZID=America/Chicago:20280624T090000
DTEND;TZID=America/Chicago:20280624T120000
DTSTAMP:20260423T062921
CREATED:20231102T162046Z
LAST-MODIFIED:20240305T044125Z
UID:10000976-1845450000-1845460800@staging.srfdfw.org
SUMMARY:3 Hour Meditation
DESCRIPTION:The service will include a prayer and short inspirational reading to begin. Then there will be a chant on hours 10 and 11. The service will end with a Prayer Service which includes the healing technique taught by our Guru. \nPlease enter and exit on the hour during chants.
URL:https://staging.srfdfw.org/calendar/saturday-3-hour-meditation-2/2028-06-24/
LOCATION:2011 North Britain Road\, Irving\, TX\, 2011 N. Britain Rd.\, Irving\, TX\, 76051\, United States
ATTACH;FMTTYPE=image/png:https://staging.srfdfw.org/wp-content/uploads/2023/11/meditation.png
ORGANIZER;CN="DFW-SRF Meditation Group":MAILTO:connect@srfdallasfortworth.org
END:VEVENT
BEGIN:VEVENT
DTSTART;TZID=America/Chicago:20280625T100000
DTEND;TZID=America/Chicago:20280625T104500
DTSTAMP:20260423T062921
CREATED:20220711T161139Z
LAST-MODIFIED:20240305T044306Z
UID:10001316-1845540000-1845542700@staging.srfdfw.org
SUMMARY:Meditation Service
DESCRIPTION:
URL:https://staging.srfdfw.org/calendar/meditation-service-reading-service/2028-06-25/
LOCATION:DFW Meditation Group\, 2011 N. Britain Rd.\, Irving\, TX\, 76051\, United States
ATTACH;FMTTYPE=image/png:https://staging.srfdfw.org/wp-content/uploads/2023/11/meditation.png
GEO:32.8347664;-96.9448622
X-APPLE-STRUCTURED-LOCATION;VALUE=URI;X-ADDRESS=DFW Meditation Group 2011 N. Britain Rd. Irving TX 76051 United States;X-APPLE-RADIUS=500;X-TITLE=2011 N. Britain Rd.:geo:-96.9448622,32.8347664
END:VEVENT
BEGIN:VEVENT
DTSTART;TZID=America/Chicago:20280625T110000
DTEND;TZID=America/Chicago:20280625T120000
DTSTAMP:20260423T062921
CREATED:20221207T164922Z
LAST-MODIFIED:20240305T044557Z
UID:10001838-1845543600-1845547200@staging.srfdfw.org
SUMMARY:Sunday School
DESCRIPTION:
URL:https://staging.srfdfw.org/calendar/sunday-school-1100-am/2028-06-25/
LOCATION:2011 North Britain Road\, Irving\, TX\, 2011 N. Britain Rd.\, Irving\, TX\, 76051\, United States
ATTACH;FMTTYPE=image/png:https://staging.srfdfw.org/wp-content/uploads/2022/12/child-meditating.png
ORGANIZER;CN="DFW-SRF Meditation Group":MAILTO:connect@srfdallasfortworth.org
END:VEVENT
BEGIN:VEVENT
DTSTART;TZID=America/Chicago:20280625T110000
DTEND;TZID=America/Chicago:20280625T120000
DTSTAMP:20260423T062921
CREATED:20240304T233900Z
LAST-MODIFIED:20240305T061330Z
UID:10001577-1845543600-1845547200@staging.srfdfw.org
SUMMARY:Readings Service
DESCRIPTION:
URL:https://staging.srfdfw.org/calendar/readings-service/2028-06-25/
LOCATION:DFW Meditation Group\, 2011 N. Britain Rd.\, Irving\, TX\, 76051\, United States
ATTACH;FMTTYPE=image/png:https://staging.srfdfw.org/wp-content/uploads/2024/03/clouds.png
GEO:32.8347664;-96.9448622
X-APPLE-STRUCTURED-LOCATION;VALUE=URI;X-ADDRESS=DFW Meditation Group 2011 N. Britain Rd. Irving TX 76051 United States;X-APPLE-RADIUS=500;X-TITLE=2011 N. Britain Rd.:geo:-96.9448622,32.8347664
END:VEVENT
BEGIN:VEVENT
DTSTART;TZID=America/Chicago:20280628T190000
DTEND;TZID=America/Chicago:20280628T203000
DTSTAMP:20260423T062921
CREATED:20220910T223756Z
LAST-MODIFIED:20240327T212545Z
UID:10000700-1845831600-1845837000@staging.srfdfw.org
SUMMARY:Wednesday Online Meditation
DESCRIPTION:7 pm – 7.15 pm Energization Exercises \n7.20 pm -8.30 Group Meditation with Inspirational-reading\, Chants\, Meditation and Healing Service . \nLink to Join Zoom Meeting: \nhttps://us02web.zoom.us/j/73165306898?pwd=RmZLelBDUWpIT2kvSm9DSWhQVmZKQT09 \nMeeting ID: 731 6530 6898 \nPasscode: 917834
URL:https://staging.srfdfw.org/calendar/wednesday-meditation/2028-06-28/
LOCATION:DFW Meditation Group\, 2011 N. Britain Rd.\, Irving\, TX\, 76051\, United States
ATTACH;FMTTYPE=image/png:https://staging.srfdfw.org/wp-content/uploads/2023/11/meditation.png
GEO:32.8347664;-96.9448622
X-APPLE-STRUCTURED-LOCATION;VALUE=URI;X-ADDRESS=DFW Meditation Group 2011 N. Britain Rd. Irving TX 76051 United States;X-APPLE-RADIUS=500;X-TITLE=2011 N. Britain Rd.:geo:-96.9448622,32.8347664
END:VEVENT
BEGIN:VEVENT
DTSTART;TZID=America/Chicago:20280701T090000
DTEND;TZID=America/Chicago:20280701T120000
DTSTAMP:20260423T062921
CREATED:20231102T162046Z
LAST-MODIFIED:20240305T044125Z
UID:10000977-1846054800-1846065600@staging.srfdfw.org
SUMMARY:3 Hour Meditation
DESCRIPTION:The service will include a prayer and short inspirational reading to begin. Then there will be a chant on hours 10 and 11. The service will end with a Prayer Service which includes the healing technique taught by our Guru. \nPlease enter and exit on the hour during chants.
URL:https://staging.srfdfw.org/calendar/saturday-3-hour-meditation-2/2028-07-01/
LOCATION:2011 North Britain Road\, Irving\, TX\, 2011 N. Britain Rd.\, Irving\, TX\, 76051\, United States
ATTACH;FMTTYPE=image/png:https://staging.srfdfw.org/wp-content/uploads/2023/11/meditation.png
ORGANIZER;CN="DFW-SRF Meditation Group":MAILTO:connect@srfdallasfortworth.org
END:VEVENT
BEGIN:VEVENT
DTSTART;TZID=America/Chicago:20280702T100000
DTEND;TZID=America/Chicago:20280702T104500
DTSTAMP:20260423T062921
CREATED:20220711T161139Z
LAST-MODIFIED:20240305T044306Z
UID:10001317-1846144800-1846147500@staging.srfdfw.org
SUMMARY:Meditation Service
DESCRIPTION:
URL:https://staging.srfdfw.org/calendar/meditation-service-reading-service/2028-07-02/
LOCATION:DFW Meditation Group\, 2011 N. Britain Rd.\, Irving\, TX\, 76051\, United States
ATTACH;FMTTYPE=image/png:https://staging.srfdfw.org/wp-content/uploads/2023/11/meditation.png
GEO:32.8347664;-96.9448622
X-APPLE-STRUCTURED-LOCATION;VALUE=URI;X-ADDRESS=DFW Meditation Group 2011 N. Britain Rd. Irving TX 76051 United States;X-APPLE-RADIUS=500;X-TITLE=2011 N. Britain Rd.:geo:-96.9448622,32.8347664
END:VEVENT
BEGIN:VEVENT
DTSTART;TZID=America/Chicago:20280702T110000
DTEND;TZID=America/Chicago:20280702T120000
DTSTAMP:20260423T062921
CREATED:20221207T164922Z
LAST-MODIFIED:20240305T044557Z
UID:10001839-1846148400-1846152000@staging.srfdfw.org
SUMMARY:Sunday School
DESCRIPTION:
URL:https://staging.srfdfw.org/calendar/sunday-school-1100-am/2028-07-02/
LOCATION:2011 North Britain Road\, Irving\, TX\, 2011 N. Britain Rd.\, Irving\, TX\, 76051\, United States
ATTACH;FMTTYPE=image/png:https://staging.srfdfw.org/wp-content/uploads/2022/12/child-meditating.png
ORGANIZER;CN="DFW-SRF Meditation Group":MAILTO:connect@srfdallasfortworth.org
END:VEVENT
BEGIN:VEVENT
DTSTART;TZID=America/Chicago:20280702T110000
DTEND;TZID=America/Chicago:20280702T120000
DTSTAMP:20260423T062921
CREATED:20240304T233900Z
LAST-MODIFIED:20240305T061330Z
UID:10001578-1846148400-1846152000@staging.srfdfw.org
SUMMARY:Readings Service
DESCRIPTION:
URL:https://staging.srfdfw.org/calendar/readings-service/2028-07-02/
LOCATION:DFW Meditation Group\, 2011 N. Britain Rd.\, Irving\, TX\, 76051\, United States
ATTACH;FMTTYPE=image/png:https://staging.srfdfw.org/wp-content/uploads/2024/03/clouds.png
GEO:32.8347664;-96.9448622
X-APPLE-STRUCTURED-LOCATION;VALUE=URI;X-ADDRESS=DFW Meditation Group 2011 N. Britain Rd. Irving TX 76051 United States;X-APPLE-RADIUS=500;X-TITLE=2011 N. Britain Rd.:geo:-96.9448622,32.8347664
END:VEVENT
BEGIN:VEVENT
DTSTART;TZID=America/Chicago:20280705T190000
DTEND;TZID=America/Chicago:20280705T203000
DTSTAMP:20260423T062921
CREATED:20220910T223756Z
LAST-MODIFIED:20240327T212545Z
UID:10000701-1846436400-1846441800@staging.srfdfw.org
SUMMARY:Wednesday Online Meditation
DESCRIPTION:7 pm – 7.15 pm Energization Exercises \n7.20 pm -8.30 Group Meditation with Inspirational-reading\, Chants\, Meditation and Healing Service . \nLink to Join Zoom Meeting: \nhttps://us02web.zoom.us/j/73165306898?pwd=RmZLelBDUWpIT2kvSm9DSWhQVmZKQT09 \nMeeting ID: 731 6530 6898 \nPasscode: 917834
URL:https://staging.srfdfw.org/calendar/wednesday-meditation/2028-07-05/
LOCATION:DFW Meditation Group\, 2011 N. Britain Rd.\, Irving\, TX\, 76051\, United States
ATTACH;FMTTYPE=image/png:https://staging.srfdfw.org/wp-content/uploads/2023/11/meditation.png
GEO:32.8347664;-96.9448622
X-APPLE-STRUCTURED-LOCATION;VALUE=URI;X-ADDRESS=DFW Meditation Group 2011 N. Britain Rd. Irving TX 76051 United States;X-APPLE-RADIUS=500;X-TITLE=2011 N. Britain Rd.:geo:-96.9448622,32.8347664
END:VEVENT
BEGIN:VEVENT
DTSTART;TZID=America/Chicago:20280708T090000
DTEND;TZID=America/Chicago:20280708T120000
DTSTAMP:20260423T062921
CREATED:20231102T162046Z
LAST-MODIFIED:20240305T044125Z
UID:10000978-1846659600-1846670400@staging.srfdfw.org
SUMMARY:3 Hour Meditation
DESCRIPTION:The service will include a prayer and short inspirational reading to begin. Then there will be a chant on hours 10 and 11. The service will end with a Prayer Service which includes the healing technique taught by our Guru. \nPlease enter and exit on the hour during chants.
URL:https://staging.srfdfw.org/calendar/saturday-3-hour-meditation-2/2028-07-08/
LOCATION:2011 North Britain Road\, Irving\, TX\, 2011 N. Britain Rd.\, Irving\, TX\, 76051\, United States
ATTACH;FMTTYPE=image/png:https://staging.srfdfw.org/wp-content/uploads/2023/11/meditation.png
ORGANIZER;CN="DFW-SRF Meditation Group":MAILTO:connect@srfdallasfortworth.org
END:VEVENT
BEGIN:VEVENT
DTSTART;TZID=America/Chicago:20280709T100000
DTEND;TZID=America/Chicago:20280709T104500
DTSTAMP:20260423T062921
CREATED:20220711T161139Z
LAST-MODIFIED:20240305T044306Z
UID:10001318-1846749600-1846752300@staging.srfdfw.org
SUMMARY:Meditation Service
DESCRIPTION:
URL:https://staging.srfdfw.org/calendar/meditation-service-reading-service/2028-07-09/
LOCATION:DFW Meditation Group\, 2011 N. Britain Rd.\, Irving\, TX\, 76051\, United States
ATTACH;FMTTYPE=image/png:https://staging.srfdfw.org/wp-content/uploads/2023/11/meditation.png
GEO:32.8347664;-96.9448622
X-APPLE-STRUCTURED-LOCATION;VALUE=URI;X-ADDRESS=DFW Meditation Group 2011 N. Britain Rd. Irving TX 76051 United States;X-APPLE-RADIUS=500;X-TITLE=2011 N. Britain Rd.:geo:-96.9448622,32.8347664
END:VEVENT
BEGIN:VEVENT
DTSTART;TZID=America/Chicago:20280709T110000
DTEND;TZID=America/Chicago:20280709T120000
DTSTAMP:20260423T062921
CREATED:20221207T164922Z
LAST-MODIFIED:20240305T044557Z
UID:10001840-1846753200-1846756800@staging.srfdfw.org
SUMMARY:Sunday School
DESCRIPTION:
URL:https://staging.srfdfw.org/calendar/sunday-school-1100-am/2028-07-09/
LOCATION:2011 North Britain Road\, Irving\, TX\, 2011 N. Britain Rd.\, Irving\, TX\, 76051\, United States
ATTACH;FMTTYPE=image/png:https://staging.srfdfw.org/wp-content/uploads/2022/12/child-meditating.png
ORGANIZER;CN="DFW-SRF Meditation Group":MAILTO:connect@srfdallasfortworth.org
END:VEVENT
BEGIN:VEVENT
DTSTART;TZID=America/Chicago:20280709T110000
DTEND;TZID=America/Chicago:20280709T120000
DTSTAMP:20260423T062921
CREATED:20240304T233900Z
LAST-MODIFIED:20240305T061330Z
UID:10001579-1846753200-1846756800@staging.srfdfw.org
SUMMARY:Readings Service
DESCRIPTION:
URL:https://staging.srfdfw.org/calendar/readings-service/2028-07-09/
LOCATION:DFW Meditation Group\, 2011 N. Britain Rd.\, Irving\, TX\, 76051\, United States
ATTACH;FMTTYPE=image/png:https://staging.srfdfw.org/wp-content/uploads/2024/03/clouds.png
GEO:32.8347664;-96.9448622
X-APPLE-STRUCTURED-LOCATION;VALUE=URI;X-ADDRESS=DFW Meditation Group 2011 N. Britain Rd. Irving TX 76051 United States;X-APPLE-RADIUS=500;X-TITLE=2011 N. Britain Rd.:geo:-96.9448622,32.8347664
END:VEVENT
BEGIN:VEVENT
DTSTART;TZID=America/Chicago:20280712T190000
DTEND;TZID=America/Chicago:20280712T203000
DTSTAMP:20260423T062921
CREATED:20220910T223756Z
LAST-MODIFIED:20240327T212545Z
UID:10000702-1847041200-1847046600@staging.srfdfw.org
SUMMARY:Wednesday Online Meditation
DESCRIPTION:7 pm – 7.15 pm Energization Exercises \n7.20 pm -8.30 Group Meditation with Inspirational-reading\, Chants\, Meditation and Healing Service . \nLink to Join Zoom Meeting: \nhttps://us02web.zoom.us/j/73165306898?pwd=RmZLelBDUWpIT2kvSm9DSWhQVmZKQT09 \nMeeting ID: 731 6530 6898 \nPasscode: 917834
URL:https://staging.srfdfw.org/calendar/wednesday-meditation/2028-07-12/
LOCATION:DFW Meditation Group\, 2011 N. Britain Rd.\, Irving\, TX\, 76051\, United States
ATTACH;FMTTYPE=image/png:https://staging.srfdfw.org/wp-content/uploads/2023/11/meditation.png
GEO:32.8347664;-96.9448622
X-APPLE-STRUCTURED-LOCATION;VALUE=URI;X-ADDRESS=DFW Meditation Group 2011 N. Britain Rd. Irving TX 76051 United States;X-APPLE-RADIUS=500;X-TITLE=2011 N. Britain Rd.:geo:-96.9448622,32.8347664
END:VEVENT
BEGIN:VEVENT
DTSTART;TZID=America/Chicago:20280715T090000
DTEND;TZID=America/Chicago:20280715T120000
DTSTAMP:20260423T062921
CREATED:20231102T162046Z
LAST-MODIFIED:20240305T044125Z
UID:10000979-1847264400-1847275200@staging.srfdfw.org
SUMMARY:3 Hour Meditation
DESCRIPTION:The service will include a prayer and short inspirational reading to begin. Then there will be a chant on hours 10 and 11. The service will end with a Prayer Service which includes the healing technique taught by our Guru. \nPlease enter and exit on the hour during chants.
URL:https://staging.srfdfw.org/calendar/saturday-3-hour-meditation-2/2028-07-15/
LOCATION:2011 North Britain Road\, Irving\, TX\, 2011 N. Britain Rd.\, Irving\, TX\, 76051\, United States
ATTACH;FMTTYPE=image/png:https://staging.srfdfw.org/wp-content/uploads/2023/11/meditation.png
ORGANIZER;CN="DFW-SRF Meditation Group":MAILTO:connect@srfdallasfortworth.org
END:VEVENT
BEGIN:VEVENT
DTSTART;TZID=America/Chicago:20280716T100000
DTEND;TZID=America/Chicago:20280716T104500
DTSTAMP:20260423T062921
CREATED:20220711T161139Z
LAST-MODIFIED:20240305T044306Z
UID:10001319-1847354400-1847357100@staging.srfdfw.org
SUMMARY:Meditation Service
DESCRIPTION:
URL:https://staging.srfdfw.org/calendar/meditation-service-reading-service/2028-07-16/
LOCATION:DFW Meditation Group\, 2011 N. Britain Rd.\, Irving\, TX\, 76051\, United States
ATTACH;FMTTYPE=image/png:https://staging.srfdfw.org/wp-content/uploads/2023/11/meditation.png
GEO:32.8347664;-96.9448622
X-APPLE-STRUCTURED-LOCATION;VALUE=URI;X-ADDRESS=DFW Meditation Group 2011 N. Britain Rd. Irving TX 76051 United States;X-APPLE-RADIUS=500;X-TITLE=2011 N. Britain Rd.:geo:-96.9448622,32.8347664
END:VEVENT
END:VCALENDAR