BEGIN:VCALENDAR
VERSION:2.0
PRODID:-//DFW Meditation Group of SRF - ECPv6.10.1.1//NONSGML v1.0//EN
CALSCALE:GREGORIAN
METHOD:PUBLISH
X-WR-CALNAME:DFW Meditation Group of SRF
X-ORIGINAL-URL:https://staging.srfdfw.org
X-WR-CALDESC:Events for DFW Meditation Group of SRF
REFRESH-INTERVAL;VALUE=DURATION:PT1H
X-Robots-Tag:noindex
X-PUBLISHED-TTL:PT1H
BEGIN:VTIMEZONE
TZID:America/Chicago
BEGIN:DAYLIGHT
TZOFFSETFROM:-0600
TZOFFSETTO:-0500
TZNAME:CDT
DTSTART:20280312T080000
END:DAYLIGHT
BEGIN:STANDARD
TZOFFSETFROM:-0500
TZOFFSETTO:-0600
TZNAME:CST
DTSTART:20281105T070000
END:STANDARD
END:VTIMEZONE
BEGIN:VEVENT
DTSTART;TZID=America/Chicago:20280709T100000
DTEND;TZID=America/Chicago:20280709T104500
DTSTAMP:20260423T092504
CREATED:20220711T161139Z
LAST-MODIFIED:20240305T044306Z
UID:10001318-1846749600-1846752300@staging.srfdfw.org
SUMMARY:Meditation Service
DESCRIPTION:
URL:https://staging.srfdfw.org/calendar/meditation-service-reading-service/2028-07-09/
LOCATION:DFW Meditation Group\, 2011 N. Britain Rd.\, Irving\, TX\, 76051\, United States
ATTACH;FMTTYPE=image/png:https://staging.srfdfw.org/wp-content/uploads/2023/11/meditation.png
GEO:32.8347664;-96.9448622
X-APPLE-STRUCTURED-LOCATION;VALUE=URI;X-ADDRESS=DFW Meditation Group 2011 N. Britain Rd. Irving TX 76051 United States;X-APPLE-RADIUS=500;X-TITLE=2011 N. Britain Rd.:geo:-96.9448622,32.8347664
END:VEVENT
BEGIN:VEVENT
DTSTART;TZID=America/Chicago:20280709T110000
DTEND;TZID=America/Chicago:20280709T120000
DTSTAMP:20260423T092504
CREATED:20221207T164922Z
LAST-MODIFIED:20240305T044557Z
UID:10001840-1846753200-1846756800@staging.srfdfw.org
SUMMARY:Sunday School
DESCRIPTION:
URL:https://staging.srfdfw.org/calendar/sunday-school-1100-am/2028-07-09/
LOCATION:2011 North Britain Road\, Irving\, TX\, 2011 N. Britain Rd.\, Irving\, TX\, 76051\, United States
ATTACH;FMTTYPE=image/png:https://staging.srfdfw.org/wp-content/uploads/2022/12/child-meditating.png
ORGANIZER;CN="DFW-SRF Meditation Group":MAILTO:connect@srfdallasfortworth.org
END:VEVENT
BEGIN:VEVENT
DTSTART;TZID=America/Chicago:20280709T110000
DTEND;TZID=America/Chicago:20280709T120000
DTSTAMP:20260423T092504
CREATED:20240304T233900Z
LAST-MODIFIED:20240305T061330Z
UID:10001579-1846753200-1846756800@staging.srfdfw.org
SUMMARY:Readings Service
DESCRIPTION:
URL:https://staging.srfdfw.org/calendar/readings-service/2028-07-09/
LOCATION:DFW Meditation Group\, 2011 N. Britain Rd.\, Irving\, TX\, 76051\, United States
ATTACH;FMTTYPE=image/png:https://staging.srfdfw.org/wp-content/uploads/2024/03/clouds.png
GEO:32.8347664;-96.9448622
X-APPLE-STRUCTURED-LOCATION;VALUE=URI;X-ADDRESS=DFW Meditation Group 2011 N. Britain Rd. Irving TX 76051 United States;X-APPLE-RADIUS=500;X-TITLE=2011 N. Britain Rd.:geo:-96.9448622,32.8347664
END:VEVENT
BEGIN:VEVENT
DTSTART;TZID=America/Chicago:20280712T190000
DTEND;TZID=America/Chicago:20280712T203000
DTSTAMP:20260423T092504
CREATED:20220910T223756Z
LAST-MODIFIED:20240327T212545Z
UID:10000702-1847041200-1847046600@staging.srfdfw.org
SUMMARY:Wednesday Online Meditation
DESCRIPTION:7 pm – 7.15 pm Energization Exercises \n7.20 pm -8.30 Group Meditation with Inspirational-reading\, Chants\, Meditation and Healing Service . \nLink to Join Zoom Meeting: \nhttps://us02web.zoom.us/j/73165306898?pwd=RmZLelBDUWpIT2kvSm9DSWhQVmZKQT09 \nMeeting ID: 731 6530 6898 \nPasscode: 917834
URL:https://staging.srfdfw.org/calendar/wednesday-meditation/2028-07-12/
LOCATION:DFW Meditation Group\, 2011 N. Britain Rd.\, Irving\, TX\, 76051\, United States
ATTACH;FMTTYPE=image/png:https://staging.srfdfw.org/wp-content/uploads/2023/11/meditation.png
GEO:32.8347664;-96.9448622
X-APPLE-STRUCTURED-LOCATION;VALUE=URI;X-ADDRESS=DFW Meditation Group 2011 N. Britain Rd. Irving TX 76051 United States;X-APPLE-RADIUS=500;X-TITLE=2011 N. Britain Rd.:geo:-96.9448622,32.8347664
END:VEVENT
BEGIN:VEVENT
DTSTART;TZID=America/Chicago:20280715T090000
DTEND;TZID=America/Chicago:20280715T120000
DTSTAMP:20260423T092504
CREATED:20231102T162046Z
LAST-MODIFIED:20240305T044125Z
UID:10000979-1847264400-1847275200@staging.srfdfw.org
SUMMARY:3 Hour Meditation
DESCRIPTION:The service will include a prayer and short inspirational reading to begin. Then there will be a chant on hours 10 and 11. The service will end with a Prayer Service which includes the healing technique taught by our Guru. \nPlease enter and exit on the hour during chants.
URL:https://staging.srfdfw.org/calendar/saturday-3-hour-meditation-2/2028-07-15/
LOCATION:2011 North Britain Road\, Irving\, TX\, 2011 N. Britain Rd.\, Irving\, TX\, 76051\, United States
ATTACH;FMTTYPE=image/png:https://staging.srfdfw.org/wp-content/uploads/2023/11/meditation.png
ORGANIZER;CN="DFW-SRF Meditation Group":MAILTO:connect@srfdallasfortworth.org
END:VEVENT
BEGIN:VEVENT
DTSTART;TZID=America/Chicago:20280716T100000
DTEND;TZID=America/Chicago:20280716T104500
DTSTAMP:20260423T092504
CREATED:20220711T161139Z
LAST-MODIFIED:20240305T044306Z
UID:10001319-1847354400-1847357100@staging.srfdfw.org
SUMMARY:Meditation Service
DESCRIPTION:
URL:https://staging.srfdfw.org/calendar/meditation-service-reading-service/2028-07-16/
LOCATION:DFW Meditation Group\, 2011 N. Britain Rd.\, Irving\, TX\, 76051\, United States
ATTACH;FMTTYPE=image/png:https://staging.srfdfw.org/wp-content/uploads/2023/11/meditation.png
GEO:32.8347664;-96.9448622
X-APPLE-STRUCTURED-LOCATION;VALUE=URI;X-ADDRESS=DFW Meditation Group 2011 N. Britain Rd. Irving TX 76051 United States;X-APPLE-RADIUS=500;X-TITLE=2011 N. Britain Rd.:geo:-96.9448622,32.8347664
END:VEVENT
BEGIN:VEVENT
DTSTART;TZID=America/Chicago:20280716T110000
DTEND;TZID=America/Chicago:20280716T120000
DTSTAMP:20260423T092504
CREATED:20221207T164922Z
LAST-MODIFIED:20240305T044557Z
UID:10001841-1847358000-1847361600@staging.srfdfw.org
SUMMARY:Sunday School
DESCRIPTION:
URL:https://staging.srfdfw.org/calendar/sunday-school-1100-am/2028-07-16/
LOCATION:2011 North Britain Road\, Irving\, TX\, 2011 N. Britain Rd.\, Irving\, TX\, 76051\, United States
ATTACH;FMTTYPE=image/png:https://staging.srfdfw.org/wp-content/uploads/2022/12/child-meditating.png
ORGANIZER;CN="DFW-SRF Meditation Group":MAILTO:connect@srfdallasfortworth.org
END:VEVENT
BEGIN:VEVENT
DTSTART;TZID=America/Chicago:20280716T110000
DTEND;TZID=America/Chicago:20280716T120000
DTSTAMP:20260423T092504
CREATED:20240304T233900Z
LAST-MODIFIED:20240305T061330Z
UID:10001580-1847358000-1847361600@staging.srfdfw.org
SUMMARY:Readings Service
DESCRIPTION:
URL:https://staging.srfdfw.org/calendar/readings-service/2028-07-16/
LOCATION:DFW Meditation Group\, 2011 N. Britain Rd.\, Irving\, TX\, 76051\, United States
ATTACH;FMTTYPE=image/png:https://staging.srfdfw.org/wp-content/uploads/2024/03/clouds.png
GEO:32.8347664;-96.9448622
X-APPLE-STRUCTURED-LOCATION;VALUE=URI;X-ADDRESS=DFW Meditation Group 2011 N. Britain Rd. Irving TX 76051 United States;X-APPLE-RADIUS=500;X-TITLE=2011 N. Britain Rd.:geo:-96.9448622,32.8347664
END:VEVENT
BEGIN:VEVENT
DTSTART;TZID=America/Chicago:20280719T190000
DTEND;TZID=America/Chicago:20280719T203000
DTSTAMP:20260423T092504
CREATED:20220910T223756Z
LAST-MODIFIED:20240327T212545Z
UID:10000703-1847646000-1847651400@staging.srfdfw.org
SUMMARY:Wednesday Online Meditation
DESCRIPTION:7 pm – 7.15 pm Energization Exercises \n7.20 pm -8.30 Group Meditation with Inspirational-reading\, Chants\, Meditation and Healing Service . \nLink to Join Zoom Meeting: \nhttps://us02web.zoom.us/j/73165306898?pwd=RmZLelBDUWpIT2kvSm9DSWhQVmZKQT09 \nMeeting ID: 731 6530 6898 \nPasscode: 917834
URL:https://staging.srfdfw.org/calendar/wednesday-meditation/2028-07-19/
LOCATION:DFW Meditation Group\, 2011 N. Britain Rd.\, Irving\, TX\, 76051\, United States
ATTACH;FMTTYPE=image/png:https://staging.srfdfw.org/wp-content/uploads/2023/11/meditation.png
GEO:32.8347664;-96.9448622
X-APPLE-STRUCTURED-LOCATION;VALUE=URI;X-ADDRESS=DFW Meditation Group 2011 N. Britain Rd. Irving TX 76051 United States;X-APPLE-RADIUS=500;X-TITLE=2011 N. Britain Rd.:geo:-96.9448622,32.8347664
END:VEVENT
BEGIN:VEVENT
DTSTART;TZID=America/Chicago:20280722T090000
DTEND;TZID=America/Chicago:20280722T120000
DTSTAMP:20260423T092504
CREATED:20231102T162046Z
LAST-MODIFIED:20240305T044125Z
UID:10000980-1847869200-1847880000@staging.srfdfw.org
SUMMARY:3 Hour Meditation
DESCRIPTION:The service will include a prayer and short inspirational reading to begin. Then there will be a chant on hours 10 and 11. The service will end with a Prayer Service which includes the healing technique taught by our Guru. \nPlease enter and exit on the hour during chants.
URL:https://staging.srfdfw.org/calendar/saturday-3-hour-meditation-2/2028-07-22/
LOCATION:2011 North Britain Road\, Irving\, TX\, 2011 N. Britain Rd.\, Irving\, TX\, 76051\, United States
ATTACH;FMTTYPE=image/png:https://staging.srfdfw.org/wp-content/uploads/2023/11/meditation.png
ORGANIZER;CN="DFW-SRF Meditation Group":MAILTO:connect@srfdallasfortworth.org
END:VEVENT
BEGIN:VEVENT
DTSTART;TZID=America/Chicago:20280723T100000
DTEND;TZID=America/Chicago:20280723T104500
DTSTAMP:20260423T092504
CREATED:20220711T161139Z
LAST-MODIFIED:20240305T044306Z
UID:10001320-1847959200-1847961900@staging.srfdfw.org
SUMMARY:Meditation Service
DESCRIPTION:
URL:https://staging.srfdfw.org/calendar/meditation-service-reading-service/2028-07-23/
LOCATION:DFW Meditation Group\, 2011 N. Britain Rd.\, Irving\, TX\, 76051\, United States
ATTACH;FMTTYPE=image/png:https://staging.srfdfw.org/wp-content/uploads/2023/11/meditation.png
GEO:32.8347664;-96.9448622
X-APPLE-STRUCTURED-LOCATION;VALUE=URI;X-ADDRESS=DFW Meditation Group 2011 N. Britain Rd. Irving TX 76051 United States;X-APPLE-RADIUS=500;X-TITLE=2011 N. Britain Rd.:geo:-96.9448622,32.8347664
END:VEVENT
BEGIN:VEVENT
DTSTART;TZID=America/Chicago:20280723T110000
DTEND;TZID=America/Chicago:20280723T120000
DTSTAMP:20260423T092504
CREATED:20221207T164922Z
LAST-MODIFIED:20240305T044557Z
UID:10001842-1847962800-1847966400@staging.srfdfw.org
SUMMARY:Sunday School
DESCRIPTION:
URL:https://staging.srfdfw.org/calendar/sunday-school-1100-am/2028-07-23/
LOCATION:2011 North Britain Road\, Irving\, TX\, 2011 N. Britain Rd.\, Irving\, TX\, 76051\, United States
ATTACH;FMTTYPE=image/png:https://staging.srfdfw.org/wp-content/uploads/2022/12/child-meditating.png
ORGANIZER;CN="DFW-SRF Meditation Group":MAILTO:connect@srfdallasfortworth.org
END:VEVENT
BEGIN:VEVENT
DTSTART;TZID=America/Chicago:20280723T110000
DTEND;TZID=America/Chicago:20280723T120000
DTSTAMP:20260423T092504
CREATED:20240304T233900Z
LAST-MODIFIED:20240305T061330Z
UID:10001581-1847962800-1847966400@staging.srfdfw.org
SUMMARY:Readings Service
DESCRIPTION:
URL:https://staging.srfdfw.org/calendar/readings-service/2028-07-23/
LOCATION:DFW Meditation Group\, 2011 N. Britain Rd.\, Irving\, TX\, 76051\, United States
ATTACH;FMTTYPE=image/png:https://staging.srfdfw.org/wp-content/uploads/2024/03/clouds.png
GEO:32.8347664;-96.9448622
X-APPLE-STRUCTURED-LOCATION;VALUE=URI;X-ADDRESS=DFW Meditation Group 2011 N. Britain Rd. Irving TX 76051 United States;X-APPLE-RADIUS=500;X-TITLE=2011 N. Britain Rd.:geo:-96.9448622,32.8347664
END:VEVENT
BEGIN:VEVENT
DTSTART;TZID=America/Chicago:20280726T190000
DTEND;TZID=America/Chicago:20280726T203000
DTSTAMP:20260423T092504
CREATED:20220910T223756Z
LAST-MODIFIED:20240327T212545Z
UID:10000704-1848250800-1848256200@staging.srfdfw.org
SUMMARY:Wednesday Online Meditation
DESCRIPTION:7 pm – 7.15 pm Energization Exercises \n7.20 pm -8.30 Group Meditation with Inspirational-reading\, Chants\, Meditation and Healing Service . \nLink to Join Zoom Meeting: \nhttps://us02web.zoom.us/j/73165306898?pwd=RmZLelBDUWpIT2kvSm9DSWhQVmZKQT09 \nMeeting ID: 731 6530 6898 \nPasscode: 917834
URL:https://staging.srfdfw.org/calendar/wednesday-meditation/2028-07-26/
LOCATION:DFW Meditation Group\, 2011 N. Britain Rd.\, Irving\, TX\, 76051\, United States
ATTACH;FMTTYPE=image/png:https://staging.srfdfw.org/wp-content/uploads/2023/11/meditation.png
GEO:32.8347664;-96.9448622
X-APPLE-STRUCTURED-LOCATION;VALUE=URI;X-ADDRESS=DFW Meditation Group 2011 N. Britain Rd. Irving TX 76051 United States;X-APPLE-RADIUS=500;X-TITLE=2011 N. Britain Rd.:geo:-96.9448622,32.8347664
END:VEVENT
BEGIN:VEVENT
DTSTART;TZID=America/Chicago:20280729T090000
DTEND;TZID=America/Chicago:20280729T120000
DTSTAMP:20260423T092504
CREATED:20231102T162046Z
LAST-MODIFIED:20240305T044125Z
UID:10000981-1848474000-1848484800@staging.srfdfw.org
SUMMARY:3 Hour Meditation
DESCRIPTION:The service will include a prayer and short inspirational reading to begin. Then there will be a chant on hours 10 and 11. The service will end with a Prayer Service which includes the healing technique taught by our Guru. \nPlease enter and exit on the hour during chants.
URL:https://staging.srfdfw.org/calendar/saturday-3-hour-meditation-2/2028-07-29/
LOCATION:2011 North Britain Road\, Irving\, TX\, 2011 N. Britain Rd.\, Irving\, TX\, 76051\, United States
ATTACH;FMTTYPE=image/png:https://staging.srfdfw.org/wp-content/uploads/2023/11/meditation.png
ORGANIZER;CN="DFW-SRF Meditation Group":MAILTO:connect@srfdallasfortworth.org
END:VEVENT
BEGIN:VEVENT
DTSTART;TZID=America/Chicago:20280730T100000
DTEND;TZID=America/Chicago:20280730T104500
DTSTAMP:20260423T092505
CREATED:20220711T161139Z
LAST-MODIFIED:20240305T044306Z
UID:10001321-1848564000-1848566700@staging.srfdfw.org
SUMMARY:Meditation Service
DESCRIPTION:
URL:https://staging.srfdfw.org/calendar/meditation-service-reading-service/2028-07-30/
LOCATION:DFW Meditation Group\, 2011 N. Britain Rd.\, Irving\, TX\, 76051\, United States
ATTACH;FMTTYPE=image/png:https://staging.srfdfw.org/wp-content/uploads/2023/11/meditation.png
GEO:32.8347664;-96.9448622
X-APPLE-STRUCTURED-LOCATION;VALUE=URI;X-ADDRESS=DFW Meditation Group 2011 N. Britain Rd. Irving TX 76051 United States;X-APPLE-RADIUS=500;X-TITLE=2011 N. Britain Rd.:geo:-96.9448622,32.8347664
END:VEVENT
BEGIN:VEVENT
DTSTART;TZID=America/Chicago:20280730T110000
DTEND;TZID=America/Chicago:20280730T120000
DTSTAMP:20260423T092505
CREATED:20221207T164922Z
LAST-MODIFIED:20240305T044557Z
UID:10001843-1848567600-1848571200@staging.srfdfw.org
SUMMARY:Sunday School
DESCRIPTION:
URL:https://staging.srfdfw.org/calendar/sunday-school-1100-am/2028-07-30/
LOCATION:2011 North Britain Road\, Irving\, TX\, 2011 N. Britain Rd.\, Irving\, TX\, 76051\, United States
ATTACH;FMTTYPE=image/png:https://staging.srfdfw.org/wp-content/uploads/2022/12/child-meditating.png
ORGANIZER;CN="DFW-SRF Meditation Group":MAILTO:connect@srfdallasfortworth.org
END:VEVENT
BEGIN:VEVENT
DTSTART;TZID=America/Chicago:20280730T110000
DTEND;TZID=America/Chicago:20280730T120000
DTSTAMP:20260423T092505
CREATED:20240304T233900Z
LAST-MODIFIED:20240305T061330Z
UID:10001582-1848567600-1848571200@staging.srfdfw.org
SUMMARY:Readings Service
DESCRIPTION:
URL:https://staging.srfdfw.org/calendar/readings-service/2028-07-30/
LOCATION:DFW Meditation Group\, 2011 N. Britain Rd.\, Irving\, TX\, 76051\, United States
ATTACH;FMTTYPE=image/png:https://staging.srfdfw.org/wp-content/uploads/2024/03/clouds.png
GEO:32.8347664;-96.9448622
X-APPLE-STRUCTURED-LOCATION;VALUE=URI;X-ADDRESS=DFW Meditation Group 2011 N. Britain Rd. Irving TX 76051 United States;X-APPLE-RADIUS=500;X-TITLE=2011 N. Britain Rd.:geo:-96.9448622,32.8347664
END:VEVENT
BEGIN:VEVENT
DTSTART;TZID=America/Chicago:20280802T190000
DTEND;TZID=America/Chicago:20280802T203000
DTSTAMP:20260423T092505
CREATED:20220910T223756Z
LAST-MODIFIED:20240327T212545Z
UID:10000705-1848855600-1848861000@staging.srfdfw.org
SUMMARY:Wednesday Online Meditation
DESCRIPTION:7 pm – 7.15 pm Energization Exercises \n7.20 pm -8.30 Group Meditation with Inspirational-reading\, Chants\, Meditation and Healing Service . \nLink to Join Zoom Meeting: \nhttps://us02web.zoom.us/j/73165306898?pwd=RmZLelBDUWpIT2kvSm9DSWhQVmZKQT09 \nMeeting ID: 731 6530 6898 \nPasscode: 917834
URL:https://staging.srfdfw.org/calendar/wednesday-meditation/2028-08-02/
LOCATION:DFW Meditation Group\, 2011 N. Britain Rd.\, Irving\, TX\, 76051\, United States
ATTACH;FMTTYPE=image/png:https://staging.srfdfw.org/wp-content/uploads/2023/11/meditation.png
GEO:32.8347664;-96.9448622
X-APPLE-STRUCTURED-LOCATION;VALUE=URI;X-ADDRESS=DFW Meditation Group 2011 N. Britain Rd. Irving TX 76051 United States;X-APPLE-RADIUS=500;X-TITLE=2011 N. Britain Rd.:geo:-96.9448622,32.8347664
END:VEVENT
BEGIN:VEVENT
DTSTART;TZID=America/Chicago:20280805T090000
DTEND;TZID=America/Chicago:20280805T120000
DTSTAMP:20260423T092505
CREATED:20231102T162046Z
LAST-MODIFIED:20240305T044125Z
UID:10000982-1849078800-1849089600@staging.srfdfw.org
SUMMARY:3 Hour Meditation
DESCRIPTION:The service will include a prayer and short inspirational reading to begin. Then there will be a chant on hours 10 and 11. The service will end with a Prayer Service which includes the healing technique taught by our Guru. \nPlease enter and exit on the hour during chants.
URL:https://staging.srfdfw.org/calendar/saturday-3-hour-meditation-2/2028-08-05/
LOCATION:2011 North Britain Road\, Irving\, TX\, 2011 N. Britain Rd.\, Irving\, TX\, 76051\, United States
ATTACH;FMTTYPE=image/png:https://staging.srfdfw.org/wp-content/uploads/2023/11/meditation.png
ORGANIZER;CN="DFW-SRF Meditation Group":MAILTO:connect@srfdallasfortworth.org
END:VEVENT
BEGIN:VEVENT
DTSTART;TZID=America/Chicago:20280806T100000
DTEND;TZID=America/Chicago:20280806T104500
DTSTAMP:20260423T092505
CREATED:20220711T161139Z
LAST-MODIFIED:20240305T044306Z
UID:10001322-1849168800-1849171500@staging.srfdfw.org
SUMMARY:Meditation Service
DESCRIPTION:
URL:https://staging.srfdfw.org/calendar/meditation-service-reading-service/2028-08-06/
LOCATION:DFW Meditation Group\, 2011 N. Britain Rd.\, Irving\, TX\, 76051\, United States
ATTACH;FMTTYPE=image/png:https://staging.srfdfw.org/wp-content/uploads/2023/11/meditation.png
GEO:32.8347664;-96.9448622
X-APPLE-STRUCTURED-LOCATION;VALUE=URI;X-ADDRESS=DFW Meditation Group 2011 N. Britain Rd. Irving TX 76051 United States;X-APPLE-RADIUS=500;X-TITLE=2011 N. Britain Rd.:geo:-96.9448622,32.8347664
END:VEVENT
BEGIN:VEVENT
DTSTART;TZID=America/Chicago:20280806T110000
DTEND;TZID=America/Chicago:20280806T120000
DTSTAMP:20260423T092505
CREATED:20221207T164922Z
LAST-MODIFIED:20240305T044557Z
UID:10001844-1849172400-1849176000@staging.srfdfw.org
SUMMARY:Sunday School
DESCRIPTION:
URL:https://staging.srfdfw.org/calendar/sunday-school-1100-am/2028-08-06/
LOCATION:2011 North Britain Road\, Irving\, TX\, 2011 N. Britain Rd.\, Irving\, TX\, 76051\, United States
ATTACH;FMTTYPE=image/png:https://staging.srfdfw.org/wp-content/uploads/2022/12/child-meditating.png
ORGANIZER;CN="DFW-SRF Meditation Group":MAILTO:connect@srfdallasfortworth.org
END:VEVENT
BEGIN:VEVENT
DTSTART;TZID=America/Chicago:20280806T110000
DTEND;TZID=America/Chicago:20280806T120000
DTSTAMP:20260423T092505
CREATED:20240304T233900Z
LAST-MODIFIED:20240305T061330Z
UID:10001583-1849172400-1849176000@staging.srfdfw.org
SUMMARY:Readings Service
DESCRIPTION:
URL:https://staging.srfdfw.org/calendar/readings-service/2028-08-06/
LOCATION:DFW Meditation Group\, 2011 N. Britain Rd.\, Irving\, TX\, 76051\, United States
ATTACH;FMTTYPE=image/png:https://staging.srfdfw.org/wp-content/uploads/2024/03/clouds.png
GEO:32.8347664;-96.9448622
X-APPLE-STRUCTURED-LOCATION;VALUE=URI;X-ADDRESS=DFW Meditation Group 2011 N. Britain Rd. Irving TX 76051 United States;X-APPLE-RADIUS=500;X-TITLE=2011 N. Britain Rd.:geo:-96.9448622,32.8347664
END:VEVENT
BEGIN:VEVENT
DTSTART;TZID=America/Chicago:20280809T190000
DTEND;TZID=America/Chicago:20280809T203000
DTSTAMP:20260423T092505
CREATED:20220910T223756Z
LAST-MODIFIED:20240327T212545Z
UID:10000706-1849460400-1849465800@staging.srfdfw.org
SUMMARY:Wednesday Online Meditation
DESCRIPTION:7 pm – 7.15 pm Energization Exercises \n7.20 pm -8.30 Group Meditation with Inspirational-reading\, Chants\, Meditation and Healing Service . \nLink to Join Zoom Meeting: \nhttps://us02web.zoom.us/j/73165306898?pwd=RmZLelBDUWpIT2kvSm9DSWhQVmZKQT09 \nMeeting ID: 731 6530 6898 \nPasscode: 917834
URL:https://staging.srfdfw.org/calendar/wednesday-meditation/2028-08-09/
LOCATION:DFW Meditation Group\, 2011 N. Britain Rd.\, Irving\, TX\, 76051\, United States
ATTACH;FMTTYPE=image/png:https://staging.srfdfw.org/wp-content/uploads/2023/11/meditation.png
GEO:32.8347664;-96.9448622
X-APPLE-STRUCTURED-LOCATION;VALUE=URI;X-ADDRESS=DFW Meditation Group 2011 N. Britain Rd. Irving TX 76051 United States;X-APPLE-RADIUS=500;X-TITLE=2011 N. Britain Rd.:geo:-96.9448622,32.8347664
END:VEVENT
BEGIN:VEVENT
DTSTART;TZID=America/Chicago:20280812T090000
DTEND;TZID=America/Chicago:20280812T120000
DTSTAMP:20260423T092505
CREATED:20231102T162046Z
LAST-MODIFIED:20240305T044125Z
UID:10000983-1849683600-1849694400@staging.srfdfw.org
SUMMARY:3 Hour Meditation
DESCRIPTION:The service will include a prayer and short inspirational reading to begin. Then there will be a chant on hours 10 and 11. The service will end with a Prayer Service which includes the healing technique taught by our Guru. \nPlease enter and exit on the hour during chants.
URL:https://staging.srfdfw.org/calendar/saturday-3-hour-meditation-2/2028-08-12/
LOCATION:2011 North Britain Road\, Irving\, TX\, 2011 N. Britain Rd.\, Irving\, TX\, 76051\, United States
ATTACH;FMTTYPE=image/png:https://staging.srfdfw.org/wp-content/uploads/2023/11/meditation.png
ORGANIZER;CN="DFW-SRF Meditation Group":MAILTO:connect@srfdallasfortworth.org
END:VEVENT
BEGIN:VEVENT
DTSTART;TZID=America/Chicago:20280813T100000
DTEND;TZID=America/Chicago:20280813T104500
DTSTAMP:20260423T092505
CREATED:20220711T161139Z
LAST-MODIFIED:20240305T044306Z
UID:10001323-1849773600-1849776300@staging.srfdfw.org
SUMMARY:Meditation Service
DESCRIPTION:
URL:https://staging.srfdfw.org/calendar/meditation-service-reading-service/2028-08-13/
LOCATION:DFW Meditation Group\, 2011 N. Britain Rd.\, Irving\, TX\, 76051\, United States
ATTACH;FMTTYPE=image/png:https://staging.srfdfw.org/wp-content/uploads/2023/11/meditation.png
GEO:32.8347664;-96.9448622
X-APPLE-STRUCTURED-LOCATION;VALUE=URI;X-ADDRESS=DFW Meditation Group 2011 N. Britain Rd. Irving TX 76051 United States;X-APPLE-RADIUS=500;X-TITLE=2011 N. Britain Rd.:geo:-96.9448622,32.8347664
END:VEVENT
BEGIN:VEVENT
DTSTART;TZID=America/Chicago:20280813T110000
DTEND;TZID=America/Chicago:20280813T120000
DTSTAMP:20260423T092505
CREATED:20221207T164922Z
LAST-MODIFIED:20240305T044557Z
UID:10001845-1849777200-1849780800@staging.srfdfw.org
SUMMARY:Sunday School
DESCRIPTION:
URL:https://staging.srfdfw.org/calendar/sunday-school-1100-am/2028-08-13/
LOCATION:2011 North Britain Road\, Irving\, TX\, 2011 N. Britain Rd.\, Irving\, TX\, 76051\, United States
ATTACH;FMTTYPE=image/png:https://staging.srfdfw.org/wp-content/uploads/2022/12/child-meditating.png
ORGANIZER;CN="DFW-SRF Meditation Group":MAILTO:connect@srfdallasfortworth.org
END:VEVENT
BEGIN:VEVENT
DTSTART;TZID=America/Chicago:20280813T110000
DTEND;TZID=America/Chicago:20280813T120000
DTSTAMP:20260423T092505
CREATED:20240304T233900Z
LAST-MODIFIED:20240305T061330Z
UID:10001584-1849777200-1849780800@staging.srfdfw.org
SUMMARY:Readings Service
DESCRIPTION:
URL:https://staging.srfdfw.org/calendar/readings-service/2028-08-13/
LOCATION:DFW Meditation Group\, 2011 N. Britain Rd.\, Irving\, TX\, 76051\, United States
ATTACH;FMTTYPE=image/png:https://staging.srfdfw.org/wp-content/uploads/2024/03/clouds.png
GEO:32.8347664;-96.9448622
X-APPLE-STRUCTURED-LOCATION;VALUE=URI;X-ADDRESS=DFW Meditation Group 2011 N. Britain Rd. Irving TX 76051 United States;X-APPLE-RADIUS=500;X-TITLE=2011 N. Britain Rd.:geo:-96.9448622,32.8347664
END:VEVENT
BEGIN:VEVENT
DTSTART;TZID=America/Chicago:20280816T190000
DTEND;TZID=America/Chicago:20280816T203000
DTSTAMP:20260423T092505
CREATED:20220910T223756Z
LAST-MODIFIED:20240327T212545Z
UID:10000707-1850065200-1850070600@staging.srfdfw.org
SUMMARY:Wednesday Online Meditation
DESCRIPTION:7 pm – 7.15 pm Energization Exercises \n7.20 pm -8.30 Group Meditation with Inspirational-reading\, Chants\, Meditation and Healing Service . \nLink to Join Zoom Meeting: \nhttps://us02web.zoom.us/j/73165306898?pwd=RmZLelBDUWpIT2kvSm9DSWhQVmZKQT09 \nMeeting ID: 731 6530 6898 \nPasscode: 917834
URL:https://staging.srfdfw.org/calendar/wednesday-meditation/2028-08-16/
LOCATION:DFW Meditation Group\, 2011 N. Britain Rd.\, Irving\, TX\, 76051\, United States
ATTACH;FMTTYPE=image/png:https://staging.srfdfw.org/wp-content/uploads/2023/11/meditation.png
GEO:32.8347664;-96.9448622
X-APPLE-STRUCTURED-LOCATION;VALUE=URI;X-ADDRESS=DFW Meditation Group 2011 N. Britain Rd. Irving TX 76051 United States;X-APPLE-RADIUS=500;X-TITLE=2011 N. Britain Rd.:geo:-96.9448622,32.8347664
END:VEVENT
BEGIN:VEVENT
DTSTART;TZID=America/Chicago:20280819T090000
DTEND;TZID=America/Chicago:20280819T120000
DTSTAMP:20260423T092505
CREATED:20231102T162046Z
LAST-MODIFIED:20240305T044125Z
UID:10000984-1850288400-1850299200@staging.srfdfw.org
SUMMARY:3 Hour Meditation
DESCRIPTION:The service will include a prayer and short inspirational reading to begin. Then there will be a chant on hours 10 and 11. The service will end with a Prayer Service which includes the healing technique taught by our Guru. \nPlease enter and exit on the hour during chants.
URL:https://staging.srfdfw.org/calendar/saturday-3-hour-meditation-2/2028-08-19/
LOCATION:2011 North Britain Road\, Irving\, TX\, 2011 N. Britain Rd.\, Irving\, TX\, 76051\, United States
ATTACH;FMTTYPE=image/png:https://staging.srfdfw.org/wp-content/uploads/2023/11/meditation.png
ORGANIZER;CN="DFW-SRF Meditation Group":MAILTO:connect@srfdallasfortworth.org
END:VEVENT
END:VCALENDAR