BEGIN:VCALENDAR
VERSION:2.0
PRODID:-//DFW Meditation Group of SRF - ECPv6.10.1.1//NONSGML v1.0//EN
CALSCALE:GREGORIAN
METHOD:PUBLISH
X-WR-CALNAME:DFW Meditation Group of SRF
X-ORIGINAL-URL:https://staging.srfdfw.org
X-WR-CALDESC:Events for DFW Meditation Group of SRF
REFRESH-INTERVAL;VALUE=DURATION:PT1H
X-Robots-Tag:noindex
X-PUBLISHED-TTL:PT1H
BEGIN:VTIMEZONE
TZID:America/Chicago
BEGIN:DAYLIGHT
TZOFFSETFROM:-0600
TZOFFSETTO:-0500
TZNAME:CDT
DTSTART:20230312T080000
END:DAYLIGHT
BEGIN:STANDARD
TZOFFSETFROM:-0500
TZOFFSETTO:-0600
TZNAME:CST
DTSTART:20231105T070000
END:STANDARD
END:VTIMEZONE
BEGIN:VEVENT
DTSTART;TZID=America/Chicago:20230730T100000
DTEND;TZID=America/Chicago:20230730T104500
DTSTAMP:20260423T153756
CREATED:20220711T161139Z
LAST-MODIFIED:20240305T044306Z
UID:10001060-1690711200-1690713900@staging.srfdfw.org
SUMMARY:Meditation Service
DESCRIPTION:
URL:https://staging.srfdfw.org/calendar/meditation-service-reading-service/2023-07-30/
LOCATION:DFW Meditation Group\, 2011 N. Britain Rd.\, Irving\, TX\, 76051\, United States
ATTACH;FMTTYPE=image/png:https://staging.srfdfw.org/wp-content/uploads/2023/11/meditation.png
GEO:32.8347664;-96.9448622
X-APPLE-STRUCTURED-LOCATION;VALUE=URI;X-ADDRESS=DFW Meditation Group 2011 N. Britain Rd. Irving TX 76051 United States;X-APPLE-RADIUS=500;X-TITLE=2011 N. Britain Rd.:geo:-96.9448622,32.8347664
END:VEVENT
BEGIN:VEVENT
DTSTART;TZID=America/Chicago:20230723T100000
DTEND;TZID=America/Chicago:20230723T104500
DTSTAMP:20260423T153756
CREATED:20220711T161139Z
LAST-MODIFIED:20240305T044306Z
UID:10001059-1690106400-1690109100@staging.srfdfw.org
SUMMARY:Meditation Service
DESCRIPTION:
URL:https://staging.srfdfw.org/calendar/meditation-service-reading-service/2023-07-23/
LOCATION:DFW Meditation Group\, 2011 N. Britain Rd.\, Irving\, TX\, 76051\, United States
ATTACH;FMTTYPE=image/png:https://staging.srfdfw.org/wp-content/uploads/2023/11/meditation.png
GEO:32.8347664;-96.9448622
X-APPLE-STRUCTURED-LOCATION;VALUE=URI;X-ADDRESS=DFW Meditation Group 2011 N. Britain Rd. Irving TX 76051 United States;X-APPLE-RADIUS=500;X-TITLE=2011 N. Britain Rd.:geo:-96.9448622,32.8347664
END:VEVENT
BEGIN:VEVENT
DTSTART;TZID=America/Chicago:20230716T100000
DTEND;TZID=America/Chicago:20230716T104500
DTSTAMP:20260423T153756
CREATED:20220711T161139Z
LAST-MODIFIED:20240305T044306Z
UID:10001058-1689501600-1689504300@staging.srfdfw.org
SUMMARY:Meditation Service
DESCRIPTION:
URL:https://staging.srfdfw.org/calendar/meditation-service-reading-service/2023-07-16/
LOCATION:DFW Meditation Group\, 2011 N. Britain Rd.\, Irving\, TX\, 76051\, United States
ATTACH;FMTTYPE=image/png:https://staging.srfdfw.org/wp-content/uploads/2023/11/meditation.png
GEO:32.8347664;-96.9448622
X-APPLE-STRUCTURED-LOCATION;VALUE=URI;X-ADDRESS=DFW Meditation Group 2011 N. Britain Rd. Irving TX 76051 United States;X-APPLE-RADIUS=500;X-TITLE=2011 N. Britain Rd.:geo:-96.9448622,32.8347664
END:VEVENT
BEGIN:VEVENT
DTSTART;TZID=America/Chicago:20230709T100000
DTEND;TZID=America/Chicago:20230709T104500
DTSTAMP:20260423T153756
CREATED:20220711T161139Z
LAST-MODIFIED:20240305T044306Z
UID:10001057-1688896800-1688899500@staging.srfdfw.org
SUMMARY:Meditation Service
DESCRIPTION:
URL:https://staging.srfdfw.org/calendar/meditation-service-reading-service/2023-07-09/
LOCATION:DFW Meditation Group\, 2011 N. Britain Rd.\, Irving\, TX\, 76051\, United States
ATTACH;FMTTYPE=image/png:https://staging.srfdfw.org/wp-content/uploads/2023/11/meditation.png
GEO:32.8347664;-96.9448622
X-APPLE-STRUCTURED-LOCATION;VALUE=URI;X-ADDRESS=DFW Meditation Group 2011 N. Britain Rd. Irving TX 76051 United States;X-APPLE-RADIUS=500;X-TITLE=2011 N. Britain Rd.:geo:-96.9448622,32.8347664
END:VEVENT
BEGIN:VEVENT
DTSTART;TZID=America/Chicago:20230702T100000
DTEND;TZID=America/Chicago:20230702T104500
DTSTAMP:20260423T153756
CREATED:20220711T161139Z
LAST-MODIFIED:20240305T044306Z
UID:10001056-1688292000-1688294700@staging.srfdfw.org
SUMMARY:Meditation Service
DESCRIPTION:
URL:https://staging.srfdfw.org/calendar/meditation-service-reading-service/2023-07-02/
LOCATION:DFW Meditation Group\, 2011 N. Britain Rd.\, Irving\, TX\, 76051\, United States
ATTACH;FMTTYPE=image/png:https://staging.srfdfw.org/wp-content/uploads/2023/11/meditation.png
GEO:32.8347664;-96.9448622
X-APPLE-STRUCTURED-LOCATION;VALUE=URI;X-ADDRESS=DFW Meditation Group 2011 N. Britain Rd. Irving TX 76051 United States;X-APPLE-RADIUS=500;X-TITLE=2011 N. Britain Rd.:geo:-96.9448622,32.8347664
END:VEVENT
BEGIN:VEVENT
DTSTART;TZID=America/Chicago:20230625T100000
DTEND;TZID=America/Chicago:20230625T104500
DTSTAMP:20260423T153756
CREATED:20220711T161139Z
LAST-MODIFIED:20240305T044306Z
UID:10001055-1687687200-1687689900@staging.srfdfw.org
SUMMARY:Meditation Service
DESCRIPTION:
URL:https://staging.srfdfw.org/calendar/meditation-service-reading-service/2023-06-25/
LOCATION:DFW Meditation Group\, 2011 N. Britain Rd.\, Irving\, TX\, 76051\, United States
ATTACH;FMTTYPE=image/png:https://staging.srfdfw.org/wp-content/uploads/2023/11/meditation.png
GEO:32.8347664;-96.9448622
X-APPLE-STRUCTURED-LOCATION;VALUE=URI;X-ADDRESS=DFW Meditation Group 2011 N. Britain Rd. Irving TX 76051 United States;X-APPLE-RADIUS=500;X-TITLE=2011 N. Britain Rd.:geo:-96.9448622,32.8347664
END:VEVENT
BEGIN:VEVENT
DTSTART;TZID=America/Chicago:20230618T100000
DTEND;TZID=America/Chicago:20230618T104500
DTSTAMP:20260423T153756
CREATED:20220711T161139Z
LAST-MODIFIED:20240305T044306Z
UID:10001054-1687082400-1687085100@staging.srfdfw.org
SUMMARY:Meditation Service
DESCRIPTION:
URL:https://staging.srfdfw.org/calendar/meditation-service-reading-service/2023-06-18/
LOCATION:DFW Meditation Group\, 2011 N. Britain Rd.\, Irving\, TX\, 76051\, United States
ATTACH;FMTTYPE=image/png:https://staging.srfdfw.org/wp-content/uploads/2023/11/meditation.png
GEO:32.8347664;-96.9448622
X-APPLE-STRUCTURED-LOCATION;VALUE=URI;X-ADDRESS=DFW Meditation Group 2011 N. Britain Rd. Irving TX 76051 United States;X-APPLE-RADIUS=500;X-TITLE=2011 N. Britain Rd.:geo:-96.9448622,32.8347664
END:VEVENT
BEGIN:VEVENT
DTSTART;TZID=America/Chicago:20230611T100000
DTEND;TZID=America/Chicago:20230611T104500
DTSTAMP:20260423T153756
CREATED:20220711T161139Z
LAST-MODIFIED:20240305T044306Z
UID:10001053-1686477600-1686480300@staging.srfdfw.org
SUMMARY:Meditation Service
DESCRIPTION:
URL:https://staging.srfdfw.org/calendar/meditation-service-reading-service/2023-06-11/
LOCATION:DFW Meditation Group\, 2011 N. Britain Rd.\, Irving\, TX\, 76051\, United States
ATTACH;FMTTYPE=image/png:https://staging.srfdfw.org/wp-content/uploads/2023/11/meditation.png
GEO:32.8347664;-96.9448622
X-APPLE-STRUCTURED-LOCATION;VALUE=URI;X-ADDRESS=DFW Meditation Group 2011 N. Britain Rd. Irving TX 76051 United States;X-APPLE-RADIUS=500;X-TITLE=2011 N. Britain Rd.:geo:-96.9448622,32.8347664
END:VEVENT
BEGIN:VEVENT
DTSTART;TZID=America/Chicago:20230604T100000
DTEND;TZID=America/Chicago:20230604T104500
DTSTAMP:20260423T153756
CREATED:20220711T161139Z
LAST-MODIFIED:20240305T044306Z
UID:10001052-1685872800-1685875500@staging.srfdfw.org
SUMMARY:Meditation Service
DESCRIPTION:
URL:https://staging.srfdfw.org/calendar/meditation-service-reading-service/2023-06-04/
LOCATION:DFW Meditation Group\, 2011 N. Britain Rd.\, Irving\, TX\, 76051\, United States
ATTACH;FMTTYPE=image/png:https://staging.srfdfw.org/wp-content/uploads/2023/11/meditation.png
GEO:32.8347664;-96.9448622
X-APPLE-STRUCTURED-LOCATION;VALUE=URI;X-ADDRESS=DFW Meditation Group 2011 N. Britain Rd. Irving TX 76051 United States;X-APPLE-RADIUS=500;X-TITLE=2011 N. Britain Rd.:geo:-96.9448622,32.8347664
END:VEVENT
BEGIN:VEVENT
DTSTART;TZID=America/Chicago:20230528T100000
DTEND;TZID=America/Chicago:20230528T104500
DTSTAMP:20260423T153756
CREATED:20220711T161139Z
LAST-MODIFIED:20240305T044306Z
UID:10001051-1685268000-1685270700@staging.srfdfw.org
SUMMARY:Meditation Service
DESCRIPTION:
URL:https://staging.srfdfw.org/calendar/meditation-service-reading-service/2023-05-28/
LOCATION:DFW Meditation Group\, 2011 N. Britain Rd.\, Irving\, TX\, 76051\, United States
ATTACH;FMTTYPE=image/png:https://staging.srfdfw.org/wp-content/uploads/2023/11/meditation.png
GEO:32.8347664;-96.9448622
X-APPLE-STRUCTURED-LOCATION;VALUE=URI;X-ADDRESS=DFW Meditation Group 2011 N. Britain Rd. Irving TX 76051 United States;X-APPLE-RADIUS=500;X-TITLE=2011 N. Britain Rd.:geo:-96.9448622,32.8347664
END:VEVENT
BEGIN:VEVENT
DTSTART;TZID=America/Chicago:20230521T100000
DTEND;TZID=America/Chicago:20230521T104500
DTSTAMP:20260423T153756
CREATED:20220711T161139Z
LAST-MODIFIED:20240305T044306Z
UID:10001050-1684663200-1684665900@staging.srfdfw.org
SUMMARY:Meditation Service
DESCRIPTION:
URL:https://staging.srfdfw.org/calendar/meditation-service-reading-service/2023-05-21/
LOCATION:DFW Meditation Group\, 2011 N. Britain Rd.\, Irving\, TX\, 76051\, United States
ATTACH;FMTTYPE=image/png:https://staging.srfdfw.org/wp-content/uploads/2023/11/meditation.png
GEO:32.8347664;-96.9448622
X-APPLE-STRUCTURED-LOCATION;VALUE=URI;X-ADDRESS=DFW Meditation Group 2011 N. Britain Rd. Irving TX 76051 United States;X-APPLE-RADIUS=500;X-TITLE=2011 N. Britain Rd.:geo:-96.9448622,32.8347664
END:VEVENT
BEGIN:VEVENT
DTSTART;TZID=America/Chicago:20230514T100000
DTEND;TZID=America/Chicago:20230514T104500
DTSTAMP:20260423T153756
CREATED:20220711T161139Z
LAST-MODIFIED:20240305T044306Z
UID:10001049-1684058400-1684061100@staging.srfdfw.org
SUMMARY:Meditation Service
DESCRIPTION:
URL:https://staging.srfdfw.org/calendar/meditation-service-reading-service/2023-05-14/
LOCATION:DFW Meditation Group\, 2011 N. Britain Rd.\, Irving\, TX\, 76051\, United States
ATTACH;FMTTYPE=image/png:https://staging.srfdfw.org/wp-content/uploads/2023/11/meditation.png
GEO:32.8347664;-96.9448622
X-APPLE-STRUCTURED-LOCATION;VALUE=URI;X-ADDRESS=DFW Meditation Group 2011 N. Britain Rd. Irving TX 76051 United States;X-APPLE-RADIUS=500;X-TITLE=2011 N. Britain Rd.:geo:-96.9448622,32.8347664
END:VEVENT
BEGIN:VEVENT
DTSTART;TZID=America/Chicago:20230507T100000
DTEND;TZID=America/Chicago:20230507T104500
DTSTAMP:20260423T153756
CREATED:20220711T161139Z
LAST-MODIFIED:20240305T044306Z
UID:10001048-1683453600-1683456300@staging.srfdfw.org
SUMMARY:Meditation Service
DESCRIPTION:
URL:https://staging.srfdfw.org/calendar/meditation-service-reading-service/2023-05-07/
LOCATION:DFW Meditation Group\, 2011 N. Britain Rd.\, Irving\, TX\, 76051\, United States
ATTACH;FMTTYPE=image/png:https://staging.srfdfw.org/wp-content/uploads/2023/11/meditation.png
GEO:32.8347664;-96.9448622
X-APPLE-STRUCTURED-LOCATION;VALUE=URI;X-ADDRESS=DFW Meditation Group 2011 N. Britain Rd. Irving TX 76051 United States;X-APPLE-RADIUS=500;X-TITLE=2011 N. Britain Rd.:geo:-96.9448622,32.8347664
END:VEVENT
BEGIN:VEVENT
DTSTART;TZID=America/Chicago:20230430T100000
DTEND;TZID=America/Chicago:20230430T104500
DTSTAMP:20260423T153756
CREATED:20220711T161139Z
LAST-MODIFIED:20240305T044306Z
UID:10001047-1682848800-1682851500@staging.srfdfw.org
SUMMARY:Meditation Service
DESCRIPTION:
URL:https://staging.srfdfw.org/calendar/meditation-service-reading-service/2023-04-30/
LOCATION:DFW Meditation Group\, 2011 N. Britain Rd.\, Irving\, TX\, 76051\, United States
ATTACH;FMTTYPE=image/png:https://staging.srfdfw.org/wp-content/uploads/2023/11/meditation.png
GEO:32.8347664;-96.9448622
X-APPLE-STRUCTURED-LOCATION;VALUE=URI;X-ADDRESS=DFW Meditation Group 2011 N. Britain Rd. Irving TX 76051 United States;X-APPLE-RADIUS=500;X-TITLE=2011 N. Britain Rd.:geo:-96.9448622,32.8347664
END:VEVENT
BEGIN:VEVENT
DTSTART;TZID=America/Chicago:20230423T100000
DTEND;TZID=America/Chicago:20230423T104500
DTSTAMP:20260423T153756
CREATED:20220711T161139Z
LAST-MODIFIED:20240305T044306Z
UID:10001046-1682244000-1682246700@staging.srfdfw.org
SUMMARY:Meditation Service
DESCRIPTION:
URL:https://staging.srfdfw.org/calendar/meditation-service-reading-service/2023-04-23/
LOCATION:DFW Meditation Group\, 2011 N. Britain Rd.\, Irving\, TX\, 76051\, United States
ATTACH;FMTTYPE=image/png:https://staging.srfdfw.org/wp-content/uploads/2023/11/meditation.png
GEO:32.8347664;-96.9448622
X-APPLE-STRUCTURED-LOCATION;VALUE=URI;X-ADDRESS=DFW Meditation Group 2011 N. Britain Rd. Irving TX 76051 United States;X-APPLE-RADIUS=500;X-TITLE=2011 N. Britain Rd.:geo:-96.9448622,32.8347664
END:VEVENT
BEGIN:VEVENT
DTSTART;TZID=America/Chicago:20230416T100000
DTEND;TZID=America/Chicago:20230416T104500
DTSTAMP:20260423T153756
CREATED:20220711T161139Z
LAST-MODIFIED:20240305T044306Z
UID:10001045-1681639200-1681641900@staging.srfdfw.org
SUMMARY:Meditation Service
DESCRIPTION:
URL:https://staging.srfdfw.org/calendar/meditation-service-reading-service/2023-04-16/
LOCATION:DFW Meditation Group\, 2011 N. Britain Rd.\, Irving\, TX\, 76051\, United States
ATTACH;FMTTYPE=image/png:https://staging.srfdfw.org/wp-content/uploads/2023/11/meditation.png
GEO:32.8347664;-96.9448622
X-APPLE-STRUCTURED-LOCATION;VALUE=URI;X-ADDRESS=DFW Meditation Group 2011 N. Britain Rd. Irving TX 76051 United States;X-APPLE-RADIUS=500;X-TITLE=2011 N. Britain Rd.:geo:-96.9448622,32.8347664
END:VEVENT
BEGIN:VEVENT
DTSTART;TZID=America/Chicago:20230409T100000
DTEND;TZID=America/Chicago:20230409T104500
DTSTAMP:20260423T153756
CREATED:20220711T161139Z
LAST-MODIFIED:20240305T044306Z
UID:10001044-1681034400-1681037100@staging.srfdfw.org
SUMMARY:Meditation Service
DESCRIPTION:
URL:https://staging.srfdfw.org/calendar/meditation-service-reading-service/2023-04-09/
LOCATION:DFW Meditation Group\, 2011 N. Britain Rd.\, Irving\, TX\, 76051\, United States
ATTACH;FMTTYPE=image/png:https://staging.srfdfw.org/wp-content/uploads/2023/11/meditation.png
GEO:32.8347664;-96.9448622
X-APPLE-STRUCTURED-LOCATION;VALUE=URI;X-ADDRESS=DFW Meditation Group 2011 N. Britain Rd. Irving TX 76051 United States;X-APPLE-RADIUS=500;X-TITLE=2011 N. Britain Rd.:geo:-96.9448622,32.8347664
END:VEVENT
BEGIN:VEVENT
DTSTART;TZID=America/Chicago:20230402T100000
DTEND;TZID=America/Chicago:20230402T104500
DTSTAMP:20260423T153756
CREATED:20220711T161139Z
LAST-MODIFIED:20240305T044306Z
UID:10001043-1680429600-1680432300@staging.srfdfw.org
SUMMARY:Meditation Service
DESCRIPTION:
URL:https://staging.srfdfw.org/calendar/meditation-service-reading-service/2023-04-02/
LOCATION:DFW Meditation Group\, 2011 N. Britain Rd.\, Irving\, TX\, 76051\, United States
ATTACH;FMTTYPE=image/png:https://staging.srfdfw.org/wp-content/uploads/2023/11/meditation.png
GEO:32.8347664;-96.9448622
X-APPLE-STRUCTURED-LOCATION;VALUE=URI;X-ADDRESS=DFW Meditation Group 2011 N. Britain Rd. Irving TX 76051 United States;X-APPLE-RADIUS=500;X-TITLE=2011 N. Britain Rd.:geo:-96.9448622,32.8347664
END:VEVENT
BEGIN:VEVENT
DTSTART;TZID=America/Chicago:20230326T100000
DTEND;TZID=America/Chicago:20230326T104500
DTSTAMP:20260423T153756
CREATED:20220711T161139Z
LAST-MODIFIED:20240305T044306Z
UID:10001042-1679824800-1679827500@staging.srfdfw.org
SUMMARY:Meditation Service
DESCRIPTION:
URL:https://staging.srfdfw.org/calendar/meditation-service-reading-service/2023-03-26/
LOCATION:DFW Meditation Group\, 2011 N. Britain Rd.\, Irving\, TX\, 76051\, United States
ATTACH;FMTTYPE=image/png:https://staging.srfdfw.org/wp-content/uploads/2023/11/meditation.png
GEO:32.8347664;-96.9448622
X-APPLE-STRUCTURED-LOCATION;VALUE=URI;X-ADDRESS=DFW Meditation Group 2011 N. Britain Rd. Irving TX 76051 United States;X-APPLE-RADIUS=500;X-TITLE=2011 N. Britain Rd.:geo:-96.9448622,32.8347664
END:VEVENT
BEGIN:VEVENT
DTSTART;TZID=America/Chicago:20230319T100000
DTEND;TZID=America/Chicago:20230319T104500
DTSTAMP:20260423T153756
CREATED:20220711T161139Z
LAST-MODIFIED:20240305T044306Z
UID:10001041-1679220000-1679222700@staging.srfdfw.org
SUMMARY:Meditation Service
DESCRIPTION:
URL:https://staging.srfdfw.org/calendar/meditation-service-reading-service/2023-03-19/
LOCATION:DFW Meditation Group\, 2011 N. Britain Rd.\, Irving\, TX\, 76051\, United States
ATTACH;FMTTYPE=image/png:https://staging.srfdfw.org/wp-content/uploads/2023/11/meditation.png
GEO:32.8347664;-96.9448622
X-APPLE-STRUCTURED-LOCATION;VALUE=URI;X-ADDRESS=DFW Meditation Group 2011 N. Britain Rd. Irving TX 76051 United States;X-APPLE-RADIUS=500;X-TITLE=2011 N. Britain Rd.:geo:-96.9448622,32.8347664
END:VEVENT
BEGIN:VEVENT
DTSTART;TZID=America/Chicago:20230312T100000
DTEND;TZID=America/Chicago:20230312T104500
DTSTAMP:20260423T153756
CREATED:20220711T161139Z
LAST-MODIFIED:20240305T044306Z
UID:10001040-1678615200-1678617900@staging.srfdfw.org
SUMMARY:Meditation Service
DESCRIPTION:
URL:https://staging.srfdfw.org/calendar/meditation-service-reading-service/2023-03-12/
LOCATION:DFW Meditation Group\, 2011 N. Britain Rd.\, Irving\, TX\, 76051\, United States
ATTACH;FMTTYPE=image/png:https://staging.srfdfw.org/wp-content/uploads/2023/11/meditation.png
GEO:32.8347664;-96.9448622
X-APPLE-STRUCTURED-LOCATION;VALUE=URI;X-ADDRESS=DFW Meditation Group 2011 N. Britain Rd. Irving TX 76051 United States;X-APPLE-RADIUS=500;X-TITLE=2011 N. Britain Rd.:geo:-96.9448622,32.8347664
END:VEVENT
BEGIN:VEVENT
DTSTART;TZID=America/Chicago:20230305T100000
DTEND;TZID=America/Chicago:20230305T104500
DTSTAMP:20260423T153756
CREATED:20220711T161139Z
LAST-MODIFIED:20240305T044306Z
UID:10001039-1678010400-1678013100@staging.srfdfw.org
SUMMARY:Meditation Service
DESCRIPTION:
URL:https://staging.srfdfw.org/calendar/meditation-service-reading-service/2023-03-05/
LOCATION:DFW Meditation Group\, 2011 N. Britain Rd.\, Irving\, TX\, 76051\, United States
ATTACH;FMTTYPE=image/png:https://staging.srfdfw.org/wp-content/uploads/2023/11/meditation.png
GEO:32.8347664;-96.9448622
X-APPLE-STRUCTURED-LOCATION;VALUE=URI;X-ADDRESS=DFW Meditation Group 2011 N. Britain Rd. Irving TX 76051 United States;X-APPLE-RADIUS=500;X-TITLE=2011 N. Britain Rd.:geo:-96.9448622,32.8347664
END:VEVENT
BEGIN:VEVENT
DTSTART;TZID=America/Chicago:20230226T100000
DTEND;TZID=America/Chicago:20230226T104500
DTSTAMP:20260423T153756
CREATED:20220711T161139Z
LAST-MODIFIED:20240305T044306Z
UID:10001038-1677405600-1677408300@staging.srfdfw.org
SUMMARY:Meditation Service
DESCRIPTION:
URL:https://staging.srfdfw.org/calendar/meditation-service-reading-service/2023-02-26/
LOCATION:DFW Meditation Group\, 2011 N. Britain Rd.\, Irving\, TX\, 76051\, United States
ATTACH;FMTTYPE=image/png:https://staging.srfdfw.org/wp-content/uploads/2023/11/meditation.png
GEO:32.8347664;-96.9448622
X-APPLE-STRUCTURED-LOCATION;VALUE=URI;X-ADDRESS=DFW Meditation Group 2011 N. Britain Rd. Irving TX 76051 United States;X-APPLE-RADIUS=500;X-TITLE=2011 N. Britain Rd.:geo:-96.9448622,32.8347664
END:VEVENT
BEGIN:VEVENT
DTSTART;TZID=America/Chicago:20230219T100000
DTEND;TZID=America/Chicago:20230219T104500
DTSTAMP:20260423T153756
CREATED:20220711T161139Z
LAST-MODIFIED:20240305T044306Z
UID:10001037-1676800800-1676803500@staging.srfdfw.org
SUMMARY:Meditation Service
DESCRIPTION:
URL:https://staging.srfdfw.org/calendar/meditation-service-reading-service/2023-02-19/
LOCATION:DFW Meditation Group\, 2011 N. Britain Rd.\, Irving\, TX\, 76051\, United States
ATTACH;FMTTYPE=image/png:https://staging.srfdfw.org/wp-content/uploads/2023/11/meditation.png
GEO:32.8347664;-96.9448622
X-APPLE-STRUCTURED-LOCATION;VALUE=URI;X-ADDRESS=DFW Meditation Group 2011 N. Britain Rd. Irving TX 76051 United States;X-APPLE-RADIUS=500;X-TITLE=2011 N. Britain Rd.:geo:-96.9448622,32.8347664
END:VEVENT
BEGIN:VEVENT
DTSTART;TZID=America/Chicago:20230212T100000
DTEND;TZID=America/Chicago:20230212T104500
DTSTAMP:20260423T153756
CREATED:20220711T161139Z
LAST-MODIFIED:20240305T044306Z
UID:10001036-1676196000-1676198700@staging.srfdfw.org
SUMMARY:Meditation Service
DESCRIPTION:
URL:https://staging.srfdfw.org/calendar/meditation-service-reading-service/2023-02-12/
LOCATION:DFW Meditation Group\, 2011 N. Britain Rd.\, Irving\, TX\, 76051\, United States
ATTACH;FMTTYPE=image/png:https://staging.srfdfw.org/wp-content/uploads/2023/11/meditation.png
GEO:32.8347664;-96.9448622
X-APPLE-STRUCTURED-LOCATION;VALUE=URI;X-ADDRESS=DFW Meditation Group 2011 N. Britain Rd. Irving TX 76051 United States;X-APPLE-RADIUS=500;X-TITLE=2011 N. Britain Rd.:geo:-96.9448622,32.8347664
END:VEVENT
BEGIN:VEVENT
DTSTART;TZID=America/Chicago:20230205T100000
DTEND;TZID=America/Chicago:20230205T104500
DTSTAMP:20260423T153756
CREATED:20220711T161139Z
LAST-MODIFIED:20240305T044306Z
UID:10001035-1675591200-1675593900@staging.srfdfw.org
SUMMARY:Meditation Service
DESCRIPTION:
URL:https://staging.srfdfw.org/calendar/meditation-service-reading-service/2023-02-05/
LOCATION:DFW Meditation Group\, 2011 N. Britain Rd.\, Irving\, TX\, 76051\, United States
ATTACH;FMTTYPE=image/png:https://staging.srfdfw.org/wp-content/uploads/2023/11/meditation.png
GEO:32.8347664;-96.9448622
X-APPLE-STRUCTURED-LOCATION;VALUE=URI;X-ADDRESS=DFW Meditation Group 2011 N. Britain Rd. Irving TX 76051 United States;X-APPLE-RADIUS=500;X-TITLE=2011 N. Britain Rd.:geo:-96.9448622,32.8347664
END:VEVENT
BEGIN:VEVENT
DTSTART;TZID=America/Chicago:20230129T100000
DTEND;TZID=America/Chicago:20230129T104500
DTSTAMP:20260423T153756
CREATED:20220711T161139Z
LAST-MODIFIED:20240305T044306Z
UID:10001034-1674986400-1674989100@staging.srfdfw.org
SUMMARY:Meditation Service
DESCRIPTION:
URL:https://staging.srfdfw.org/calendar/meditation-service-reading-service/2023-01-29/
LOCATION:DFW Meditation Group\, 2011 N. Britain Rd.\, Irving\, TX\, 76051\, United States
ATTACH;FMTTYPE=image/png:https://staging.srfdfw.org/wp-content/uploads/2023/11/meditation.png
GEO:32.8347664;-96.9448622
X-APPLE-STRUCTURED-LOCATION;VALUE=URI;X-ADDRESS=DFW Meditation Group 2011 N. Britain Rd. Irving TX 76051 United States;X-APPLE-RADIUS=500;X-TITLE=2011 N. Britain Rd.:geo:-96.9448622,32.8347664
END:VEVENT
BEGIN:VEVENT
DTSTART;TZID=America/Chicago:20230122T100000
DTEND;TZID=America/Chicago:20230122T104500
DTSTAMP:20260423T153756
CREATED:20220711T161139Z
LAST-MODIFIED:20240305T044306Z
UID:10001033-1674381600-1674384300@staging.srfdfw.org
SUMMARY:Meditation Service
DESCRIPTION:
URL:https://staging.srfdfw.org/calendar/meditation-service-reading-service/2023-01-22/
LOCATION:DFW Meditation Group\, 2011 N. Britain Rd.\, Irving\, TX\, 76051\, United States
ATTACH;FMTTYPE=image/png:https://staging.srfdfw.org/wp-content/uploads/2023/11/meditation.png
GEO:32.8347664;-96.9448622
X-APPLE-STRUCTURED-LOCATION;VALUE=URI;X-ADDRESS=DFW Meditation Group 2011 N. Britain Rd. Irving TX 76051 United States;X-APPLE-RADIUS=500;X-TITLE=2011 N. Britain Rd.:geo:-96.9448622,32.8347664
END:VEVENT
BEGIN:VEVENT
DTSTART;TZID=America/Chicago:20230115T100000
DTEND;TZID=America/Chicago:20230115T104500
DTSTAMP:20260423T153756
CREATED:20220711T161139Z
LAST-MODIFIED:20240305T044306Z
UID:10001032-1673776800-1673779500@staging.srfdfw.org
SUMMARY:Meditation Service
DESCRIPTION:
URL:https://staging.srfdfw.org/calendar/meditation-service-reading-service/2023-01-15/
LOCATION:DFW Meditation Group\, 2011 N. Britain Rd.\, Irving\, TX\, 76051\, United States
ATTACH;FMTTYPE=image/png:https://staging.srfdfw.org/wp-content/uploads/2023/11/meditation.png
GEO:32.8347664;-96.9448622
X-APPLE-STRUCTURED-LOCATION;VALUE=URI;X-ADDRESS=DFW Meditation Group 2011 N. Britain Rd. Irving TX 76051 United States;X-APPLE-RADIUS=500;X-TITLE=2011 N. Britain Rd.:geo:-96.9448622,32.8347664
END:VEVENT
BEGIN:VEVENT
DTSTART;TZID=America/Chicago:20230108T100000
DTEND;TZID=America/Chicago:20230108T104500
DTSTAMP:20260423T153756
CREATED:20220711T161139Z
LAST-MODIFIED:20240305T044306Z
UID:10001031-1673172000-1673174700@staging.srfdfw.org
SUMMARY:Meditation Service
DESCRIPTION:
URL:https://staging.srfdfw.org/calendar/meditation-service-reading-service/2023-01-08/
LOCATION:DFW Meditation Group\, 2011 N. Britain Rd.\, Irving\, TX\, 76051\, United States
ATTACH;FMTTYPE=image/png:https://staging.srfdfw.org/wp-content/uploads/2023/11/meditation.png
GEO:32.8347664;-96.9448622
X-APPLE-STRUCTURED-LOCATION;VALUE=URI;X-ADDRESS=DFW Meditation Group 2011 N. Britain Rd. Irving TX 76051 United States;X-APPLE-RADIUS=500;X-TITLE=2011 N. Britain Rd.:geo:-96.9448622,32.8347664
END:VEVENT
END:VCALENDAR