BEGIN:VCALENDAR
VERSION:2.0
PRODID:-//DFW Meditation Group of SRF - ECPv6.10.1.1//NONSGML v1.0//EN
CALSCALE:GREGORIAN
METHOD:PUBLISH
X-ORIGINAL-URL:https://staging.srfdfw.org
X-WR-CALDESC:Events for DFW Meditation Group of SRF
REFRESH-INTERVAL;VALUE=DURATION:PT1H
X-Robots-Tag:noindex
X-PUBLISHED-TTL:PT1H
BEGIN:VTIMEZONE
TZID:America/Chicago
BEGIN:DAYLIGHT
TZOFFSETFROM:-0600
TZOFFSETTO:-0500
TZNAME:CDT
DTSTART:20280312T080000
END:DAYLIGHT
BEGIN:STANDARD
TZOFFSETFROM:-0500
TZOFFSETTO:-0600
TZNAME:CST
DTSTART:20281105T070000
END:STANDARD
END:VTIMEZONE
BEGIN:VEVENT
DTSTART;TZID=America/Chicago:20280903T110000
DTEND;TZID=America/Chicago:20280903T120000
DTSTAMP:20260423T183258
CREATED:20240304T233900Z
LAST-MODIFIED:20240305T061330Z
UID:10001587-1851591600-1851595200@staging.srfdfw.org
SUMMARY:Readings Service
DESCRIPTION:
URL:https://staging.srfdfw.org/calendar/readings-service/2028-09-03/
LOCATION:DFW Meditation Group\, 2011 N. Britain Rd.\, Irving\, TX\, 76051\, United States
ATTACH;FMTTYPE=image/png:https://staging.srfdfw.org/wp-content/uploads/2024/03/clouds.png
GEO:32.8347664;-96.9448622
X-APPLE-STRUCTURED-LOCATION;VALUE=URI;X-ADDRESS=DFW Meditation Group 2011 N. Britain Rd. Irving TX 76051 United States;X-APPLE-RADIUS=500;X-TITLE=2011 N. Britain Rd.:geo:-96.9448622,32.8347664
END:VEVENT
BEGIN:VEVENT
DTSTART;TZID=America/Chicago:20280906T190000
DTEND;TZID=America/Chicago:20280906T203000
DTSTAMP:20260423T183258
CREATED:20220910T223756Z
LAST-MODIFIED:20240327T212545Z
UID:10000710-1851879600-1851885000@staging.srfdfw.org
SUMMARY:Wednesday Online Meditation
DESCRIPTION:7 pm – 7.15 pm Energization Exercises \n7.20 pm -8.30 Group Meditation with Inspirational-reading\, Chants\, Meditation and Healing Service . \nLink to Join Zoom Meeting: \nhttps://us02web.zoom.us/j/73165306898?pwd=RmZLelBDUWpIT2kvSm9DSWhQVmZKQT09 \nMeeting ID: 731 6530 6898 \nPasscode: 917834
URL:https://staging.srfdfw.org/calendar/wednesday-meditation/2028-09-06/
LOCATION:DFW Meditation Group\, 2011 N. Britain Rd.\, Irving\, TX\, 76051\, United States
ATTACH;FMTTYPE=image/png:https://staging.srfdfw.org/wp-content/uploads/2023/11/meditation.png
GEO:32.8347664;-96.9448622
X-APPLE-STRUCTURED-LOCATION;VALUE=URI;X-ADDRESS=DFW Meditation Group 2011 N. Britain Rd. Irving TX 76051 United States;X-APPLE-RADIUS=500;X-TITLE=2011 N. Britain Rd.:geo:-96.9448622,32.8347664
END:VEVENT
BEGIN:VEVENT
DTSTART;TZID=America/Chicago:20280909T090000
DTEND;TZID=America/Chicago:20280909T120000
DTSTAMP:20260423T183258
CREATED:20231102T162046Z
LAST-MODIFIED:20240305T044125Z
UID:10000987-1852102800-1852113600@staging.srfdfw.org
SUMMARY:3 Hour Meditation
DESCRIPTION:The service will include a prayer and short inspirational reading to begin. Then there will be a chant on hours 10 and 11. The service will end with a Prayer Service which includes the healing technique taught by our Guru. \nPlease enter and exit on the hour during chants.
URL:https://staging.srfdfw.org/calendar/saturday-3-hour-meditation-2/2028-09-09/
LOCATION:2011 North Britain Road\, Irving\, TX\, 2011 N. Britain Rd.\, Irving\, TX\, 76051\, United States
ATTACH;FMTTYPE=image/png:https://staging.srfdfw.org/wp-content/uploads/2023/11/meditation.png
ORGANIZER;CN="DFW-SRF Meditation Group":MAILTO:connect@srfdallasfortworth.org
END:VEVENT
BEGIN:VEVENT
DTSTART;TZID=America/Chicago:20280910T100000
DTEND;TZID=America/Chicago:20280910T104500
DTSTAMP:20260423T183258
CREATED:20220711T161139Z
LAST-MODIFIED:20240305T044306Z
UID:10001327-1852192800-1852195500@staging.srfdfw.org
SUMMARY:Meditation Service
DESCRIPTION:
URL:https://staging.srfdfw.org/calendar/meditation-service-reading-service/2028-09-10/
LOCATION:DFW Meditation Group\, 2011 N. Britain Rd.\, Irving\, TX\, 76051\, United States
ATTACH;FMTTYPE=image/png:https://staging.srfdfw.org/wp-content/uploads/2023/11/meditation.png
GEO:32.8347664;-96.9448622
X-APPLE-STRUCTURED-LOCATION;VALUE=URI;X-ADDRESS=DFW Meditation Group 2011 N. Britain Rd. Irving TX 76051 United States;X-APPLE-RADIUS=500;X-TITLE=2011 N. Britain Rd.:geo:-96.9448622,32.8347664
END:VEVENT
BEGIN:VEVENT
DTSTART;TZID=America/Chicago:20280910T110000
DTEND;TZID=America/Chicago:20280910T120000
DTSTAMP:20260423T183258
CREATED:20221207T164922Z
LAST-MODIFIED:20240305T044557Z
UID:10001849-1852196400-1852200000@staging.srfdfw.org
SUMMARY:Sunday School
DESCRIPTION:
URL:https://staging.srfdfw.org/calendar/sunday-school-1100-am/2028-09-10/
LOCATION:2011 North Britain Road\, Irving\, TX\, 2011 N. Britain Rd.\, Irving\, TX\, 76051\, United States
ATTACH;FMTTYPE=image/png:https://staging.srfdfw.org/wp-content/uploads/2022/12/child-meditating.png
ORGANIZER;CN="DFW-SRF Meditation Group":MAILTO:connect@srfdallasfortworth.org
END:VEVENT
BEGIN:VEVENT
DTSTART;TZID=America/Chicago:20280910T110000
DTEND;TZID=America/Chicago:20280910T120000
DTSTAMP:20260423T183258
CREATED:20240304T233900Z
LAST-MODIFIED:20240305T061330Z
UID:10001588-1852196400-1852200000@staging.srfdfw.org
SUMMARY:Readings Service
DESCRIPTION:
URL:https://staging.srfdfw.org/calendar/readings-service/2028-09-10/
LOCATION:DFW Meditation Group\, 2011 N. Britain Rd.\, Irving\, TX\, 76051\, United States
ATTACH;FMTTYPE=image/png:https://staging.srfdfw.org/wp-content/uploads/2024/03/clouds.png
GEO:32.8347664;-96.9448622
X-APPLE-STRUCTURED-LOCATION;VALUE=URI;X-ADDRESS=DFW Meditation Group 2011 N. Britain Rd. Irving TX 76051 United States;X-APPLE-RADIUS=500;X-TITLE=2011 N. Britain Rd.:geo:-96.9448622,32.8347664
END:VEVENT
BEGIN:VEVENT
DTSTART;TZID=America/Chicago:20280913T190000
DTEND;TZID=America/Chicago:20280913T203000
DTSTAMP:20260423T183258
CREATED:20220910T223756Z
LAST-MODIFIED:20240327T212545Z
UID:10000711-1852484400-1852489800@staging.srfdfw.org
SUMMARY:Wednesday Online Meditation
DESCRIPTION:7 pm – 7.15 pm Energization Exercises \n7.20 pm -8.30 Group Meditation with Inspirational-reading\, Chants\, Meditation and Healing Service . \nLink to Join Zoom Meeting: \nhttps://us02web.zoom.us/j/73165306898?pwd=RmZLelBDUWpIT2kvSm9DSWhQVmZKQT09 \nMeeting ID: 731 6530 6898 \nPasscode: 917834
URL:https://staging.srfdfw.org/calendar/wednesday-meditation/2028-09-13/
LOCATION:DFW Meditation Group\, 2011 N. Britain Rd.\, Irving\, TX\, 76051\, United States
ATTACH;FMTTYPE=image/png:https://staging.srfdfw.org/wp-content/uploads/2023/11/meditation.png
GEO:32.8347664;-96.9448622
X-APPLE-STRUCTURED-LOCATION;VALUE=URI;X-ADDRESS=DFW Meditation Group 2011 N. Britain Rd. Irving TX 76051 United States;X-APPLE-RADIUS=500;X-TITLE=2011 N. Britain Rd.:geo:-96.9448622,32.8347664
END:VEVENT
BEGIN:VEVENT
DTSTART;TZID=America/Chicago:20280916T090000
DTEND;TZID=America/Chicago:20280916T120000
DTSTAMP:20260423T183258
CREATED:20231102T162046Z
LAST-MODIFIED:20240305T044125Z
UID:10000988-1852707600-1852718400@staging.srfdfw.org
SUMMARY:3 Hour Meditation
DESCRIPTION:The service will include a prayer and short inspirational reading to begin. Then there will be a chant on hours 10 and 11. The service will end with a Prayer Service which includes the healing technique taught by our Guru. \nPlease enter and exit on the hour during chants.
URL:https://staging.srfdfw.org/calendar/saturday-3-hour-meditation-2/2028-09-16/
LOCATION:2011 North Britain Road\, Irving\, TX\, 2011 N. Britain Rd.\, Irving\, TX\, 76051\, United States
ATTACH;FMTTYPE=image/png:https://staging.srfdfw.org/wp-content/uploads/2023/11/meditation.png
ORGANIZER;CN="DFW-SRF Meditation Group":MAILTO:connect@srfdallasfortworth.org
END:VEVENT
BEGIN:VEVENT
DTSTART;TZID=America/Chicago:20280917T100000
DTEND;TZID=America/Chicago:20280917T104500
DTSTAMP:20260423T183258
CREATED:20220711T161139Z
LAST-MODIFIED:20240305T044306Z
UID:10001328-1852797600-1852800300@staging.srfdfw.org
SUMMARY:Meditation Service
DESCRIPTION:
URL:https://staging.srfdfw.org/calendar/meditation-service-reading-service/2028-09-17/
LOCATION:DFW Meditation Group\, 2011 N. Britain Rd.\, Irving\, TX\, 76051\, United States
ATTACH;FMTTYPE=image/png:https://staging.srfdfw.org/wp-content/uploads/2023/11/meditation.png
GEO:32.8347664;-96.9448622
X-APPLE-STRUCTURED-LOCATION;VALUE=URI;X-ADDRESS=DFW Meditation Group 2011 N. Britain Rd. Irving TX 76051 United States;X-APPLE-RADIUS=500;X-TITLE=2011 N. Britain Rd.:geo:-96.9448622,32.8347664
END:VEVENT
BEGIN:VEVENT
DTSTART;TZID=America/Chicago:20280917T110000
DTEND;TZID=America/Chicago:20280917T120000
DTSTAMP:20260423T183258
CREATED:20221207T164922Z
LAST-MODIFIED:20240305T044557Z
UID:10001850-1852801200-1852804800@staging.srfdfw.org
SUMMARY:Sunday School
DESCRIPTION:
URL:https://staging.srfdfw.org/calendar/sunday-school-1100-am/2028-09-17/
LOCATION:2011 North Britain Road\, Irving\, TX\, 2011 N. Britain Rd.\, Irving\, TX\, 76051\, United States
ATTACH;FMTTYPE=image/png:https://staging.srfdfw.org/wp-content/uploads/2022/12/child-meditating.png
ORGANIZER;CN="DFW-SRF Meditation Group":MAILTO:connect@srfdallasfortworth.org
END:VEVENT
BEGIN:VEVENT
DTSTART;TZID=America/Chicago:20280917T110000
DTEND;TZID=America/Chicago:20280917T120000
DTSTAMP:20260423T183258
CREATED:20240304T233900Z
LAST-MODIFIED:20240305T061330Z
UID:10001589-1852801200-1852804800@staging.srfdfw.org
SUMMARY:Readings Service
DESCRIPTION:
URL:https://staging.srfdfw.org/calendar/readings-service/2028-09-17/
LOCATION:DFW Meditation Group\, 2011 N. Britain Rd.\, Irving\, TX\, 76051\, United States
ATTACH;FMTTYPE=image/png:https://staging.srfdfw.org/wp-content/uploads/2024/03/clouds.png
GEO:32.8347664;-96.9448622
X-APPLE-STRUCTURED-LOCATION;VALUE=URI;X-ADDRESS=DFW Meditation Group 2011 N. Britain Rd. Irving TX 76051 United States;X-APPLE-RADIUS=500;X-TITLE=2011 N. Britain Rd.:geo:-96.9448622,32.8347664
END:VEVENT
BEGIN:VEVENT
DTSTART;TZID=America/Chicago:20280920T190000
DTEND;TZID=America/Chicago:20280920T203000
DTSTAMP:20260423T183258
CREATED:20220910T223756Z
LAST-MODIFIED:20240327T212545Z
UID:10000712-1853089200-1853094600@staging.srfdfw.org
SUMMARY:Wednesday Online Meditation
DESCRIPTION:7 pm – 7.15 pm Energization Exercises \n7.20 pm -8.30 Group Meditation with Inspirational-reading\, Chants\, Meditation and Healing Service . \nLink to Join Zoom Meeting: \nhttps://us02web.zoom.us/j/73165306898?pwd=RmZLelBDUWpIT2kvSm9DSWhQVmZKQT09 \nMeeting ID: 731 6530 6898 \nPasscode: 917834
URL:https://staging.srfdfw.org/calendar/wednesday-meditation/2028-09-20/
LOCATION:DFW Meditation Group\, 2011 N. Britain Rd.\, Irving\, TX\, 76051\, United States
ATTACH;FMTTYPE=image/png:https://staging.srfdfw.org/wp-content/uploads/2023/11/meditation.png
GEO:32.8347664;-96.9448622
X-APPLE-STRUCTURED-LOCATION;VALUE=URI;X-ADDRESS=DFW Meditation Group 2011 N. Britain Rd. Irving TX 76051 United States;X-APPLE-RADIUS=500;X-TITLE=2011 N. Britain Rd.:geo:-96.9448622,32.8347664
END:VEVENT
BEGIN:VEVENT
DTSTART;TZID=America/Chicago:20280923T090000
DTEND;TZID=America/Chicago:20280923T120000
DTSTAMP:20260423T183258
CREATED:20231102T162046Z
LAST-MODIFIED:20240305T044125Z
UID:10000989-1853312400-1853323200@staging.srfdfw.org
SUMMARY:3 Hour Meditation
DESCRIPTION:The service will include a prayer and short inspirational reading to begin. Then there will be a chant on hours 10 and 11. The service will end with a Prayer Service which includes the healing technique taught by our Guru. \nPlease enter and exit on the hour during chants.
URL:https://staging.srfdfw.org/calendar/saturday-3-hour-meditation-2/2028-09-23/
LOCATION:2011 North Britain Road\, Irving\, TX\, 2011 N. Britain Rd.\, Irving\, TX\, 76051\, United States
ATTACH;FMTTYPE=image/png:https://staging.srfdfw.org/wp-content/uploads/2023/11/meditation.png
ORGANIZER;CN="DFW-SRF Meditation Group":MAILTO:connect@srfdallasfortworth.org
END:VEVENT
BEGIN:VEVENT
DTSTART;TZID=America/Chicago:20280924T100000
DTEND;TZID=America/Chicago:20280924T104500
DTSTAMP:20260423T183258
CREATED:20220711T161139Z
LAST-MODIFIED:20240305T044306Z
UID:10001329-1853402400-1853405100@staging.srfdfw.org
SUMMARY:Meditation Service
DESCRIPTION:
URL:https://staging.srfdfw.org/calendar/meditation-service-reading-service/2028-09-24/
LOCATION:DFW Meditation Group\, 2011 N. Britain Rd.\, Irving\, TX\, 76051\, United States
ATTACH;FMTTYPE=image/png:https://staging.srfdfw.org/wp-content/uploads/2023/11/meditation.png
GEO:32.8347664;-96.9448622
X-APPLE-STRUCTURED-LOCATION;VALUE=URI;X-ADDRESS=DFW Meditation Group 2011 N. Britain Rd. Irving TX 76051 United States;X-APPLE-RADIUS=500;X-TITLE=2011 N. Britain Rd.:geo:-96.9448622,32.8347664
END:VEVENT
BEGIN:VEVENT
DTSTART;TZID=America/Chicago:20280924T110000
DTEND;TZID=America/Chicago:20280924T120000
DTSTAMP:20260423T183258
CREATED:20221207T164922Z
LAST-MODIFIED:20240305T044557Z
UID:10001851-1853406000-1853409600@staging.srfdfw.org
SUMMARY:Sunday School
DESCRIPTION:
URL:https://staging.srfdfw.org/calendar/sunday-school-1100-am/2028-09-24/
LOCATION:2011 North Britain Road\, Irving\, TX\, 2011 N. Britain Rd.\, Irving\, TX\, 76051\, United States
ATTACH;FMTTYPE=image/png:https://staging.srfdfw.org/wp-content/uploads/2022/12/child-meditating.png
ORGANIZER;CN="DFW-SRF Meditation Group":MAILTO:connect@srfdallasfortworth.org
END:VEVENT
BEGIN:VEVENT
DTSTART;TZID=America/Chicago:20280924T110000
DTEND;TZID=America/Chicago:20280924T120000
DTSTAMP:20260423T183258
CREATED:20240304T233900Z
LAST-MODIFIED:20240305T061330Z
UID:10001590-1853406000-1853409600@staging.srfdfw.org
SUMMARY:Readings Service
DESCRIPTION:
URL:https://staging.srfdfw.org/calendar/readings-service/2028-09-24/
LOCATION:DFW Meditation Group\, 2011 N. Britain Rd.\, Irving\, TX\, 76051\, United States
ATTACH;FMTTYPE=image/png:https://staging.srfdfw.org/wp-content/uploads/2024/03/clouds.png
GEO:32.8347664;-96.9448622
X-APPLE-STRUCTURED-LOCATION;VALUE=URI;X-ADDRESS=DFW Meditation Group 2011 N. Britain Rd. Irving TX 76051 United States;X-APPLE-RADIUS=500;X-TITLE=2011 N. Britain Rd.:geo:-96.9448622,32.8347664
END:VEVENT
BEGIN:VEVENT
DTSTART;TZID=America/Chicago:20280927T190000
DTEND;TZID=America/Chicago:20280927T203000
DTSTAMP:20260423T183258
CREATED:20220910T223756Z
LAST-MODIFIED:20240327T212545Z
UID:10000713-1853694000-1853699400@staging.srfdfw.org
SUMMARY:Wednesday Online Meditation
DESCRIPTION:7 pm – 7.15 pm Energization Exercises \n7.20 pm -8.30 Group Meditation with Inspirational-reading\, Chants\, Meditation and Healing Service . \nLink to Join Zoom Meeting: \nhttps://us02web.zoom.us/j/73165306898?pwd=RmZLelBDUWpIT2kvSm9DSWhQVmZKQT09 \nMeeting ID: 731 6530 6898 \nPasscode: 917834
URL:https://staging.srfdfw.org/calendar/wednesday-meditation/2028-09-27/
LOCATION:DFW Meditation Group\, 2011 N. Britain Rd.\, Irving\, TX\, 76051\, United States
ATTACH;FMTTYPE=image/png:https://staging.srfdfw.org/wp-content/uploads/2023/11/meditation.png
GEO:32.8347664;-96.9448622
X-APPLE-STRUCTURED-LOCATION;VALUE=URI;X-ADDRESS=DFW Meditation Group 2011 N. Britain Rd. Irving TX 76051 United States;X-APPLE-RADIUS=500;X-TITLE=2011 N. Britain Rd.:geo:-96.9448622,32.8347664
END:VEVENT
BEGIN:VEVENT
DTSTART;TZID=America/Chicago:20280930T090000
DTEND;TZID=America/Chicago:20280930T120000
DTSTAMP:20260423T183258
CREATED:20231102T162046Z
LAST-MODIFIED:20240305T044125Z
UID:10000990-1853917200-1853928000@staging.srfdfw.org
SUMMARY:3 Hour Meditation
DESCRIPTION:The service will include a prayer and short inspirational reading to begin. Then there will be a chant on hours 10 and 11. The service will end with a Prayer Service which includes the healing technique taught by our Guru. \nPlease enter and exit on the hour during chants.
URL:https://staging.srfdfw.org/calendar/saturday-3-hour-meditation-2/2028-09-30/
LOCATION:2011 North Britain Road\, Irving\, TX\, 2011 N. Britain Rd.\, Irving\, TX\, 76051\, United States
ATTACH;FMTTYPE=image/png:https://staging.srfdfw.org/wp-content/uploads/2023/11/meditation.png
ORGANIZER;CN="DFW-SRF Meditation Group":MAILTO:connect@srfdallasfortworth.org
END:VEVENT
BEGIN:VEVENT
DTSTART;TZID=America/Chicago:20281001T100000
DTEND;TZID=America/Chicago:20281001T104500
DTSTAMP:20260423T183258
CREATED:20220711T161139Z
LAST-MODIFIED:20240305T044306Z
UID:10001330-1854007200-1854009900@staging.srfdfw.org
SUMMARY:Meditation Service
DESCRIPTION:
URL:https://staging.srfdfw.org/calendar/meditation-service-reading-service/2028-10-01/
LOCATION:DFW Meditation Group\, 2011 N. Britain Rd.\, Irving\, TX\, 76051\, United States
ATTACH;FMTTYPE=image/png:https://staging.srfdfw.org/wp-content/uploads/2023/11/meditation.png
GEO:32.8347664;-96.9448622
X-APPLE-STRUCTURED-LOCATION;VALUE=URI;X-ADDRESS=DFW Meditation Group 2011 N. Britain Rd. Irving TX 76051 United States;X-APPLE-RADIUS=500;X-TITLE=2011 N. Britain Rd.:geo:-96.9448622,32.8347664
END:VEVENT
BEGIN:VEVENT
DTSTART;TZID=America/Chicago:20281001T110000
DTEND;TZID=America/Chicago:20281001T120000
DTSTAMP:20260423T183258
CREATED:20221207T164922Z
LAST-MODIFIED:20240305T044557Z
UID:10001852-1854010800-1854014400@staging.srfdfw.org
SUMMARY:Sunday School
DESCRIPTION:
URL:https://staging.srfdfw.org/calendar/sunday-school-1100-am/2028-10-01/
LOCATION:2011 North Britain Road\, Irving\, TX\, 2011 N. Britain Rd.\, Irving\, TX\, 76051\, United States
ATTACH;FMTTYPE=image/png:https://staging.srfdfw.org/wp-content/uploads/2022/12/child-meditating.png
ORGANIZER;CN="DFW-SRF Meditation Group":MAILTO:connect@srfdallasfortworth.org
END:VEVENT
BEGIN:VEVENT
DTSTART;TZID=America/Chicago:20281001T110000
DTEND;TZID=America/Chicago:20281001T120000
DTSTAMP:20260423T183258
CREATED:20240304T233900Z
LAST-MODIFIED:20240305T061330Z
UID:10001591-1854010800-1854014400@staging.srfdfw.org
SUMMARY:Readings Service
DESCRIPTION:
URL:https://staging.srfdfw.org/calendar/readings-service/2028-10-01/
LOCATION:DFW Meditation Group\, 2011 N. Britain Rd.\, Irving\, TX\, 76051\, United States
ATTACH;FMTTYPE=image/png:https://staging.srfdfw.org/wp-content/uploads/2024/03/clouds.png
GEO:32.8347664;-96.9448622
X-APPLE-STRUCTURED-LOCATION;VALUE=URI;X-ADDRESS=DFW Meditation Group 2011 N. Britain Rd. Irving TX 76051 United States;X-APPLE-RADIUS=500;X-TITLE=2011 N. Britain Rd.:geo:-96.9448622,32.8347664
END:VEVENT
BEGIN:VEVENT
DTSTART;TZID=America/Chicago:20281004T190000
DTEND;TZID=America/Chicago:20281004T203000
DTSTAMP:20260423T183258
CREATED:20220910T223756Z
LAST-MODIFIED:20240327T212545Z
UID:10000714-1854298800-1854304200@staging.srfdfw.org
SUMMARY:Wednesday Online Meditation
DESCRIPTION:7 pm – 7.15 pm Energization Exercises \n7.20 pm -8.30 Group Meditation with Inspirational-reading\, Chants\, Meditation and Healing Service . \nLink to Join Zoom Meeting: \nhttps://us02web.zoom.us/j/73165306898?pwd=RmZLelBDUWpIT2kvSm9DSWhQVmZKQT09 \nMeeting ID: 731 6530 6898 \nPasscode: 917834
URL:https://staging.srfdfw.org/calendar/wednesday-meditation/2028-10-04/
LOCATION:DFW Meditation Group\, 2011 N. Britain Rd.\, Irving\, TX\, 76051\, United States
ATTACH;FMTTYPE=image/png:https://staging.srfdfw.org/wp-content/uploads/2023/11/meditation.png
GEO:32.8347664;-96.9448622
X-APPLE-STRUCTURED-LOCATION;VALUE=URI;X-ADDRESS=DFW Meditation Group 2011 N. Britain Rd. Irving TX 76051 United States;X-APPLE-RADIUS=500;X-TITLE=2011 N. Britain Rd.:geo:-96.9448622,32.8347664
END:VEVENT
BEGIN:VEVENT
DTSTART;TZID=America/Chicago:20281007T090000
DTEND;TZID=America/Chicago:20281007T120000
DTSTAMP:20260423T183258
CREATED:20231102T162046Z
LAST-MODIFIED:20240305T044125Z
UID:10000991-1854522000-1854532800@staging.srfdfw.org
SUMMARY:3 Hour Meditation
DESCRIPTION:The service will include a prayer and short inspirational reading to begin. Then there will be a chant on hours 10 and 11. The service will end with a Prayer Service which includes the healing technique taught by our Guru. \nPlease enter and exit on the hour during chants.
URL:https://staging.srfdfw.org/calendar/saturday-3-hour-meditation-2/2028-10-07/
LOCATION:2011 North Britain Road\, Irving\, TX\, 2011 N. Britain Rd.\, Irving\, TX\, 76051\, United States
ATTACH;FMTTYPE=image/png:https://staging.srfdfw.org/wp-content/uploads/2023/11/meditation.png
ORGANIZER;CN="DFW-SRF Meditation Group":MAILTO:connect@srfdallasfortworth.org
END:VEVENT
BEGIN:VEVENT
DTSTART;TZID=America/Chicago:20281008T100000
DTEND;TZID=America/Chicago:20281008T104500
DTSTAMP:20260423T183258
CREATED:20220711T161139Z
LAST-MODIFIED:20240305T044306Z
UID:10001331-1854612000-1854614700@staging.srfdfw.org
SUMMARY:Meditation Service
DESCRIPTION:
URL:https://staging.srfdfw.org/calendar/meditation-service-reading-service/2028-10-08/
LOCATION:DFW Meditation Group\, 2011 N. Britain Rd.\, Irving\, TX\, 76051\, United States
ATTACH;FMTTYPE=image/png:https://staging.srfdfw.org/wp-content/uploads/2023/11/meditation.png
GEO:32.8347664;-96.9448622
X-APPLE-STRUCTURED-LOCATION;VALUE=URI;X-ADDRESS=DFW Meditation Group 2011 N. Britain Rd. Irving TX 76051 United States;X-APPLE-RADIUS=500;X-TITLE=2011 N. Britain Rd.:geo:-96.9448622,32.8347664
END:VEVENT
BEGIN:VEVENT
DTSTART;TZID=America/Chicago:20281008T110000
DTEND;TZID=America/Chicago:20281008T120000
DTSTAMP:20260423T183258
CREATED:20221207T164922Z
LAST-MODIFIED:20240305T044557Z
UID:10001853-1854615600-1854619200@staging.srfdfw.org
SUMMARY:Sunday School
DESCRIPTION:
URL:https://staging.srfdfw.org/calendar/sunday-school-1100-am/2028-10-08/
LOCATION:2011 North Britain Road\, Irving\, TX\, 2011 N. Britain Rd.\, Irving\, TX\, 76051\, United States
ATTACH;FMTTYPE=image/png:https://staging.srfdfw.org/wp-content/uploads/2022/12/child-meditating.png
ORGANIZER;CN="DFW-SRF Meditation Group":MAILTO:connect@srfdallasfortworth.org
END:VEVENT
BEGIN:VEVENT
DTSTART;TZID=America/Chicago:20281008T110000
DTEND;TZID=America/Chicago:20281008T120000
DTSTAMP:20260423T183258
CREATED:20240304T233900Z
LAST-MODIFIED:20240305T061330Z
UID:10001592-1854615600-1854619200@staging.srfdfw.org
SUMMARY:Readings Service
DESCRIPTION:
URL:https://staging.srfdfw.org/calendar/readings-service/2028-10-08/
LOCATION:DFW Meditation Group\, 2011 N. Britain Rd.\, Irving\, TX\, 76051\, United States
ATTACH;FMTTYPE=image/png:https://staging.srfdfw.org/wp-content/uploads/2024/03/clouds.png
GEO:32.8347664;-96.9448622
X-APPLE-STRUCTURED-LOCATION;VALUE=URI;X-ADDRESS=DFW Meditation Group 2011 N. Britain Rd. Irving TX 76051 United States;X-APPLE-RADIUS=500;X-TITLE=2011 N. Britain Rd.:geo:-96.9448622,32.8347664
END:VEVENT
BEGIN:VEVENT
DTSTART;TZID=America/Chicago:20281011T190000
DTEND;TZID=America/Chicago:20281011T203000
DTSTAMP:20260423T183258
CREATED:20220910T223756Z
LAST-MODIFIED:20240327T212545Z
UID:10000715-1854903600-1854909000@staging.srfdfw.org
SUMMARY:Wednesday Online Meditation
DESCRIPTION:7 pm – 7.15 pm Energization Exercises \n7.20 pm -8.30 Group Meditation with Inspirational-reading\, Chants\, Meditation and Healing Service . \nLink to Join Zoom Meeting: \nhttps://us02web.zoom.us/j/73165306898?pwd=RmZLelBDUWpIT2kvSm9DSWhQVmZKQT09 \nMeeting ID: 731 6530 6898 \nPasscode: 917834
URL:https://staging.srfdfw.org/calendar/wednesday-meditation/2028-10-11/
LOCATION:DFW Meditation Group\, 2011 N. Britain Rd.\, Irving\, TX\, 76051\, United States
ATTACH;FMTTYPE=image/png:https://staging.srfdfw.org/wp-content/uploads/2023/11/meditation.png
GEO:32.8347664;-96.9448622
X-APPLE-STRUCTURED-LOCATION;VALUE=URI;X-ADDRESS=DFW Meditation Group 2011 N. Britain Rd. Irving TX 76051 United States;X-APPLE-RADIUS=500;X-TITLE=2011 N. Britain Rd.:geo:-96.9448622,32.8347664
END:VEVENT
BEGIN:VEVENT
DTSTART;TZID=America/Chicago:20281014T090000
DTEND;TZID=America/Chicago:20281014T120000
DTSTAMP:20260423T183258
CREATED:20231102T162046Z
LAST-MODIFIED:20240305T044125Z
UID:10000992-1855126800-1855137600@staging.srfdfw.org
SUMMARY:3 Hour Meditation
DESCRIPTION:The service will include a prayer and short inspirational reading to begin. Then there will be a chant on hours 10 and 11. The service will end with a Prayer Service which includes the healing technique taught by our Guru. \nPlease enter and exit on the hour during chants.
URL:https://staging.srfdfw.org/calendar/saturday-3-hour-meditation-2/2028-10-14/
LOCATION:2011 North Britain Road\, Irving\, TX\, 2011 N. Britain Rd.\, Irving\, TX\, 76051\, United States
ATTACH;FMTTYPE=image/png:https://staging.srfdfw.org/wp-content/uploads/2023/11/meditation.png
ORGANIZER;CN="DFW-SRF Meditation Group":MAILTO:connect@srfdallasfortworth.org
END:VEVENT
BEGIN:VEVENT
DTSTART;TZID=America/Chicago:20281015T100000
DTEND;TZID=America/Chicago:20281015T104500
DTSTAMP:20260423T183258
CREATED:20220711T161139Z
LAST-MODIFIED:20240305T044306Z
UID:10001332-1855216800-1855219500@staging.srfdfw.org
SUMMARY:Meditation Service
DESCRIPTION:
URL:https://staging.srfdfw.org/calendar/meditation-service-reading-service/2028-10-15/
LOCATION:DFW Meditation Group\, 2011 N. Britain Rd.\, Irving\, TX\, 76051\, United States
ATTACH;FMTTYPE=image/png:https://staging.srfdfw.org/wp-content/uploads/2023/11/meditation.png
GEO:32.8347664;-96.9448622
X-APPLE-STRUCTURED-LOCATION;VALUE=URI;X-ADDRESS=DFW Meditation Group 2011 N. Britain Rd. Irving TX 76051 United States;X-APPLE-RADIUS=500;X-TITLE=2011 N. Britain Rd.:geo:-96.9448622,32.8347664
END:VEVENT
BEGIN:VEVENT
DTSTART;TZID=America/Chicago:20281015T110000
DTEND;TZID=America/Chicago:20281015T120000
DTSTAMP:20260423T183258
CREATED:20221207T164922Z
LAST-MODIFIED:20240305T044557Z
UID:10001854-1855220400-1855224000@staging.srfdfw.org
SUMMARY:Sunday School
DESCRIPTION:
URL:https://staging.srfdfw.org/calendar/sunday-school-1100-am/2028-10-15/
LOCATION:2011 North Britain Road\, Irving\, TX\, 2011 N. Britain Rd.\, Irving\, TX\, 76051\, United States
ATTACH;FMTTYPE=image/png:https://staging.srfdfw.org/wp-content/uploads/2022/12/child-meditating.png
ORGANIZER;CN="DFW-SRF Meditation Group":MAILTO:connect@srfdallasfortworth.org
END:VEVENT
END:VCALENDAR