BEGIN:VCALENDAR
VERSION:2.0
PRODID:-//DFW Meditation Group of SRF - ECPv6.10.1.1//NONSGML v1.0//EN
CALSCALE:GREGORIAN
METHOD:PUBLISH
X-WR-CALNAME:DFW Meditation Group of SRF
X-ORIGINAL-URL:https://staging.srfdfw.org
X-WR-CALDESC:Events for DFW Meditation Group of SRF
REFRESH-INTERVAL;VALUE=DURATION:PT1H
X-Robots-Tag:noindex
X-PUBLISHED-TTL:PT1H
BEGIN:VTIMEZONE
TZID:America/Chicago
BEGIN:DAYLIGHT
TZOFFSETFROM:-0600
TZOFFSETTO:-0500
TZNAME:CDT
DTSTART:20260308T080000
END:DAYLIGHT
BEGIN:STANDARD
TZOFFSETFROM:-0500
TZOFFSETTO:-0600
TZNAME:CST
DTSTART:20261101T070000
END:STANDARD
END:VTIMEZONE
BEGIN:VEVENT
DTSTART;TZID=America/Chicago:20260809T110000
DTEND;TZID=America/Chicago:20260809T120000
DTSTAMP:20260420T131548
CREATED:20240304T233900Z
LAST-MODIFIED:20240305T061330Z
UID:10001479-1786273200-1786276800@staging.srfdfw.org
SUMMARY:Readings Service
DESCRIPTION:
URL:https://staging.srfdfw.org/calendar/readings-service/2026-08-09/
LOCATION:DFW Meditation Group\, 2011 N. Britain Rd.\, Irving\, TX\, 76051\, United States
ATTACH;FMTTYPE=image/png:https://staging.srfdfw.org/wp-content/uploads/2024/03/clouds.png
GEO:32.8347664;-96.9448622
X-APPLE-STRUCTURED-LOCATION;VALUE=URI;X-ADDRESS=DFW Meditation Group 2011 N. Britain Rd. Irving TX 76051 United States;X-APPLE-RADIUS=500;X-TITLE=2011 N. Britain Rd.:geo:-96.9448622,32.8347664
END:VEVENT
BEGIN:VEVENT
DTSTART;TZID=America/Chicago:20260812T190000
DTEND;TZID=America/Chicago:20260812T203000
DTSTAMP:20260420T131548
CREATED:20220910T223756Z
LAST-MODIFIED:20240327T212545Z
UID:10000602-1786561200-1786566600@staging.srfdfw.org
SUMMARY:Wednesday Online Meditation
DESCRIPTION:7 pm – 7.15 pm Energization Exercises \n7.20 pm -8.30 Group Meditation with Inspirational-reading\, Chants\, Meditation and Healing Service . \nLink to Join Zoom Meeting: \nhttps://us02web.zoom.us/j/73165306898?pwd=RmZLelBDUWpIT2kvSm9DSWhQVmZKQT09 \nMeeting ID: 731 6530 6898 \nPasscode: 917834
URL:https://staging.srfdfw.org/calendar/wednesday-meditation/2026-08-12/
LOCATION:DFW Meditation Group\, 2011 N. Britain Rd.\, Irving\, TX\, 76051\, United States
ATTACH;FMTTYPE=image/png:https://staging.srfdfw.org/wp-content/uploads/2023/11/meditation.png
GEO:32.8347664;-96.9448622
X-APPLE-STRUCTURED-LOCATION;VALUE=URI;X-ADDRESS=DFW Meditation Group 2011 N. Britain Rd. Irving TX 76051 United States;X-APPLE-RADIUS=500;X-TITLE=2011 N. Britain Rd.:geo:-96.9448622,32.8347664
END:VEVENT
BEGIN:VEVENT
DTSTART;TZID=America/Chicago:20260815T090000
DTEND;TZID=America/Chicago:20260815T120000
DTSTAMP:20260420T131548
CREATED:20231102T162046Z
LAST-MODIFIED:20240305T044125Z
UID:10000879-1786784400-1786795200@staging.srfdfw.org
SUMMARY:3 Hour Meditation
DESCRIPTION:The service will include a prayer and short inspirational reading to begin. Then there will be a chant on hours 10 and 11. The service will end with a Prayer Service which includes the healing technique taught by our Guru. \nPlease enter and exit on the hour during chants.
URL:https://staging.srfdfw.org/calendar/saturday-3-hour-meditation-2/2026-08-15/
LOCATION:2011 North Britain Road\, Irving\, TX\, 2011 N. Britain Rd.\, Irving\, TX\, 76051\, United States
ATTACH;FMTTYPE=image/png:https://staging.srfdfw.org/wp-content/uploads/2023/11/meditation.png
ORGANIZER;CN="DFW-SRF Meditation Group":MAILTO:connect@srfdallasfortworth.org
END:VEVENT
BEGIN:VEVENT
DTSTART;TZID=America/Chicago:20260816T100000
DTEND;TZID=America/Chicago:20260816T104500
DTSTAMP:20260420T131548
CREATED:20220711T161139Z
LAST-MODIFIED:20240305T044306Z
UID:10001219-1786874400-1786877100@staging.srfdfw.org
SUMMARY:Meditation Service
DESCRIPTION:
URL:https://staging.srfdfw.org/calendar/meditation-service-reading-service/2026-08-16/
LOCATION:DFW Meditation Group\, 2011 N. Britain Rd.\, Irving\, TX\, 76051\, United States
ATTACH;FMTTYPE=image/png:https://staging.srfdfw.org/wp-content/uploads/2023/11/meditation.png
GEO:32.8347664;-96.9448622
X-APPLE-STRUCTURED-LOCATION;VALUE=URI;X-ADDRESS=DFW Meditation Group 2011 N. Britain Rd. Irving TX 76051 United States;X-APPLE-RADIUS=500;X-TITLE=2011 N. Britain Rd.:geo:-96.9448622,32.8347664
END:VEVENT
BEGIN:VEVENT
DTSTART;TZID=America/Chicago:20260816T110000
DTEND;TZID=America/Chicago:20260816T120000
DTSTAMP:20260420T131548
CREATED:20221207T164922Z
LAST-MODIFIED:20240305T044557Z
UID:10001741-1786878000-1786881600@staging.srfdfw.org
SUMMARY:Sunday School
DESCRIPTION:
URL:https://staging.srfdfw.org/calendar/sunday-school-1100-am/2026-08-16/
LOCATION:2011 North Britain Road\, Irving\, TX\, 2011 N. Britain Rd.\, Irving\, TX\, 76051\, United States
ATTACH;FMTTYPE=image/png:https://staging.srfdfw.org/wp-content/uploads/2022/12/child-meditating.png
ORGANIZER;CN="DFW-SRF Meditation Group":MAILTO:connect@srfdallasfortworth.org
END:VEVENT
BEGIN:VEVENT
DTSTART;TZID=America/Chicago:20260816T110000
DTEND;TZID=America/Chicago:20260816T120000
DTSTAMP:20260420T131548
CREATED:20240304T233900Z
LAST-MODIFIED:20240305T061330Z
UID:10001480-1786878000-1786881600@staging.srfdfw.org
SUMMARY:Readings Service
DESCRIPTION:
URL:https://staging.srfdfw.org/calendar/readings-service/2026-08-16/
LOCATION:DFW Meditation Group\, 2011 N. Britain Rd.\, Irving\, TX\, 76051\, United States
ATTACH;FMTTYPE=image/png:https://staging.srfdfw.org/wp-content/uploads/2024/03/clouds.png
GEO:32.8347664;-96.9448622
X-APPLE-STRUCTURED-LOCATION;VALUE=URI;X-ADDRESS=DFW Meditation Group 2011 N. Britain Rd. Irving TX 76051 United States;X-APPLE-RADIUS=500;X-TITLE=2011 N. Britain Rd.:geo:-96.9448622,32.8347664
END:VEVENT
BEGIN:VEVENT
DTSTART;TZID=America/Chicago:20260819T190000
DTEND;TZID=America/Chicago:20260819T203000
DTSTAMP:20260420T131548
CREATED:20220910T223756Z
LAST-MODIFIED:20240327T212545Z
UID:10000603-1787166000-1787171400@staging.srfdfw.org
SUMMARY:Wednesday Online Meditation
DESCRIPTION:7 pm – 7.15 pm Energization Exercises \n7.20 pm -8.30 Group Meditation with Inspirational-reading\, Chants\, Meditation and Healing Service . \nLink to Join Zoom Meeting: \nhttps://us02web.zoom.us/j/73165306898?pwd=RmZLelBDUWpIT2kvSm9DSWhQVmZKQT09 \nMeeting ID: 731 6530 6898 \nPasscode: 917834
URL:https://staging.srfdfw.org/calendar/wednesday-meditation/2026-08-19/
LOCATION:DFW Meditation Group\, 2011 N. Britain Rd.\, Irving\, TX\, 76051\, United States
ATTACH;FMTTYPE=image/png:https://staging.srfdfw.org/wp-content/uploads/2023/11/meditation.png
GEO:32.8347664;-96.9448622
X-APPLE-STRUCTURED-LOCATION;VALUE=URI;X-ADDRESS=DFW Meditation Group 2011 N. Britain Rd. Irving TX 76051 United States;X-APPLE-RADIUS=500;X-TITLE=2011 N. Britain Rd.:geo:-96.9448622,32.8347664
END:VEVENT
BEGIN:VEVENT
DTSTART;TZID=America/Chicago:20260822T090000
DTEND;TZID=America/Chicago:20260822T120000
DTSTAMP:20260420T131548
CREATED:20231102T162046Z
LAST-MODIFIED:20240305T044125Z
UID:10000880-1787389200-1787400000@staging.srfdfw.org
SUMMARY:3 Hour Meditation
DESCRIPTION:The service will include a prayer and short inspirational reading to begin. Then there will be a chant on hours 10 and 11. The service will end with a Prayer Service which includes the healing technique taught by our Guru. \nPlease enter and exit on the hour during chants.
URL:https://staging.srfdfw.org/calendar/saturday-3-hour-meditation-2/2026-08-22/
LOCATION:2011 North Britain Road\, Irving\, TX\, 2011 N. Britain Rd.\, Irving\, TX\, 76051\, United States
ATTACH;FMTTYPE=image/png:https://staging.srfdfw.org/wp-content/uploads/2023/11/meditation.png
ORGANIZER;CN="DFW-SRF Meditation Group":MAILTO:connect@srfdallasfortworth.org
END:VEVENT
BEGIN:VEVENT
DTSTART;TZID=America/Chicago:20260823T100000
DTEND;TZID=America/Chicago:20260823T104500
DTSTAMP:20260420T131548
CREATED:20220711T161139Z
LAST-MODIFIED:20240305T044306Z
UID:10001220-1787479200-1787481900@staging.srfdfw.org
SUMMARY:Meditation Service
DESCRIPTION:
URL:https://staging.srfdfw.org/calendar/meditation-service-reading-service/2026-08-23/
LOCATION:DFW Meditation Group\, 2011 N. Britain Rd.\, Irving\, TX\, 76051\, United States
ATTACH;FMTTYPE=image/png:https://staging.srfdfw.org/wp-content/uploads/2023/11/meditation.png
GEO:32.8347664;-96.9448622
X-APPLE-STRUCTURED-LOCATION;VALUE=URI;X-ADDRESS=DFW Meditation Group 2011 N. Britain Rd. Irving TX 76051 United States;X-APPLE-RADIUS=500;X-TITLE=2011 N. Britain Rd.:geo:-96.9448622,32.8347664
END:VEVENT
BEGIN:VEVENT
DTSTART;TZID=America/Chicago:20260823T110000
DTEND;TZID=America/Chicago:20260823T120000
DTSTAMP:20260420T131548
CREATED:20221207T164922Z
LAST-MODIFIED:20240305T044557Z
UID:10001742-1787482800-1787486400@staging.srfdfw.org
SUMMARY:Sunday School
DESCRIPTION:
URL:https://staging.srfdfw.org/calendar/sunday-school-1100-am/2026-08-23/
LOCATION:2011 North Britain Road\, Irving\, TX\, 2011 N. Britain Rd.\, Irving\, TX\, 76051\, United States
ATTACH;FMTTYPE=image/png:https://staging.srfdfw.org/wp-content/uploads/2022/12/child-meditating.png
ORGANIZER;CN="DFW-SRF Meditation Group":MAILTO:connect@srfdallasfortworth.org
END:VEVENT
BEGIN:VEVENT
DTSTART;TZID=America/Chicago:20260823T110000
DTEND;TZID=America/Chicago:20260823T120000
DTSTAMP:20260420T131548
CREATED:20240304T233900Z
LAST-MODIFIED:20240305T061330Z
UID:10001481-1787482800-1787486400@staging.srfdfw.org
SUMMARY:Readings Service
DESCRIPTION:
URL:https://staging.srfdfw.org/calendar/readings-service/2026-08-23/
LOCATION:DFW Meditation Group\, 2011 N. Britain Rd.\, Irving\, TX\, 76051\, United States
ATTACH;FMTTYPE=image/png:https://staging.srfdfw.org/wp-content/uploads/2024/03/clouds.png
GEO:32.8347664;-96.9448622
X-APPLE-STRUCTURED-LOCATION;VALUE=URI;X-ADDRESS=DFW Meditation Group 2011 N. Britain Rd. Irving TX 76051 United States;X-APPLE-RADIUS=500;X-TITLE=2011 N. Britain Rd.:geo:-96.9448622,32.8347664
END:VEVENT
BEGIN:VEVENT
DTSTART;TZID=America/Chicago:20260826T190000
DTEND;TZID=America/Chicago:20260826T203000
DTSTAMP:20260420T131548
CREATED:20220910T223756Z
LAST-MODIFIED:20240327T212545Z
UID:10000604-1787770800-1787776200@staging.srfdfw.org
SUMMARY:Wednesday Online Meditation
DESCRIPTION:7 pm – 7.15 pm Energization Exercises \n7.20 pm -8.30 Group Meditation with Inspirational-reading\, Chants\, Meditation and Healing Service . \nLink to Join Zoom Meeting: \nhttps://us02web.zoom.us/j/73165306898?pwd=RmZLelBDUWpIT2kvSm9DSWhQVmZKQT09 \nMeeting ID: 731 6530 6898 \nPasscode: 917834
URL:https://staging.srfdfw.org/calendar/wednesday-meditation/2026-08-26/
LOCATION:DFW Meditation Group\, 2011 N. Britain Rd.\, Irving\, TX\, 76051\, United States
ATTACH;FMTTYPE=image/png:https://staging.srfdfw.org/wp-content/uploads/2023/11/meditation.png
GEO:32.8347664;-96.9448622
X-APPLE-STRUCTURED-LOCATION;VALUE=URI;X-ADDRESS=DFW Meditation Group 2011 N. Britain Rd. Irving TX 76051 United States;X-APPLE-RADIUS=500;X-TITLE=2011 N. Britain Rd.:geo:-96.9448622,32.8347664
END:VEVENT
BEGIN:VEVENT
DTSTART;TZID=America/Chicago:20260829T090000
DTEND;TZID=America/Chicago:20260829T120000
DTSTAMP:20260420T131548
CREATED:20231102T162046Z
LAST-MODIFIED:20240305T044125Z
UID:10000881-1787994000-1788004800@staging.srfdfw.org
SUMMARY:3 Hour Meditation
DESCRIPTION:The service will include a prayer and short inspirational reading to begin. Then there will be a chant on hours 10 and 11. The service will end with a Prayer Service which includes the healing technique taught by our Guru. \nPlease enter and exit on the hour during chants.
URL:https://staging.srfdfw.org/calendar/saturday-3-hour-meditation-2/2026-08-29/
LOCATION:2011 North Britain Road\, Irving\, TX\, 2011 N. Britain Rd.\, Irving\, TX\, 76051\, United States
ATTACH;FMTTYPE=image/png:https://staging.srfdfw.org/wp-content/uploads/2023/11/meditation.png
ORGANIZER;CN="DFW-SRF Meditation Group":MAILTO:connect@srfdallasfortworth.org
END:VEVENT
BEGIN:VEVENT
DTSTART;TZID=America/Chicago:20260830T100000
DTEND;TZID=America/Chicago:20260830T104500
DTSTAMP:20260420T131548
CREATED:20220711T161139Z
LAST-MODIFIED:20240305T044306Z
UID:10001221-1788084000-1788086700@staging.srfdfw.org
SUMMARY:Meditation Service
DESCRIPTION:
URL:https://staging.srfdfw.org/calendar/meditation-service-reading-service/2026-08-30/
LOCATION:DFW Meditation Group\, 2011 N. Britain Rd.\, Irving\, TX\, 76051\, United States
ATTACH;FMTTYPE=image/png:https://staging.srfdfw.org/wp-content/uploads/2023/11/meditation.png
GEO:32.8347664;-96.9448622
X-APPLE-STRUCTURED-LOCATION;VALUE=URI;X-ADDRESS=DFW Meditation Group 2011 N. Britain Rd. Irving TX 76051 United States;X-APPLE-RADIUS=500;X-TITLE=2011 N. Britain Rd.:geo:-96.9448622,32.8347664
END:VEVENT
BEGIN:VEVENT
DTSTART;TZID=America/Chicago:20260830T110000
DTEND;TZID=America/Chicago:20260830T120000
DTSTAMP:20260420T131548
CREATED:20221207T164922Z
LAST-MODIFIED:20240305T044557Z
UID:10001743-1788087600-1788091200@staging.srfdfw.org
SUMMARY:Sunday School
DESCRIPTION:
URL:https://staging.srfdfw.org/calendar/sunday-school-1100-am/2026-08-30/
LOCATION:2011 North Britain Road\, Irving\, TX\, 2011 N. Britain Rd.\, Irving\, TX\, 76051\, United States
ATTACH;FMTTYPE=image/png:https://staging.srfdfw.org/wp-content/uploads/2022/12/child-meditating.png
ORGANIZER;CN="DFW-SRF Meditation Group":MAILTO:connect@srfdallasfortworth.org
END:VEVENT
BEGIN:VEVENT
DTSTART;TZID=America/Chicago:20260830T110000
DTEND;TZID=America/Chicago:20260830T120000
DTSTAMP:20260420T131548
CREATED:20240304T233900Z
LAST-MODIFIED:20240305T061330Z
UID:10001482-1788087600-1788091200@staging.srfdfw.org
SUMMARY:Readings Service
DESCRIPTION:
URL:https://staging.srfdfw.org/calendar/readings-service/2026-08-30/
LOCATION:DFW Meditation Group\, 2011 N. Britain Rd.\, Irving\, TX\, 76051\, United States
ATTACH;FMTTYPE=image/png:https://staging.srfdfw.org/wp-content/uploads/2024/03/clouds.png
GEO:32.8347664;-96.9448622
X-APPLE-STRUCTURED-LOCATION;VALUE=URI;X-ADDRESS=DFW Meditation Group 2011 N. Britain Rd. Irving TX 76051 United States;X-APPLE-RADIUS=500;X-TITLE=2011 N. Britain Rd.:geo:-96.9448622,32.8347664
END:VEVENT
BEGIN:VEVENT
DTSTART;TZID=America/Chicago:20260902T190000
DTEND;TZID=America/Chicago:20260902T203000
DTSTAMP:20260420T131548
CREATED:20220910T223756Z
LAST-MODIFIED:20240327T212545Z
UID:10000605-1788375600-1788381000@staging.srfdfw.org
SUMMARY:Wednesday Online Meditation
DESCRIPTION:7 pm – 7.15 pm Energization Exercises \n7.20 pm -8.30 Group Meditation with Inspirational-reading\, Chants\, Meditation and Healing Service . \nLink to Join Zoom Meeting: \nhttps://us02web.zoom.us/j/73165306898?pwd=RmZLelBDUWpIT2kvSm9DSWhQVmZKQT09 \nMeeting ID: 731 6530 6898 \nPasscode: 917834
URL:https://staging.srfdfw.org/calendar/wednesday-meditation/2026-09-02/
LOCATION:DFW Meditation Group\, 2011 N. Britain Rd.\, Irving\, TX\, 76051\, United States
ATTACH;FMTTYPE=image/png:https://staging.srfdfw.org/wp-content/uploads/2023/11/meditation.png
GEO:32.8347664;-96.9448622
X-APPLE-STRUCTURED-LOCATION;VALUE=URI;X-ADDRESS=DFW Meditation Group 2011 N. Britain Rd. Irving TX 76051 United States;X-APPLE-RADIUS=500;X-TITLE=2011 N. Britain Rd.:geo:-96.9448622,32.8347664
END:VEVENT
BEGIN:VEVENT
DTSTART;TZID=America/Chicago:20260905T090000
DTEND;TZID=America/Chicago:20260905T120000
DTSTAMP:20260420T131548
CREATED:20231102T162046Z
LAST-MODIFIED:20240305T044125Z
UID:10000882-1788598800-1788609600@staging.srfdfw.org
SUMMARY:3 Hour Meditation
DESCRIPTION:The service will include a prayer and short inspirational reading to begin. Then there will be a chant on hours 10 and 11. The service will end with a Prayer Service which includes the healing technique taught by our Guru. \nPlease enter and exit on the hour during chants.
URL:https://staging.srfdfw.org/calendar/saturday-3-hour-meditation-2/2026-09-05/
LOCATION:2011 North Britain Road\, Irving\, TX\, 2011 N. Britain Rd.\, Irving\, TX\, 76051\, United States
ATTACH;FMTTYPE=image/png:https://staging.srfdfw.org/wp-content/uploads/2023/11/meditation.png
ORGANIZER;CN="DFW-SRF Meditation Group":MAILTO:connect@srfdallasfortworth.org
END:VEVENT
BEGIN:VEVENT
DTSTART;TZID=America/Chicago:20260906T100000
DTEND;TZID=America/Chicago:20260906T104500
DTSTAMP:20260420T131548
CREATED:20220711T161139Z
LAST-MODIFIED:20240305T044306Z
UID:10001222-1788688800-1788691500@staging.srfdfw.org
SUMMARY:Meditation Service
DESCRIPTION:
URL:https://staging.srfdfw.org/calendar/meditation-service-reading-service/2026-09-06/
LOCATION:DFW Meditation Group\, 2011 N. Britain Rd.\, Irving\, TX\, 76051\, United States
ATTACH;FMTTYPE=image/png:https://staging.srfdfw.org/wp-content/uploads/2023/11/meditation.png
GEO:32.8347664;-96.9448622
X-APPLE-STRUCTURED-LOCATION;VALUE=URI;X-ADDRESS=DFW Meditation Group 2011 N. Britain Rd. Irving TX 76051 United States;X-APPLE-RADIUS=500;X-TITLE=2011 N. Britain Rd.:geo:-96.9448622,32.8347664
END:VEVENT
BEGIN:VEVENT
DTSTART;TZID=America/Chicago:20260906T110000
DTEND;TZID=America/Chicago:20260906T120000
DTSTAMP:20260420T131548
CREATED:20221207T164922Z
LAST-MODIFIED:20240305T044557Z
UID:10001744-1788692400-1788696000@staging.srfdfw.org
SUMMARY:Sunday School
DESCRIPTION:
URL:https://staging.srfdfw.org/calendar/sunday-school-1100-am/2026-09-06/
LOCATION:2011 North Britain Road\, Irving\, TX\, 2011 N. Britain Rd.\, Irving\, TX\, 76051\, United States
ATTACH;FMTTYPE=image/png:https://staging.srfdfw.org/wp-content/uploads/2022/12/child-meditating.png
ORGANIZER;CN="DFW-SRF Meditation Group":MAILTO:connect@srfdallasfortworth.org
END:VEVENT
BEGIN:VEVENT
DTSTART;TZID=America/Chicago:20260906T110000
DTEND;TZID=America/Chicago:20260906T120000
DTSTAMP:20260420T131548
CREATED:20240304T233900Z
LAST-MODIFIED:20240305T061330Z
UID:10001483-1788692400-1788696000@staging.srfdfw.org
SUMMARY:Readings Service
DESCRIPTION:
URL:https://staging.srfdfw.org/calendar/readings-service/2026-09-06/
LOCATION:DFW Meditation Group\, 2011 N. Britain Rd.\, Irving\, TX\, 76051\, United States
ATTACH;FMTTYPE=image/png:https://staging.srfdfw.org/wp-content/uploads/2024/03/clouds.png
GEO:32.8347664;-96.9448622
X-APPLE-STRUCTURED-LOCATION;VALUE=URI;X-ADDRESS=DFW Meditation Group 2011 N. Britain Rd. Irving TX 76051 United States;X-APPLE-RADIUS=500;X-TITLE=2011 N. Britain Rd.:geo:-96.9448622,32.8347664
END:VEVENT
BEGIN:VEVENT
DTSTART;TZID=America/Chicago:20260909T190000
DTEND;TZID=America/Chicago:20260909T203000
DTSTAMP:20260420T131548
CREATED:20220910T223756Z
LAST-MODIFIED:20240327T212545Z
UID:10000606-1788980400-1788985800@staging.srfdfw.org
SUMMARY:Wednesday Online Meditation
DESCRIPTION:7 pm – 7.15 pm Energization Exercises \n7.20 pm -8.30 Group Meditation with Inspirational-reading\, Chants\, Meditation and Healing Service . \nLink to Join Zoom Meeting: \nhttps://us02web.zoom.us/j/73165306898?pwd=RmZLelBDUWpIT2kvSm9DSWhQVmZKQT09 \nMeeting ID: 731 6530 6898 \nPasscode: 917834
URL:https://staging.srfdfw.org/calendar/wednesday-meditation/2026-09-09/
LOCATION:DFW Meditation Group\, 2011 N. Britain Rd.\, Irving\, TX\, 76051\, United States
ATTACH;FMTTYPE=image/png:https://staging.srfdfw.org/wp-content/uploads/2023/11/meditation.png
GEO:32.8347664;-96.9448622
X-APPLE-STRUCTURED-LOCATION;VALUE=URI;X-ADDRESS=DFW Meditation Group 2011 N. Britain Rd. Irving TX 76051 United States;X-APPLE-RADIUS=500;X-TITLE=2011 N. Britain Rd.:geo:-96.9448622,32.8347664
END:VEVENT
BEGIN:VEVENT
DTSTART;TZID=America/Chicago:20260912T090000
DTEND;TZID=America/Chicago:20260912T120000
DTSTAMP:20260420T131548
CREATED:20231102T162046Z
LAST-MODIFIED:20240305T044125Z
UID:10000883-1789203600-1789214400@staging.srfdfw.org
SUMMARY:3 Hour Meditation
DESCRIPTION:The service will include a prayer and short inspirational reading to begin. Then there will be a chant on hours 10 and 11. The service will end with a Prayer Service which includes the healing technique taught by our Guru. \nPlease enter and exit on the hour during chants.
URL:https://staging.srfdfw.org/calendar/saturday-3-hour-meditation-2/2026-09-12/
LOCATION:2011 North Britain Road\, Irving\, TX\, 2011 N. Britain Rd.\, Irving\, TX\, 76051\, United States
ATTACH;FMTTYPE=image/png:https://staging.srfdfw.org/wp-content/uploads/2023/11/meditation.png
ORGANIZER;CN="DFW-SRF Meditation Group":MAILTO:connect@srfdallasfortworth.org
END:VEVENT
BEGIN:VEVENT
DTSTART;TZID=America/Chicago:20260913T100000
DTEND;TZID=America/Chicago:20260913T104500
DTSTAMP:20260420T131548
CREATED:20220711T161139Z
LAST-MODIFIED:20240305T044306Z
UID:10001223-1789293600-1789296300@staging.srfdfw.org
SUMMARY:Meditation Service
DESCRIPTION:
URL:https://staging.srfdfw.org/calendar/meditation-service-reading-service/2026-09-13/
LOCATION:DFW Meditation Group\, 2011 N. Britain Rd.\, Irving\, TX\, 76051\, United States
ATTACH;FMTTYPE=image/png:https://staging.srfdfw.org/wp-content/uploads/2023/11/meditation.png
GEO:32.8347664;-96.9448622
X-APPLE-STRUCTURED-LOCATION;VALUE=URI;X-ADDRESS=DFW Meditation Group 2011 N. Britain Rd. Irving TX 76051 United States;X-APPLE-RADIUS=500;X-TITLE=2011 N. Britain Rd.:geo:-96.9448622,32.8347664
END:VEVENT
BEGIN:VEVENT
DTSTART;TZID=America/Chicago:20260913T110000
DTEND;TZID=America/Chicago:20260913T120000
DTSTAMP:20260420T131548
CREATED:20221207T164922Z
LAST-MODIFIED:20240305T044557Z
UID:10001745-1789297200-1789300800@staging.srfdfw.org
SUMMARY:Sunday School
DESCRIPTION:
URL:https://staging.srfdfw.org/calendar/sunday-school-1100-am/2026-09-13/
LOCATION:2011 North Britain Road\, Irving\, TX\, 2011 N. Britain Rd.\, Irving\, TX\, 76051\, United States
ATTACH;FMTTYPE=image/png:https://staging.srfdfw.org/wp-content/uploads/2022/12/child-meditating.png
ORGANIZER;CN="DFW-SRF Meditation Group":MAILTO:connect@srfdallasfortworth.org
END:VEVENT
BEGIN:VEVENT
DTSTART;TZID=America/Chicago:20260913T110000
DTEND;TZID=America/Chicago:20260913T120000
DTSTAMP:20260420T131548
CREATED:20240304T233900Z
LAST-MODIFIED:20240305T061330Z
UID:10001484-1789297200-1789300800@staging.srfdfw.org
SUMMARY:Readings Service
DESCRIPTION:
URL:https://staging.srfdfw.org/calendar/readings-service/2026-09-13/
LOCATION:DFW Meditation Group\, 2011 N. Britain Rd.\, Irving\, TX\, 76051\, United States
ATTACH;FMTTYPE=image/png:https://staging.srfdfw.org/wp-content/uploads/2024/03/clouds.png
GEO:32.8347664;-96.9448622
X-APPLE-STRUCTURED-LOCATION;VALUE=URI;X-ADDRESS=DFW Meditation Group 2011 N. Britain Rd. Irving TX 76051 United States;X-APPLE-RADIUS=500;X-TITLE=2011 N. Britain Rd.:geo:-96.9448622,32.8347664
END:VEVENT
BEGIN:VEVENT
DTSTART;TZID=America/Chicago:20260916T190000
DTEND;TZID=America/Chicago:20260916T203000
DTSTAMP:20260420T131548
CREATED:20220910T223756Z
LAST-MODIFIED:20240327T212545Z
UID:10000607-1789585200-1789590600@staging.srfdfw.org
SUMMARY:Wednesday Online Meditation
DESCRIPTION:7 pm – 7.15 pm Energization Exercises \n7.20 pm -8.30 Group Meditation with Inspirational-reading\, Chants\, Meditation and Healing Service . \nLink to Join Zoom Meeting: \nhttps://us02web.zoom.us/j/73165306898?pwd=RmZLelBDUWpIT2kvSm9DSWhQVmZKQT09 \nMeeting ID: 731 6530 6898 \nPasscode: 917834
URL:https://staging.srfdfw.org/calendar/wednesday-meditation/2026-09-16/
LOCATION:DFW Meditation Group\, 2011 N. Britain Rd.\, Irving\, TX\, 76051\, United States
ATTACH;FMTTYPE=image/png:https://staging.srfdfw.org/wp-content/uploads/2023/11/meditation.png
GEO:32.8347664;-96.9448622
X-APPLE-STRUCTURED-LOCATION;VALUE=URI;X-ADDRESS=DFW Meditation Group 2011 N. Britain Rd. Irving TX 76051 United States;X-APPLE-RADIUS=500;X-TITLE=2011 N. Britain Rd.:geo:-96.9448622,32.8347664
END:VEVENT
BEGIN:VEVENT
DTSTART;TZID=America/Chicago:20260919T090000
DTEND;TZID=America/Chicago:20260919T120000
DTSTAMP:20260420T131548
CREATED:20231102T162046Z
LAST-MODIFIED:20240305T044125Z
UID:10000884-1789808400-1789819200@staging.srfdfw.org
SUMMARY:3 Hour Meditation
DESCRIPTION:The service will include a prayer and short inspirational reading to begin. Then there will be a chant on hours 10 and 11. The service will end with a Prayer Service which includes the healing technique taught by our Guru. \nPlease enter and exit on the hour during chants.
URL:https://staging.srfdfw.org/calendar/saturday-3-hour-meditation-2/2026-09-19/
LOCATION:2011 North Britain Road\, Irving\, TX\, 2011 N. Britain Rd.\, Irving\, TX\, 76051\, United States
ATTACH;FMTTYPE=image/png:https://staging.srfdfw.org/wp-content/uploads/2023/11/meditation.png
ORGANIZER;CN="DFW-SRF Meditation Group":MAILTO:connect@srfdallasfortworth.org
END:VEVENT
BEGIN:VEVENT
DTSTART;TZID=America/Chicago:20260920T100000
DTEND;TZID=America/Chicago:20260920T104500
DTSTAMP:20260420T131548
CREATED:20220711T161139Z
LAST-MODIFIED:20240305T044306Z
UID:10001224-1789898400-1789901100@staging.srfdfw.org
SUMMARY:Meditation Service
DESCRIPTION:
URL:https://staging.srfdfw.org/calendar/meditation-service-reading-service/2026-09-20/
LOCATION:DFW Meditation Group\, 2011 N. Britain Rd.\, Irving\, TX\, 76051\, United States
ATTACH;FMTTYPE=image/png:https://staging.srfdfw.org/wp-content/uploads/2023/11/meditation.png
GEO:32.8347664;-96.9448622
X-APPLE-STRUCTURED-LOCATION;VALUE=URI;X-ADDRESS=DFW Meditation Group 2011 N. Britain Rd. Irving TX 76051 United States;X-APPLE-RADIUS=500;X-TITLE=2011 N. Britain Rd.:geo:-96.9448622,32.8347664
END:VEVENT
BEGIN:VEVENT
DTSTART;TZID=America/Chicago:20260920T110000
DTEND;TZID=America/Chicago:20260920T120000
DTSTAMP:20260420T131548
CREATED:20221207T164922Z
LAST-MODIFIED:20240305T044557Z
UID:10001746-1789902000-1789905600@staging.srfdfw.org
SUMMARY:Sunday School
DESCRIPTION:
URL:https://staging.srfdfw.org/calendar/sunday-school-1100-am/2026-09-20/
LOCATION:2011 North Britain Road\, Irving\, TX\, 2011 N. Britain Rd.\, Irving\, TX\, 76051\, United States
ATTACH;FMTTYPE=image/png:https://staging.srfdfw.org/wp-content/uploads/2022/12/child-meditating.png
ORGANIZER;CN="DFW-SRF Meditation Group":MAILTO:connect@srfdallasfortworth.org
END:VEVENT
END:VCALENDAR