BEGIN:VCALENDAR
VERSION:2.0
PRODID:-//DFW Meditation Group of SRF - ECPv6.10.1.1//NONSGML v1.0//EN
CALSCALE:GREGORIAN
METHOD:PUBLISH
X-WR-CALNAME:DFW Meditation Group of SRF
X-ORIGINAL-URL:https://staging.srfdfw.org
X-WR-CALDESC:Events for DFW Meditation Group of SRF
REFRESH-INTERVAL;VALUE=DURATION:PT1H
X-Robots-Tag:noindex
X-PUBLISHED-TTL:PT1H
BEGIN:VTIMEZONE
TZID:America/Chicago
BEGIN:DAYLIGHT
TZOFFSETFROM:-0600
TZOFFSETTO:-0500
TZNAME:CDT
DTSTART:20270314T080000
END:DAYLIGHT
BEGIN:STANDARD
TZOFFSETFROM:-0500
TZOFFSETTO:-0600
TZNAME:CST
DTSTART:20271107T070000
END:STANDARD
END:VTIMEZONE
BEGIN:VEVENT
DTSTART;TZID=America/Chicago:20270619T090000
DTEND;TZID=America/Chicago:20270619T120000
DTSTAMP:20260421T182845
CREATED:20231102T162046Z
LAST-MODIFIED:20240305T044125Z
UID:10000923-1813395600-1813406400@staging.srfdfw.org
SUMMARY:3 Hour Meditation
DESCRIPTION:The service will include a prayer and short inspirational reading to begin. Then there will be a chant on hours 10 and 11. The service will end with a Prayer Service which includes the healing technique taught by our Guru. \nPlease enter and exit on the hour during chants.
URL:https://staging.srfdfw.org/calendar/saturday-3-hour-meditation-2/2027-06-19/
LOCATION:2011 North Britain Road\, Irving\, TX\, 2011 N. Britain Rd.\, Irving\, TX\, 76051\, United States
ATTACH;FMTTYPE=image/png:https://staging.srfdfw.org/wp-content/uploads/2023/11/meditation.png
ORGANIZER;CN="DFW-SRF Meditation Group":MAILTO:connect@srfdallasfortworth.org
END:VEVENT
BEGIN:VEVENT
DTSTART;TZID=America/Chicago:20270620T110000
DTEND;TZID=America/Chicago:20270620T120000
DTSTAMP:20260421T182845
CREATED:20221207T164922Z
LAST-MODIFIED:20240305T044557Z
UID:10001785-1813489200-1813492800@staging.srfdfw.org
SUMMARY:Sunday School
DESCRIPTION:
URL:https://staging.srfdfw.org/calendar/sunday-school-1100-am/2027-06-20/
LOCATION:2011 North Britain Road\, Irving\, TX\, 2011 N. Britain Rd.\, Irving\, TX\, 76051\, United States
ATTACH;FMTTYPE=image/png:https://staging.srfdfw.org/wp-content/uploads/2022/12/child-meditating.png
ORGANIZER;CN="DFW-SRF Meditation Group":MAILTO:connect@srfdallasfortworth.org
END:VEVENT
BEGIN:VEVENT
DTSTART;TZID=America/Chicago:20270626T090000
DTEND;TZID=America/Chicago:20270626T120000
DTSTAMP:20260421T182845
CREATED:20231102T162046Z
LAST-MODIFIED:20240305T044125Z
UID:10000924-1814000400-1814011200@staging.srfdfw.org
SUMMARY:3 Hour Meditation
DESCRIPTION:The service will include a prayer and short inspirational reading to begin. Then there will be a chant on hours 10 and 11. The service will end with a Prayer Service which includes the healing technique taught by our Guru. \nPlease enter and exit on the hour during chants.
URL:https://staging.srfdfw.org/calendar/saturday-3-hour-meditation-2/2027-06-26/
LOCATION:2011 North Britain Road\, Irving\, TX\, 2011 N. Britain Rd.\, Irving\, TX\, 76051\, United States
ATTACH;FMTTYPE=image/png:https://staging.srfdfw.org/wp-content/uploads/2023/11/meditation.png
ORGANIZER;CN="DFW-SRF Meditation Group":MAILTO:connect@srfdallasfortworth.org
END:VEVENT
BEGIN:VEVENT
DTSTART;TZID=America/Chicago:20270627T110000
DTEND;TZID=America/Chicago:20270627T120000
DTSTAMP:20260421T182845
CREATED:20221207T164922Z
LAST-MODIFIED:20240305T044557Z
UID:10001786-1814094000-1814097600@staging.srfdfw.org
SUMMARY:Sunday School
DESCRIPTION:
URL:https://staging.srfdfw.org/calendar/sunday-school-1100-am/2027-06-27/
LOCATION:2011 North Britain Road\, Irving\, TX\, 2011 N. Britain Rd.\, Irving\, TX\, 76051\, United States
ATTACH;FMTTYPE=image/png:https://staging.srfdfw.org/wp-content/uploads/2022/12/child-meditating.png
ORGANIZER;CN="DFW-SRF Meditation Group":MAILTO:connect@srfdallasfortworth.org
END:VEVENT
BEGIN:VEVENT
DTSTART;TZID=America/Chicago:20270703T090000
DTEND;TZID=America/Chicago:20270703T120000
DTSTAMP:20260421T182845
CREATED:20231102T162046Z
LAST-MODIFIED:20240305T044125Z
UID:10000925-1814605200-1814616000@staging.srfdfw.org
SUMMARY:3 Hour Meditation
DESCRIPTION:The service will include a prayer and short inspirational reading to begin. Then there will be a chant on hours 10 and 11. The service will end with a Prayer Service which includes the healing technique taught by our Guru. \nPlease enter and exit on the hour during chants.
URL:https://staging.srfdfw.org/calendar/saturday-3-hour-meditation-2/2027-07-03/
LOCATION:2011 North Britain Road\, Irving\, TX\, 2011 N. Britain Rd.\, Irving\, TX\, 76051\, United States
ATTACH;FMTTYPE=image/png:https://staging.srfdfw.org/wp-content/uploads/2023/11/meditation.png
ORGANIZER;CN="DFW-SRF Meditation Group":MAILTO:connect@srfdallasfortworth.org
END:VEVENT
BEGIN:VEVENT
DTSTART;TZID=America/Chicago:20270704T110000
DTEND;TZID=America/Chicago:20270704T120000
DTSTAMP:20260421T182845
CREATED:20221207T164922Z
LAST-MODIFIED:20240305T044557Z
UID:10001787-1814698800-1814702400@staging.srfdfw.org
SUMMARY:Sunday School
DESCRIPTION:
URL:https://staging.srfdfw.org/calendar/sunday-school-1100-am/2027-07-04/
LOCATION:2011 North Britain Road\, Irving\, TX\, 2011 N. Britain Rd.\, Irving\, TX\, 76051\, United States
ATTACH;FMTTYPE=image/png:https://staging.srfdfw.org/wp-content/uploads/2022/12/child-meditating.png
ORGANIZER;CN="DFW-SRF Meditation Group":MAILTO:connect@srfdallasfortworth.org
END:VEVENT
BEGIN:VEVENT
DTSTART;TZID=America/Chicago:20270710T090000
DTEND;TZID=America/Chicago:20270710T120000
DTSTAMP:20260421T182845
CREATED:20231102T162046Z
LAST-MODIFIED:20240305T044125Z
UID:10000926-1815210000-1815220800@staging.srfdfw.org
SUMMARY:3 Hour Meditation
DESCRIPTION:The service will include a prayer and short inspirational reading to begin. Then there will be a chant on hours 10 and 11. The service will end with a Prayer Service which includes the healing technique taught by our Guru. \nPlease enter and exit on the hour during chants.
URL:https://staging.srfdfw.org/calendar/saturday-3-hour-meditation-2/2027-07-10/
LOCATION:2011 North Britain Road\, Irving\, TX\, 2011 N. Britain Rd.\, Irving\, TX\, 76051\, United States
ATTACH;FMTTYPE=image/png:https://staging.srfdfw.org/wp-content/uploads/2023/11/meditation.png
ORGANIZER;CN="DFW-SRF Meditation Group":MAILTO:connect@srfdallasfortworth.org
END:VEVENT
BEGIN:VEVENT
DTSTART;TZID=America/Chicago:20270711T110000
DTEND;TZID=America/Chicago:20270711T120000
DTSTAMP:20260421T182845
CREATED:20221207T164922Z
LAST-MODIFIED:20240305T044557Z
UID:10001788-1815303600-1815307200@staging.srfdfw.org
SUMMARY:Sunday School
DESCRIPTION:
URL:https://staging.srfdfw.org/calendar/sunday-school-1100-am/2027-07-11/
LOCATION:2011 North Britain Road\, Irving\, TX\, 2011 N. Britain Rd.\, Irving\, TX\, 76051\, United States
ATTACH;FMTTYPE=image/png:https://staging.srfdfw.org/wp-content/uploads/2022/12/child-meditating.png
ORGANIZER;CN="DFW-SRF Meditation Group":MAILTO:connect@srfdallasfortworth.org
END:VEVENT
BEGIN:VEVENT
DTSTART;TZID=America/Chicago:20270717T090000
DTEND;TZID=America/Chicago:20270717T120000
DTSTAMP:20260421T182845
CREATED:20231102T162046Z
LAST-MODIFIED:20240305T044125Z
UID:10000927-1815814800-1815825600@staging.srfdfw.org
SUMMARY:3 Hour Meditation
DESCRIPTION:The service will include a prayer and short inspirational reading to begin. Then there will be a chant on hours 10 and 11. The service will end with a Prayer Service which includes the healing technique taught by our Guru. \nPlease enter and exit on the hour during chants.
URL:https://staging.srfdfw.org/calendar/saturday-3-hour-meditation-2/2027-07-17/
LOCATION:2011 North Britain Road\, Irving\, TX\, 2011 N. Britain Rd.\, Irving\, TX\, 76051\, United States
ATTACH;FMTTYPE=image/png:https://staging.srfdfw.org/wp-content/uploads/2023/11/meditation.png
ORGANIZER;CN="DFW-SRF Meditation Group":MAILTO:connect@srfdallasfortworth.org
END:VEVENT
BEGIN:VEVENT
DTSTART;TZID=America/Chicago:20270718T110000
DTEND;TZID=America/Chicago:20270718T120000
DTSTAMP:20260421T182845
CREATED:20221207T164922Z
LAST-MODIFIED:20240305T044557Z
UID:10001789-1815908400-1815912000@staging.srfdfw.org
SUMMARY:Sunday School
DESCRIPTION:
URL:https://staging.srfdfw.org/calendar/sunday-school-1100-am/2027-07-18/
LOCATION:2011 North Britain Road\, Irving\, TX\, 2011 N. Britain Rd.\, Irving\, TX\, 76051\, United States
ATTACH;FMTTYPE=image/png:https://staging.srfdfw.org/wp-content/uploads/2022/12/child-meditating.png
ORGANIZER;CN="DFW-SRF Meditation Group":MAILTO:connect@srfdallasfortworth.org
END:VEVENT
BEGIN:VEVENT
DTSTART;TZID=America/Chicago:20270724T090000
DTEND;TZID=America/Chicago:20270724T120000
DTSTAMP:20260421T182845
CREATED:20231102T162046Z
LAST-MODIFIED:20240305T044125Z
UID:10000928-1816419600-1816430400@staging.srfdfw.org
SUMMARY:3 Hour Meditation
DESCRIPTION:The service will include a prayer and short inspirational reading to begin. Then there will be a chant on hours 10 and 11. The service will end with a Prayer Service which includes the healing technique taught by our Guru. \nPlease enter and exit on the hour during chants.
URL:https://staging.srfdfw.org/calendar/saturday-3-hour-meditation-2/2027-07-24/
LOCATION:2011 North Britain Road\, Irving\, TX\, 2011 N. Britain Rd.\, Irving\, TX\, 76051\, United States
ATTACH;FMTTYPE=image/png:https://staging.srfdfw.org/wp-content/uploads/2023/11/meditation.png
ORGANIZER;CN="DFW-SRF Meditation Group":MAILTO:connect@srfdallasfortworth.org
END:VEVENT
BEGIN:VEVENT
DTSTART;TZID=America/Chicago:20270725T110000
DTEND;TZID=America/Chicago:20270725T120000
DTSTAMP:20260421T182845
CREATED:20221207T164922Z
LAST-MODIFIED:20240305T044557Z
UID:10001790-1816513200-1816516800@staging.srfdfw.org
SUMMARY:Sunday School
DESCRIPTION:
URL:https://staging.srfdfw.org/calendar/sunday-school-1100-am/2027-07-25/
LOCATION:2011 North Britain Road\, Irving\, TX\, 2011 N. Britain Rd.\, Irving\, TX\, 76051\, United States
ATTACH;FMTTYPE=image/png:https://staging.srfdfw.org/wp-content/uploads/2022/12/child-meditating.png
ORGANIZER;CN="DFW-SRF Meditation Group":MAILTO:connect@srfdallasfortworth.org
END:VEVENT
BEGIN:VEVENT
DTSTART;TZID=America/Chicago:20270731T090000
DTEND;TZID=America/Chicago:20270731T120000
DTSTAMP:20260421T182845
CREATED:20231102T162046Z
LAST-MODIFIED:20240305T044125Z
UID:10000929-1817024400-1817035200@staging.srfdfw.org
SUMMARY:3 Hour Meditation
DESCRIPTION:The service will include a prayer and short inspirational reading to begin. Then there will be a chant on hours 10 and 11. The service will end with a Prayer Service which includes the healing technique taught by our Guru. \nPlease enter and exit on the hour during chants.
URL:https://staging.srfdfw.org/calendar/saturday-3-hour-meditation-2/2027-07-31/
LOCATION:2011 North Britain Road\, Irving\, TX\, 2011 N. Britain Rd.\, Irving\, TX\, 76051\, United States
ATTACH;FMTTYPE=image/png:https://staging.srfdfw.org/wp-content/uploads/2023/11/meditation.png
ORGANIZER;CN="DFW-SRF Meditation Group":MAILTO:connect@srfdallasfortworth.org
END:VEVENT
BEGIN:VEVENT
DTSTART;TZID=America/Chicago:20270801T110000
DTEND;TZID=America/Chicago:20270801T120000
DTSTAMP:20260421T182845
CREATED:20221207T164922Z
LAST-MODIFIED:20240305T044557Z
UID:10001791-1817118000-1817121600@staging.srfdfw.org
SUMMARY:Sunday School
DESCRIPTION:
URL:https://staging.srfdfw.org/calendar/sunday-school-1100-am/2027-08-01/
LOCATION:2011 North Britain Road\, Irving\, TX\, 2011 N. Britain Rd.\, Irving\, TX\, 76051\, United States
ATTACH;FMTTYPE=image/png:https://staging.srfdfw.org/wp-content/uploads/2022/12/child-meditating.png
ORGANIZER;CN="DFW-SRF Meditation Group":MAILTO:connect@srfdallasfortworth.org
END:VEVENT
BEGIN:VEVENT
DTSTART;TZID=America/Chicago:20270807T090000
DTEND;TZID=America/Chicago:20270807T120000
DTSTAMP:20260421T182845
CREATED:20231102T162046Z
LAST-MODIFIED:20240305T044125Z
UID:10000930-1817629200-1817640000@staging.srfdfw.org
SUMMARY:3 Hour Meditation
DESCRIPTION:The service will include a prayer and short inspirational reading to begin. Then there will be a chant on hours 10 and 11. The service will end with a Prayer Service which includes the healing technique taught by our Guru. \nPlease enter and exit on the hour during chants.
URL:https://staging.srfdfw.org/calendar/saturday-3-hour-meditation-2/2027-08-07/
LOCATION:2011 North Britain Road\, Irving\, TX\, 2011 N. Britain Rd.\, Irving\, TX\, 76051\, United States
ATTACH;FMTTYPE=image/png:https://staging.srfdfw.org/wp-content/uploads/2023/11/meditation.png
ORGANIZER;CN="DFW-SRF Meditation Group":MAILTO:connect@srfdallasfortworth.org
END:VEVENT
BEGIN:VEVENT
DTSTART;TZID=America/Chicago:20270808T110000
DTEND;TZID=America/Chicago:20270808T120000
DTSTAMP:20260421T182845
CREATED:20221207T164922Z
LAST-MODIFIED:20240305T044557Z
UID:10001792-1817722800-1817726400@staging.srfdfw.org
SUMMARY:Sunday School
DESCRIPTION:
URL:https://staging.srfdfw.org/calendar/sunday-school-1100-am/2027-08-08/
LOCATION:2011 North Britain Road\, Irving\, TX\, 2011 N. Britain Rd.\, Irving\, TX\, 76051\, United States
ATTACH;FMTTYPE=image/png:https://staging.srfdfw.org/wp-content/uploads/2022/12/child-meditating.png
ORGANIZER;CN="DFW-SRF Meditation Group":MAILTO:connect@srfdallasfortworth.org
END:VEVENT
BEGIN:VEVENT
DTSTART;TZID=America/Chicago:20270814T090000
DTEND;TZID=America/Chicago:20270814T120000
DTSTAMP:20260421T182845
CREATED:20231102T162046Z
LAST-MODIFIED:20240305T044125Z
UID:10000931-1818234000-1818244800@staging.srfdfw.org
SUMMARY:3 Hour Meditation
DESCRIPTION:The service will include a prayer and short inspirational reading to begin. Then there will be a chant on hours 10 and 11. The service will end with a Prayer Service which includes the healing technique taught by our Guru. \nPlease enter and exit on the hour during chants.
URL:https://staging.srfdfw.org/calendar/saturday-3-hour-meditation-2/2027-08-14/
LOCATION:2011 North Britain Road\, Irving\, TX\, 2011 N. Britain Rd.\, Irving\, TX\, 76051\, United States
ATTACH;FMTTYPE=image/png:https://staging.srfdfw.org/wp-content/uploads/2023/11/meditation.png
ORGANIZER;CN="DFW-SRF Meditation Group":MAILTO:connect@srfdallasfortworth.org
END:VEVENT
BEGIN:VEVENT
DTSTART;TZID=America/Chicago:20270815T110000
DTEND;TZID=America/Chicago:20270815T120000
DTSTAMP:20260421T182845
CREATED:20221207T164922Z
LAST-MODIFIED:20240305T044557Z
UID:10001793-1818327600-1818331200@staging.srfdfw.org
SUMMARY:Sunday School
DESCRIPTION:
URL:https://staging.srfdfw.org/calendar/sunday-school-1100-am/2027-08-15/
LOCATION:2011 North Britain Road\, Irving\, TX\, 2011 N. Britain Rd.\, Irving\, TX\, 76051\, United States
ATTACH;FMTTYPE=image/png:https://staging.srfdfw.org/wp-content/uploads/2022/12/child-meditating.png
ORGANIZER;CN="DFW-SRF Meditation Group":MAILTO:connect@srfdallasfortworth.org
END:VEVENT
BEGIN:VEVENT
DTSTART;TZID=America/Chicago:20270821T090000
DTEND;TZID=America/Chicago:20270821T120000
DTSTAMP:20260421T182845
CREATED:20231102T162046Z
LAST-MODIFIED:20240305T044125Z
UID:10000932-1818838800-1818849600@staging.srfdfw.org
SUMMARY:3 Hour Meditation
DESCRIPTION:The service will include a prayer and short inspirational reading to begin. Then there will be a chant on hours 10 and 11. The service will end with a Prayer Service which includes the healing technique taught by our Guru. \nPlease enter and exit on the hour during chants.
URL:https://staging.srfdfw.org/calendar/saturday-3-hour-meditation-2/2027-08-21/
LOCATION:2011 North Britain Road\, Irving\, TX\, 2011 N. Britain Rd.\, Irving\, TX\, 76051\, United States
ATTACH;FMTTYPE=image/png:https://staging.srfdfw.org/wp-content/uploads/2023/11/meditation.png
ORGANIZER;CN="DFW-SRF Meditation Group":MAILTO:connect@srfdallasfortworth.org
END:VEVENT
BEGIN:VEVENT
DTSTART;TZID=America/Chicago:20270822T110000
DTEND;TZID=America/Chicago:20270822T120000
DTSTAMP:20260421T182845
CREATED:20221207T164922Z
LAST-MODIFIED:20240305T044557Z
UID:10001794-1818932400-1818936000@staging.srfdfw.org
SUMMARY:Sunday School
DESCRIPTION:
URL:https://staging.srfdfw.org/calendar/sunday-school-1100-am/2027-08-22/
LOCATION:2011 North Britain Road\, Irving\, TX\, 2011 N. Britain Rd.\, Irving\, TX\, 76051\, United States
ATTACH;FMTTYPE=image/png:https://staging.srfdfw.org/wp-content/uploads/2022/12/child-meditating.png
ORGANIZER;CN="DFW-SRF Meditation Group":MAILTO:connect@srfdallasfortworth.org
END:VEVENT
BEGIN:VEVENT
DTSTART;TZID=America/Chicago:20270828T090000
DTEND;TZID=America/Chicago:20270828T120000
DTSTAMP:20260421T182845
CREATED:20231102T162046Z
LAST-MODIFIED:20240305T044125Z
UID:10000933-1819443600-1819454400@staging.srfdfw.org
SUMMARY:3 Hour Meditation
DESCRIPTION:The service will include a prayer and short inspirational reading to begin. Then there will be a chant on hours 10 and 11. The service will end with a Prayer Service which includes the healing technique taught by our Guru. \nPlease enter and exit on the hour during chants.
URL:https://staging.srfdfw.org/calendar/saturday-3-hour-meditation-2/2027-08-28/
LOCATION:2011 North Britain Road\, Irving\, TX\, 2011 N. Britain Rd.\, Irving\, TX\, 76051\, United States
ATTACH;FMTTYPE=image/png:https://staging.srfdfw.org/wp-content/uploads/2023/11/meditation.png
ORGANIZER;CN="DFW-SRF Meditation Group":MAILTO:connect@srfdallasfortworth.org
END:VEVENT
BEGIN:VEVENT
DTSTART;TZID=America/Chicago:20270829T110000
DTEND;TZID=America/Chicago:20270829T120000
DTSTAMP:20260421T182845
CREATED:20221207T164922Z
LAST-MODIFIED:20240305T044557Z
UID:10001795-1819537200-1819540800@staging.srfdfw.org
SUMMARY:Sunday School
DESCRIPTION:
URL:https://staging.srfdfw.org/calendar/sunday-school-1100-am/2027-08-29/
LOCATION:2011 North Britain Road\, Irving\, TX\, 2011 N. Britain Rd.\, Irving\, TX\, 76051\, United States
ATTACH;FMTTYPE=image/png:https://staging.srfdfw.org/wp-content/uploads/2022/12/child-meditating.png
ORGANIZER;CN="DFW-SRF Meditation Group":MAILTO:connect@srfdallasfortworth.org
END:VEVENT
BEGIN:VEVENT
DTSTART;TZID=America/Chicago:20270904T090000
DTEND;TZID=America/Chicago:20270904T120000
DTSTAMP:20260421T182845
CREATED:20231102T162046Z
LAST-MODIFIED:20240305T044125Z
UID:10000934-1820048400-1820059200@staging.srfdfw.org
SUMMARY:3 Hour Meditation
DESCRIPTION:The service will include a prayer and short inspirational reading to begin. Then there will be a chant on hours 10 and 11. The service will end with a Prayer Service which includes the healing technique taught by our Guru. \nPlease enter and exit on the hour during chants.
URL:https://staging.srfdfw.org/calendar/saturday-3-hour-meditation-2/2027-09-04/
LOCATION:2011 North Britain Road\, Irving\, TX\, 2011 N. Britain Rd.\, Irving\, TX\, 76051\, United States
ATTACH;FMTTYPE=image/png:https://staging.srfdfw.org/wp-content/uploads/2023/11/meditation.png
ORGANIZER;CN="DFW-SRF Meditation Group":MAILTO:connect@srfdallasfortworth.org
END:VEVENT
BEGIN:VEVENT
DTSTART;TZID=America/Chicago:20270905T110000
DTEND;TZID=America/Chicago:20270905T120000
DTSTAMP:20260421T182845
CREATED:20221207T164922Z
LAST-MODIFIED:20240305T044557Z
UID:10001796-1820142000-1820145600@staging.srfdfw.org
SUMMARY:Sunday School
DESCRIPTION:
URL:https://staging.srfdfw.org/calendar/sunday-school-1100-am/2027-09-05/
LOCATION:2011 North Britain Road\, Irving\, TX\, 2011 N. Britain Rd.\, Irving\, TX\, 76051\, United States
ATTACH;FMTTYPE=image/png:https://staging.srfdfw.org/wp-content/uploads/2022/12/child-meditating.png
ORGANIZER;CN="DFW-SRF Meditation Group":MAILTO:connect@srfdallasfortworth.org
END:VEVENT
BEGIN:VEVENT
DTSTART;TZID=America/Chicago:20270911T090000
DTEND;TZID=America/Chicago:20270911T120000
DTSTAMP:20260421T182845
CREATED:20231102T162046Z
LAST-MODIFIED:20240305T044125Z
UID:10000935-1820653200-1820664000@staging.srfdfw.org
SUMMARY:3 Hour Meditation
DESCRIPTION:The service will include a prayer and short inspirational reading to begin. Then there will be a chant on hours 10 and 11. The service will end with a Prayer Service which includes the healing technique taught by our Guru. \nPlease enter and exit on the hour during chants.
URL:https://staging.srfdfw.org/calendar/saturday-3-hour-meditation-2/2027-09-11/
LOCATION:2011 North Britain Road\, Irving\, TX\, 2011 N. Britain Rd.\, Irving\, TX\, 76051\, United States
ATTACH;FMTTYPE=image/png:https://staging.srfdfw.org/wp-content/uploads/2023/11/meditation.png
ORGANIZER;CN="DFW-SRF Meditation Group":MAILTO:connect@srfdallasfortworth.org
END:VEVENT
BEGIN:VEVENT
DTSTART;TZID=America/Chicago:20270912T110000
DTEND;TZID=America/Chicago:20270912T120000
DTSTAMP:20260421T182845
CREATED:20221207T164922Z
LAST-MODIFIED:20240305T044557Z
UID:10001797-1820746800-1820750400@staging.srfdfw.org
SUMMARY:Sunday School
DESCRIPTION:
URL:https://staging.srfdfw.org/calendar/sunday-school-1100-am/2027-09-12/
LOCATION:2011 North Britain Road\, Irving\, TX\, 2011 N. Britain Rd.\, Irving\, TX\, 76051\, United States
ATTACH;FMTTYPE=image/png:https://staging.srfdfw.org/wp-content/uploads/2022/12/child-meditating.png
ORGANIZER;CN="DFW-SRF Meditation Group":MAILTO:connect@srfdallasfortworth.org
END:VEVENT
BEGIN:VEVENT
DTSTART;TZID=America/Chicago:20270918T090000
DTEND;TZID=America/Chicago:20270918T120000
DTSTAMP:20260421T182845
CREATED:20231102T162046Z
LAST-MODIFIED:20240305T044125Z
UID:10000936-1821258000-1821268800@staging.srfdfw.org
SUMMARY:3 Hour Meditation
DESCRIPTION:The service will include a prayer and short inspirational reading to begin. Then there will be a chant on hours 10 and 11. The service will end with a Prayer Service which includes the healing technique taught by our Guru. \nPlease enter and exit on the hour during chants.
URL:https://staging.srfdfw.org/calendar/saturday-3-hour-meditation-2/2027-09-18/
LOCATION:2011 North Britain Road\, Irving\, TX\, 2011 N. Britain Rd.\, Irving\, TX\, 76051\, United States
ATTACH;FMTTYPE=image/png:https://staging.srfdfw.org/wp-content/uploads/2023/11/meditation.png
ORGANIZER;CN="DFW-SRF Meditation Group":MAILTO:connect@srfdallasfortworth.org
END:VEVENT
BEGIN:VEVENT
DTSTART;TZID=America/Chicago:20270919T110000
DTEND;TZID=America/Chicago:20270919T120000
DTSTAMP:20260421T182845
CREATED:20221207T164922Z
LAST-MODIFIED:20240305T044557Z
UID:10001798-1821351600-1821355200@staging.srfdfw.org
SUMMARY:Sunday School
DESCRIPTION:
URL:https://staging.srfdfw.org/calendar/sunday-school-1100-am/2027-09-19/
LOCATION:2011 North Britain Road\, Irving\, TX\, 2011 N. Britain Rd.\, Irving\, TX\, 76051\, United States
ATTACH;FMTTYPE=image/png:https://staging.srfdfw.org/wp-content/uploads/2022/12/child-meditating.png
ORGANIZER;CN="DFW-SRF Meditation Group":MAILTO:connect@srfdallasfortworth.org
END:VEVENT
BEGIN:VEVENT
DTSTART;TZID=America/Chicago:20270925T090000
DTEND;TZID=America/Chicago:20270925T120000
DTSTAMP:20260421T182845
CREATED:20231102T162046Z
LAST-MODIFIED:20240305T044125Z
UID:10000937-1821862800-1821873600@staging.srfdfw.org
SUMMARY:3 Hour Meditation
DESCRIPTION:The service will include a prayer and short inspirational reading to begin. Then there will be a chant on hours 10 and 11. The service will end with a Prayer Service which includes the healing technique taught by our Guru. \nPlease enter and exit on the hour during chants.
URL:https://staging.srfdfw.org/calendar/saturday-3-hour-meditation-2/2027-09-25/
LOCATION:2011 North Britain Road\, Irving\, TX\, 2011 N. Britain Rd.\, Irving\, TX\, 76051\, United States
ATTACH;FMTTYPE=image/png:https://staging.srfdfw.org/wp-content/uploads/2023/11/meditation.png
ORGANIZER;CN="DFW-SRF Meditation Group":MAILTO:connect@srfdallasfortworth.org
END:VEVENT
BEGIN:VEVENT
DTSTART;TZID=America/Chicago:20270926T110000
DTEND;TZID=America/Chicago:20270926T120000
DTSTAMP:20260421T182845
CREATED:20221207T164922Z
LAST-MODIFIED:20240305T044557Z
UID:10001799-1821956400-1821960000@staging.srfdfw.org
SUMMARY:Sunday School
DESCRIPTION:
URL:https://staging.srfdfw.org/calendar/sunday-school-1100-am/2027-09-26/
LOCATION:2011 North Britain Road\, Irving\, TX\, 2011 N. Britain Rd.\, Irving\, TX\, 76051\, United States
ATTACH;FMTTYPE=image/png:https://staging.srfdfw.org/wp-content/uploads/2022/12/child-meditating.png
ORGANIZER;CN="DFW-SRF Meditation Group":MAILTO:connect@srfdallasfortworth.org
END:VEVENT
END:VCALENDAR