BEGIN:VCALENDAR
VERSION:2.0
PRODID:-//DFW Meditation Group of SRF - ECPv6.10.1.1//NONSGML v1.0//EN
CALSCALE:GREGORIAN
METHOD:PUBLISH
X-ORIGINAL-URL:https://staging.srfdfw.org
X-WR-CALDESC:Events for DFW Meditation Group of SRF
REFRESH-INTERVAL;VALUE=DURATION:PT1H
X-Robots-Tag:noindex
X-PUBLISHED-TTL:PT1H
BEGIN:VTIMEZONE
TZID:America/Chicago
BEGIN:DAYLIGHT
TZOFFSETFROM:-0600
TZOFFSETTO:-0500
TZNAME:CDT
DTSTART:20270314T080000
END:DAYLIGHT
BEGIN:STANDARD
TZOFFSETFROM:-0500
TZOFFSETTO:-0600
TZNAME:CST
DTSTART:20271107T070000
END:STANDARD
BEGIN:DAYLIGHT
TZOFFSETFROM:-0600
TZOFFSETTO:-0500
TZNAME:CDT
DTSTART:20280312T080000
END:DAYLIGHT
BEGIN:STANDARD
TZOFFSETFROM:-0500
TZOFFSETTO:-0600
TZNAME:CST
DTSTART:20281105T070000
END:STANDARD
END:VTIMEZONE
BEGIN:VEVENT
DTSTART;TZID=America/Chicago:20271204T090000
DTEND;TZID=America/Chicago:20271204T120000
DTSTAMP:20260422T005157
CREATED:20231102T162046Z
LAST-MODIFIED:20240305T044125Z
UID:10000947-1827910800-1827921600@staging.srfdfw.org
SUMMARY:3 Hour Meditation
DESCRIPTION:The service will include a prayer and short inspirational reading to begin. Then there will be a chant on hours 10 and 11. The service will end with a Prayer Service which includes the healing technique taught by our Guru. \nPlease enter and exit on the hour during chants.
URL:https://staging.srfdfw.org/calendar/saturday-3-hour-meditation-2/2027-12-04/
LOCATION:2011 North Britain Road\, Irving\, TX\, 2011 N. Britain Rd.\, Irving\, TX\, 76051\, United States
ATTACH;FMTTYPE=image/png:https://staging.srfdfw.org/wp-content/uploads/2023/11/meditation.png
ORGANIZER;CN="DFW-SRF Meditation Group":MAILTO:connect@srfdallasfortworth.org
END:VEVENT
BEGIN:VEVENT
DTSTART;TZID=America/Chicago:20271205T110000
DTEND;TZID=America/Chicago:20271205T120000
DTSTAMP:20260422T005157
CREATED:20221207T164922Z
LAST-MODIFIED:20240305T044557Z
UID:10001809-1828004400-1828008000@staging.srfdfw.org
SUMMARY:Sunday School
DESCRIPTION:
URL:https://staging.srfdfw.org/calendar/sunday-school-1100-am/2027-12-05/
LOCATION:2011 North Britain Road\, Irving\, TX\, 2011 N. Britain Rd.\, Irving\, TX\, 76051\, United States
ATTACH;FMTTYPE=image/png:https://staging.srfdfw.org/wp-content/uploads/2022/12/child-meditating.png
ORGANIZER;CN="DFW-SRF Meditation Group":MAILTO:connect@srfdallasfortworth.org
END:VEVENT
BEGIN:VEVENT
DTSTART;TZID=America/Chicago:20271211T090000
DTEND;TZID=America/Chicago:20271211T120000
DTSTAMP:20260422T005157
CREATED:20231102T162046Z
LAST-MODIFIED:20240305T044125Z
UID:10000948-1828515600-1828526400@staging.srfdfw.org
SUMMARY:3 Hour Meditation
DESCRIPTION:The service will include a prayer and short inspirational reading to begin. Then there will be a chant on hours 10 and 11. The service will end with a Prayer Service which includes the healing technique taught by our Guru. \nPlease enter and exit on the hour during chants.
URL:https://staging.srfdfw.org/calendar/saturday-3-hour-meditation-2/2027-12-11/
LOCATION:2011 North Britain Road\, Irving\, TX\, 2011 N. Britain Rd.\, Irving\, TX\, 76051\, United States
ATTACH;FMTTYPE=image/png:https://staging.srfdfw.org/wp-content/uploads/2023/11/meditation.png
ORGANIZER;CN="DFW-SRF Meditation Group":MAILTO:connect@srfdallasfortworth.org
END:VEVENT
BEGIN:VEVENT
DTSTART;TZID=America/Chicago:20271212T110000
DTEND;TZID=America/Chicago:20271212T120000
DTSTAMP:20260422T005157
CREATED:20221207T164922Z
LAST-MODIFIED:20240305T044557Z
UID:10001810-1828609200-1828612800@staging.srfdfw.org
SUMMARY:Sunday School
DESCRIPTION:
URL:https://staging.srfdfw.org/calendar/sunday-school-1100-am/2027-12-12/
LOCATION:2011 North Britain Road\, Irving\, TX\, 2011 N. Britain Rd.\, Irving\, TX\, 76051\, United States
ATTACH;FMTTYPE=image/png:https://staging.srfdfw.org/wp-content/uploads/2022/12/child-meditating.png
ORGANIZER;CN="DFW-SRF Meditation Group":MAILTO:connect@srfdallasfortworth.org
END:VEVENT
BEGIN:VEVENT
DTSTART;TZID=America/Chicago:20271218T090000
DTEND;TZID=America/Chicago:20271218T120000
DTSTAMP:20260422T005157
CREATED:20231102T162046Z
LAST-MODIFIED:20240305T044125Z
UID:10000949-1829120400-1829131200@staging.srfdfw.org
SUMMARY:3 Hour Meditation
DESCRIPTION:The service will include a prayer and short inspirational reading to begin. Then there will be a chant on hours 10 and 11. The service will end with a Prayer Service which includes the healing technique taught by our Guru. \nPlease enter and exit on the hour during chants.
URL:https://staging.srfdfw.org/calendar/saturday-3-hour-meditation-2/2027-12-18/
LOCATION:2011 North Britain Road\, Irving\, TX\, 2011 N. Britain Rd.\, Irving\, TX\, 76051\, United States
ATTACH;FMTTYPE=image/png:https://staging.srfdfw.org/wp-content/uploads/2023/11/meditation.png
ORGANIZER;CN="DFW-SRF Meditation Group":MAILTO:connect@srfdallasfortworth.org
END:VEVENT
BEGIN:VEVENT
DTSTART;TZID=America/Chicago:20271219T110000
DTEND;TZID=America/Chicago:20271219T120000
DTSTAMP:20260422T005157
CREATED:20221207T164922Z
LAST-MODIFIED:20240305T044557Z
UID:10001811-1829214000-1829217600@staging.srfdfw.org
SUMMARY:Sunday School
DESCRIPTION:
URL:https://staging.srfdfw.org/calendar/sunday-school-1100-am/2027-12-19/
LOCATION:2011 North Britain Road\, Irving\, TX\, 2011 N. Britain Rd.\, Irving\, TX\, 76051\, United States
ATTACH;FMTTYPE=image/png:https://staging.srfdfw.org/wp-content/uploads/2022/12/child-meditating.png
ORGANIZER;CN="DFW-SRF Meditation Group":MAILTO:connect@srfdallasfortworth.org
END:VEVENT
BEGIN:VEVENT
DTSTART;TZID=America/Chicago:20271225T090000
DTEND;TZID=America/Chicago:20271225T120000
DTSTAMP:20260422T005157
CREATED:20231102T162046Z
LAST-MODIFIED:20240305T044125Z
UID:10000950-1829725200-1829736000@staging.srfdfw.org
SUMMARY:3 Hour Meditation
DESCRIPTION:The service will include a prayer and short inspirational reading to begin. Then there will be a chant on hours 10 and 11. The service will end with a Prayer Service which includes the healing technique taught by our Guru. \nPlease enter and exit on the hour during chants.
URL:https://staging.srfdfw.org/calendar/saturday-3-hour-meditation-2/2027-12-25/
LOCATION:2011 North Britain Road\, Irving\, TX\, 2011 N. Britain Rd.\, Irving\, TX\, 76051\, United States
ATTACH;FMTTYPE=image/png:https://staging.srfdfw.org/wp-content/uploads/2023/11/meditation.png
ORGANIZER;CN="DFW-SRF Meditation Group":MAILTO:connect@srfdallasfortworth.org
END:VEVENT
BEGIN:VEVENT
DTSTART;TZID=America/Chicago:20271226T110000
DTEND;TZID=America/Chicago:20271226T120000
DTSTAMP:20260422T005157
CREATED:20221207T164922Z
LAST-MODIFIED:20240305T044557Z
UID:10001812-1829818800-1829822400@staging.srfdfw.org
SUMMARY:Sunday School
DESCRIPTION:
URL:https://staging.srfdfw.org/calendar/sunday-school-1100-am/2027-12-26/
LOCATION:2011 North Britain Road\, Irving\, TX\, 2011 N. Britain Rd.\, Irving\, TX\, 76051\, United States
ATTACH;FMTTYPE=image/png:https://staging.srfdfw.org/wp-content/uploads/2022/12/child-meditating.png
ORGANIZER;CN="DFW-SRF Meditation Group":MAILTO:connect@srfdallasfortworth.org
END:VEVENT
BEGIN:VEVENT
DTSTART;TZID=America/Chicago:20280101T090000
DTEND;TZID=America/Chicago:20280101T120000
DTSTAMP:20260422T005157
CREATED:20231102T162046Z
LAST-MODIFIED:20240305T044125Z
UID:10000951-1830330000-1830340800@staging.srfdfw.org
SUMMARY:3 Hour Meditation
DESCRIPTION:The service will include a prayer and short inspirational reading to begin. Then there will be a chant on hours 10 and 11. The service will end with a Prayer Service which includes the healing technique taught by our Guru. \nPlease enter and exit on the hour during chants.
URL:https://staging.srfdfw.org/calendar/saturday-3-hour-meditation-2/2028-01-01/
LOCATION:2011 North Britain Road\, Irving\, TX\, 2011 N. Britain Rd.\, Irving\, TX\, 76051\, United States
ATTACH;FMTTYPE=image/png:https://staging.srfdfw.org/wp-content/uploads/2023/11/meditation.png
ORGANIZER;CN="DFW-SRF Meditation Group":MAILTO:connect@srfdallasfortworth.org
END:VEVENT
BEGIN:VEVENT
DTSTART;TZID=America/Chicago:20280102T110000
DTEND;TZID=America/Chicago:20280102T120000
DTSTAMP:20260422T005157
CREATED:20221207T164922Z
LAST-MODIFIED:20240305T044557Z
UID:10001813-1830423600-1830427200@staging.srfdfw.org
SUMMARY:Sunday School
DESCRIPTION:
URL:https://staging.srfdfw.org/calendar/sunday-school-1100-am/2028-01-02/
LOCATION:2011 North Britain Road\, Irving\, TX\, 2011 N. Britain Rd.\, Irving\, TX\, 76051\, United States
ATTACH;FMTTYPE=image/png:https://staging.srfdfw.org/wp-content/uploads/2022/12/child-meditating.png
ORGANIZER;CN="DFW-SRF Meditation Group":MAILTO:connect@srfdallasfortworth.org
END:VEVENT
BEGIN:VEVENT
DTSTART;TZID=America/Chicago:20280108T090000
DTEND;TZID=America/Chicago:20280108T120000
DTSTAMP:20260422T005157
CREATED:20231102T162046Z
LAST-MODIFIED:20240305T044125Z
UID:10000952-1830934800-1830945600@staging.srfdfw.org
SUMMARY:3 Hour Meditation
DESCRIPTION:The service will include a prayer and short inspirational reading to begin. Then there will be a chant on hours 10 and 11. The service will end with a Prayer Service which includes the healing technique taught by our Guru. \nPlease enter and exit on the hour during chants.
URL:https://staging.srfdfw.org/calendar/saturday-3-hour-meditation-2/2028-01-08/
LOCATION:2011 North Britain Road\, Irving\, TX\, 2011 N. Britain Rd.\, Irving\, TX\, 76051\, United States
ATTACH;FMTTYPE=image/png:https://staging.srfdfw.org/wp-content/uploads/2023/11/meditation.png
ORGANIZER;CN="DFW-SRF Meditation Group":MAILTO:connect@srfdallasfortworth.org
END:VEVENT
BEGIN:VEVENT
DTSTART;TZID=America/Chicago:20280109T110000
DTEND;TZID=America/Chicago:20280109T120000
DTSTAMP:20260422T005157
CREATED:20221207T164922Z
LAST-MODIFIED:20240305T044557Z
UID:10001814-1831028400-1831032000@staging.srfdfw.org
SUMMARY:Sunday School
DESCRIPTION:
URL:https://staging.srfdfw.org/calendar/sunday-school-1100-am/2028-01-09/
LOCATION:2011 North Britain Road\, Irving\, TX\, 2011 N. Britain Rd.\, Irving\, TX\, 76051\, United States
ATTACH;FMTTYPE=image/png:https://staging.srfdfw.org/wp-content/uploads/2022/12/child-meditating.png
ORGANIZER;CN="DFW-SRF Meditation Group":MAILTO:connect@srfdallasfortworth.org
END:VEVENT
BEGIN:VEVENT
DTSTART;TZID=America/Chicago:20280115T090000
DTEND;TZID=America/Chicago:20280115T120000
DTSTAMP:20260422T005157
CREATED:20231102T162046Z
LAST-MODIFIED:20240305T044125Z
UID:10000953-1831539600-1831550400@staging.srfdfw.org
SUMMARY:3 Hour Meditation
DESCRIPTION:The service will include a prayer and short inspirational reading to begin. Then there will be a chant on hours 10 and 11. The service will end with a Prayer Service which includes the healing technique taught by our Guru. \nPlease enter and exit on the hour during chants.
URL:https://staging.srfdfw.org/calendar/saturday-3-hour-meditation-2/2028-01-15/
LOCATION:2011 North Britain Road\, Irving\, TX\, 2011 N. Britain Rd.\, Irving\, TX\, 76051\, United States
ATTACH;FMTTYPE=image/png:https://staging.srfdfw.org/wp-content/uploads/2023/11/meditation.png
ORGANIZER;CN="DFW-SRF Meditation Group":MAILTO:connect@srfdallasfortworth.org
END:VEVENT
BEGIN:VEVENT
DTSTART;TZID=America/Chicago:20280116T110000
DTEND;TZID=America/Chicago:20280116T120000
DTSTAMP:20260422T005157
CREATED:20221207T164922Z
LAST-MODIFIED:20240305T044557Z
UID:10001815-1831633200-1831636800@staging.srfdfw.org
SUMMARY:Sunday School
DESCRIPTION:
URL:https://staging.srfdfw.org/calendar/sunday-school-1100-am/2028-01-16/
LOCATION:2011 North Britain Road\, Irving\, TX\, 2011 N. Britain Rd.\, Irving\, TX\, 76051\, United States
ATTACH;FMTTYPE=image/png:https://staging.srfdfw.org/wp-content/uploads/2022/12/child-meditating.png
ORGANIZER;CN="DFW-SRF Meditation Group":MAILTO:connect@srfdallasfortworth.org
END:VEVENT
BEGIN:VEVENT
DTSTART;TZID=America/Chicago:20280122T090000
DTEND;TZID=America/Chicago:20280122T120000
DTSTAMP:20260422T005157
CREATED:20231102T162046Z
LAST-MODIFIED:20240305T044125Z
UID:10000954-1832144400-1832155200@staging.srfdfw.org
SUMMARY:3 Hour Meditation
DESCRIPTION:The service will include a prayer and short inspirational reading to begin. Then there will be a chant on hours 10 and 11. The service will end with a Prayer Service which includes the healing technique taught by our Guru. \nPlease enter and exit on the hour during chants.
URL:https://staging.srfdfw.org/calendar/saturday-3-hour-meditation-2/2028-01-22/
LOCATION:2011 North Britain Road\, Irving\, TX\, 2011 N. Britain Rd.\, Irving\, TX\, 76051\, United States
ATTACH;FMTTYPE=image/png:https://staging.srfdfw.org/wp-content/uploads/2023/11/meditation.png
ORGANIZER;CN="DFW-SRF Meditation Group":MAILTO:connect@srfdallasfortworth.org
END:VEVENT
BEGIN:VEVENT
DTSTART;TZID=America/Chicago:20280123T110000
DTEND;TZID=America/Chicago:20280123T120000
DTSTAMP:20260422T005157
CREATED:20221207T164922Z
LAST-MODIFIED:20240305T044557Z
UID:10001816-1832238000-1832241600@staging.srfdfw.org
SUMMARY:Sunday School
DESCRIPTION:
URL:https://staging.srfdfw.org/calendar/sunday-school-1100-am/2028-01-23/
LOCATION:2011 North Britain Road\, Irving\, TX\, 2011 N. Britain Rd.\, Irving\, TX\, 76051\, United States
ATTACH;FMTTYPE=image/png:https://staging.srfdfw.org/wp-content/uploads/2022/12/child-meditating.png
ORGANIZER;CN="DFW-SRF Meditation Group":MAILTO:connect@srfdallasfortworth.org
END:VEVENT
BEGIN:VEVENT
DTSTART;TZID=America/Chicago:20280129T090000
DTEND;TZID=America/Chicago:20280129T120000
DTSTAMP:20260422T005157
CREATED:20231102T162046Z
LAST-MODIFIED:20240305T044125Z
UID:10000955-1832749200-1832760000@staging.srfdfw.org
SUMMARY:3 Hour Meditation
DESCRIPTION:The service will include a prayer and short inspirational reading to begin. Then there will be a chant on hours 10 and 11. The service will end with a Prayer Service which includes the healing technique taught by our Guru. \nPlease enter and exit on the hour during chants.
URL:https://staging.srfdfw.org/calendar/saturday-3-hour-meditation-2/2028-01-29/
LOCATION:2011 North Britain Road\, Irving\, TX\, 2011 N. Britain Rd.\, Irving\, TX\, 76051\, United States
ATTACH;FMTTYPE=image/png:https://staging.srfdfw.org/wp-content/uploads/2023/11/meditation.png
ORGANIZER;CN="DFW-SRF Meditation Group":MAILTO:connect@srfdallasfortworth.org
END:VEVENT
BEGIN:VEVENT
DTSTART;TZID=America/Chicago:20280130T110000
DTEND;TZID=America/Chicago:20280130T120000
DTSTAMP:20260422T005157
CREATED:20221207T164922Z
LAST-MODIFIED:20240305T044557Z
UID:10001817-1832842800-1832846400@staging.srfdfw.org
SUMMARY:Sunday School
DESCRIPTION:
URL:https://staging.srfdfw.org/calendar/sunday-school-1100-am/2028-01-30/
LOCATION:2011 North Britain Road\, Irving\, TX\, 2011 N. Britain Rd.\, Irving\, TX\, 76051\, United States
ATTACH;FMTTYPE=image/png:https://staging.srfdfw.org/wp-content/uploads/2022/12/child-meditating.png
ORGANIZER;CN="DFW-SRF Meditation Group":MAILTO:connect@srfdallasfortworth.org
END:VEVENT
BEGIN:VEVENT
DTSTART;TZID=America/Chicago:20280205T090000
DTEND;TZID=America/Chicago:20280205T120000
DTSTAMP:20260422T005157
CREATED:20231102T162046Z
LAST-MODIFIED:20240305T044125Z
UID:10000956-1833354000-1833364800@staging.srfdfw.org
SUMMARY:3 Hour Meditation
DESCRIPTION:The service will include a prayer and short inspirational reading to begin. Then there will be a chant on hours 10 and 11. The service will end with a Prayer Service which includes the healing technique taught by our Guru. \nPlease enter and exit on the hour during chants.
URL:https://staging.srfdfw.org/calendar/saturday-3-hour-meditation-2/2028-02-05/
LOCATION:2011 North Britain Road\, Irving\, TX\, 2011 N. Britain Rd.\, Irving\, TX\, 76051\, United States
ATTACH;FMTTYPE=image/png:https://staging.srfdfw.org/wp-content/uploads/2023/11/meditation.png
ORGANIZER;CN="DFW-SRF Meditation Group":MAILTO:connect@srfdallasfortworth.org
END:VEVENT
BEGIN:VEVENT
DTSTART;TZID=America/Chicago:20280206T110000
DTEND;TZID=America/Chicago:20280206T120000
DTSTAMP:20260422T005157
CREATED:20221207T164922Z
LAST-MODIFIED:20240305T044557Z
UID:10001818-1833447600-1833451200@staging.srfdfw.org
SUMMARY:Sunday School
DESCRIPTION:
URL:https://staging.srfdfw.org/calendar/sunday-school-1100-am/2028-02-06/
LOCATION:2011 North Britain Road\, Irving\, TX\, 2011 N. Britain Rd.\, Irving\, TX\, 76051\, United States
ATTACH;FMTTYPE=image/png:https://staging.srfdfw.org/wp-content/uploads/2022/12/child-meditating.png
ORGANIZER;CN="DFW-SRF Meditation Group":MAILTO:connect@srfdallasfortworth.org
END:VEVENT
BEGIN:VEVENT
DTSTART;TZID=America/Chicago:20280212T090000
DTEND;TZID=America/Chicago:20280212T120000
DTSTAMP:20260422T005157
CREATED:20231102T162046Z
LAST-MODIFIED:20240305T044125Z
UID:10000957-1833958800-1833969600@staging.srfdfw.org
SUMMARY:3 Hour Meditation
DESCRIPTION:The service will include a prayer and short inspirational reading to begin. Then there will be a chant on hours 10 and 11. The service will end with a Prayer Service which includes the healing technique taught by our Guru. \nPlease enter and exit on the hour during chants.
URL:https://staging.srfdfw.org/calendar/saturday-3-hour-meditation-2/2028-02-12/
LOCATION:2011 North Britain Road\, Irving\, TX\, 2011 N. Britain Rd.\, Irving\, TX\, 76051\, United States
ATTACH;FMTTYPE=image/png:https://staging.srfdfw.org/wp-content/uploads/2023/11/meditation.png
ORGANIZER;CN="DFW-SRF Meditation Group":MAILTO:connect@srfdallasfortworth.org
END:VEVENT
BEGIN:VEVENT
DTSTART;TZID=America/Chicago:20280213T110000
DTEND;TZID=America/Chicago:20280213T120000
DTSTAMP:20260422T005157
CREATED:20221207T164922Z
LAST-MODIFIED:20240305T044557Z
UID:10001819-1834052400-1834056000@staging.srfdfw.org
SUMMARY:Sunday School
DESCRIPTION:
URL:https://staging.srfdfw.org/calendar/sunday-school-1100-am/2028-02-13/
LOCATION:2011 North Britain Road\, Irving\, TX\, 2011 N. Britain Rd.\, Irving\, TX\, 76051\, United States
ATTACH;FMTTYPE=image/png:https://staging.srfdfw.org/wp-content/uploads/2022/12/child-meditating.png
ORGANIZER;CN="DFW-SRF Meditation Group":MAILTO:connect@srfdallasfortworth.org
END:VEVENT
BEGIN:VEVENT
DTSTART;TZID=America/Chicago:20280219T090000
DTEND;TZID=America/Chicago:20280219T120000
DTSTAMP:20260422T005157
CREATED:20231102T162046Z
LAST-MODIFIED:20240305T044125Z
UID:10000958-1834563600-1834574400@staging.srfdfw.org
SUMMARY:3 Hour Meditation
DESCRIPTION:The service will include a prayer and short inspirational reading to begin. Then there will be a chant on hours 10 and 11. The service will end with a Prayer Service which includes the healing technique taught by our Guru. \nPlease enter and exit on the hour during chants.
URL:https://staging.srfdfw.org/calendar/saturday-3-hour-meditation-2/2028-02-19/
LOCATION:2011 North Britain Road\, Irving\, TX\, 2011 N. Britain Rd.\, Irving\, TX\, 76051\, United States
ATTACH;FMTTYPE=image/png:https://staging.srfdfw.org/wp-content/uploads/2023/11/meditation.png
ORGANIZER;CN="DFW-SRF Meditation Group":MAILTO:connect@srfdallasfortworth.org
END:VEVENT
BEGIN:VEVENT
DTSTART;TZID=America/Chicago:20280220T110000
DTEND;TZID=America/Chicago:20280220T120000
DTSTAMP:20260422T005157
CREATED:20221207T164922Z
LAST-MODIFIED:20240305T044557Z
UID:10001820-1834657200-1834660800@staging.srfdfw.org
SUMMARY:Sunday School
DESCRIPTION:
URL:https://staging.srfdfw.org/calendar/sunday-school-1100-am/2028-02-20/
LOCATION:2011 North Britain Road\, Irving\, TX\, 2011 N. Britain Rd.\, Irving\, TX\, 76051\, United States
ATTACH;FMTTYPE=image/png:https://staging.srfdfw.org/wp-content/uploads/2022/12/child-meditating.png
ORGANIZER;CN="DFW-SRF Meditation Group":MAILTO:connect@srfdallasfortworth.org
END:VEVENT
BEGIN:VEVENT
DTSTART;TZID=America/Chicago:20280226T090000
DTEND;TZID=America/Chicago:20280226T120000
DTSTAMP:20260422T005157
CREATED:20231102T162046Z
LAST-MODIFIED:20240305T044125Z
UID:10000959-1835168400-1835179200@staging.srfdfw.org
SUMMARY:3 Hour Meditation
DESCRIPTION:The service will include a prayer and short inspirational reading to begin. Then there will be a chant on hours 10 and 11. The service will end with a Prayer Service which includes the healing technique taught by our Guru. \nPlease enter and exit on the hour during chants.
URL:https://staging.srfdfw.org/calendar/saturday-3-hour-meditation-2/2028-02-26/
LOCATION:2011 North Britain Road\, Irving\, TX\, 2011 N. Britain Rd.\, Irving\, TX\, 76051\, United States
ATTACH;FMTTYPE=image/png:https://staging.srfdfw.org/wp-content/uploads/2023/11/meditation.png
ORGANIZER;CN="DFW-SRF Meditation Group":MAILTO:connect@srfdallasfortworth.org
END:VEVENT
BEGIN:VEVENT
DTSTART;TZID=America/Chicago:20280227T110000
DTEND;TZID=America/Chicago:20280227T120000
DTSTAMP:20260422T005157
CREATED:20221207T164922Z
LAST-MODIFIED:20240305T044557Z
UID:10001821-1835262000-1835265600@staging.srfdfw.org
SUMMARY:Sunday School
DESCRIPTION:
URL:https://staging.srfdfw.org/calendar/sunday-school-1100-am/2028-02-27/
LOCATION:2011 North Britain Road\, Irving\, TX\, 2011 N. Britain Rd.\, Irving\, TX\, 76051\, United States
ATTACH;FMTTYPE=image/png:https://staging.srfdfw.org/wp-content/uploads/2022/12/child-meditating.png
ORGANIZER;CN="DFW-SRF Meditation Group":MAILTO:connect@srfdallasfortworth.org
END:VEVENT
BEGIN:VEVENT
DTSTART;TZID=America/Chicago:20280304T090000
DTEND;TZID=America/Chicago:20280304T120000
DTSTAMP:20260422T005157
CREATED:20231102T162046Z
LAST-MODIFIED:20240305T044125Z
UID:10000960-1835773200-1835784000@staging.srfdfw.org
SUMMARY:3 Hour Meditation
DESCRIPTION:The service will include a prayer and short inspirational reading to begin. Then there will be a chant on hours 10 and 11. The service will end with a Prayer Service which includes the healing technique taught by our Guru. \nPlease enter and exit on the hour during chants.
URL:https://staging.srfdfw.org/calendar/saturday-3-hour-meditation-2/2028-03-04/
LOCATION:2011 North Britain Road\, Irving\, TX\, 2011 N. Britain Rd.\, Irving\, TX\, 76051\, United States
ATTACH;FMTTYPE=image/png:https://staging.srfdfw.org/wp-content/uploads/2023/11/meditation.png
ORGANIZER;CN="DFW-SRF Meditation Group":MAILTO:connect@srfdallasfortworth.org
END:VEVENT
BEGIN:VEVENT
DTSTART;TZID=America/Chicago:20280305T110000
DTEND;TZID=America/Chicago:20280305T120000
DTSTAMP:20260422T005157
CREATED:20221207T164922Z
LAST-MODIFIED:20240305T044557Z
UID:10001822-1835866800-1835870400@staging.srfdfw.org
SUMMARY:Sunday School
DESCRIPTION:
URL:https://staging.srfdfw.org/calendar/sunday-school-1100-am/2028-03-05/
LOCATION:2011 North Britain Road\, Irving\, TX\, 2011 N. Britain Rd.\, Irving\, TX\, 76051\, United States
ATTACH;FMTTYPE=image/png:https://staging.srfdfw.org/wp-content/uploads/2022/12/child-meditating.png
ORGANIZER;CN="DFW-SRF Meditation Group":MAILTO:connect@srfdallasfortworth.org
END:VEVENT
BEGIN:VEVENT
DTSTART;TZID=America/Chicago:20280311T090000
DTEND;TZID=America/Chicago:20280311T120000
DTSTAMP:20260422T005157
CREATED:20231102T162046Z
LAST-MODIFIED:20240305T044125Z
UID:10000961-1836378000-1836388800@staging.srfdfw.org
SUMMARY:3 Hour Meditation
DESCRIPTION:The service will include a prayer and short inspirational reading to begin. Then there will be a chant on hours 10 and 11. The service will end with a Prayer Service which includes the healing technique taught by our Guru. \nPlease enter and exit on the hour during chants.
URL:https://staging.srfdfw.org/calendar/saturday-3-hour-meditation-2/2028-03-11/
LOCATION:2011 North Britain Road\, Irving\, TX\, 2011 N. Britain Rd.\, Irving\, TX\, 76051\, United States
ATTACH;FMTTYPE=image/png:https://staging.srfdfw.org/wp-content/uploads/2023/11/meditation.png
ORGANIZER;CN="DFW-SRF Meditation Group":MAILTO:connect@srfdallasfortworth.org
END:VEVENT
BEGIN:VEVENT
DTSTART;TZID=America/Chicago:20280312T110000
DTEND;TZID=America/Chicago:20280312T120000
DTSTAMP:20260422T005157
CREATED:20221207T164922Z
LAST-MODIFIED:20240305T044557Z
UID:10001823-1836471600-1836475200@staging.srfdfw.org
SUMMARY:Sunday School
DESCRIPTION:
URL:https://staging.srfdfw.org/calendar/sunday-school-1100-am/2028-03-12/
LOCATION:2011 North Britain Road\, Irving\, TX\, 2011 N. Britain Rd.\, Irving\, TX\, 76051\, United States
ATTACH;FMTTYPE=image/png:https://staging.srfdfw.org/wp-content/uploads/2022/12/child-meditating.png
ORGANIZER;CN="DFW-SRF Meditation Group":MAILTO:connect@srfdallasfortworth.org
END:VEVENT
END:VCALENDAR